Workbook
Name aaaaaaaaaaaaaaaaaaaaaaa: #REF!
Name aaaaaaaaaaaaaaaaaaaaaaa: #REF!
Name áfaössz16: #REF!
Name áfaössz16: #REF!
Name bk: #REF!
Name bk: #REF!
Name bk: #REF!
Name css: #REF!
Name css: #REF!
Name css: #REF!
Name css_k: [1]Családsegítés!$C$27:$C$86
Name css_k: [1]Családsegítés!$C$27:$C$86
Name css_k: #REF!
Name css_k_: #REF!
Name css_k_: #REF!
Name css_k_: #REF!
Name d: #REF!
Name d: #REF!
Name eredetiköltségvetés2017: #REF!
Name eredetiköltségvetés2017: #REF!
Name feljéc: #REF!
Name feljéc: #REF!
Name fff: #REF!
Name fff: #REF!
Name ffff: #REF!
Name ffff: #REF!
Name gyj: #REF!
Name gyj: #REF!
Name gyj: #REF!
Name gyj_k: [1]Gyermekjóléti!$C$27:$C$86
Name gyj_k: [1]Gyermekjóléti!$C$27:$C$86
Name gyj_k: #REF!
Name gyj_k_: #REF!
Name gyj_k_: #REF!
Name gyj_k_: #REF!
Name h: #REF!
Name h: #REF!
Name kjz: #REF!
Name kjz: #REF!
Name kjz: #REF!
Name kjz_k: [1]körjegyzőség!$C$9:$C$28
Name kjz_k: [1]körjegyzőség!$C$9:$C$28
Name kjz_k: #REF!
Name kjz_k_: #REF!
Name kjz_k_: #REF!
Name kjz_k_: #REF!
Name nev_b: #REF!
Name nev_b: #REF!
Name nev_c: #REF!
Name nev_c: #REF!
Name nev_c: #REF!
Name nev_g: #REF!
Name nev_g: #REF!
Name nev_g: #REF!
Name nev_k: #REF!
Name nev_k: #REF!
Name nev_k: #REF!
Name nev_k1: #REF!
Name nev_k1: #REF!
Name normatíva: [2]Családsegítés!$C$27:$C$86

Sheet 1 kiemelt ei. 
B1: Szombathely Megyei Jogú Város Önkormányzata | I1: Szombathely Megyei Jogú Város Önkormányzata
B2: 2026. évi II. sz. módosított bevételei kiemelt előirányzatonként | I2: 2026. évi II. sz. módosított kiadásai kiemelt előirányzatonként
N3: ezer forintban
B4: BEVÉTELEK | C4: Költségvetési | D4: Önkormányzat | E4: Önkormányzat | F4: Önkormányzat | G4: Mindösszesen | I4: KIADÁSOK | J4: Költségvetési | K4: Önkormányzat | L4: Önkormányzat | M4: Önkormányzat | N4: Mindösszesen
C5: szervek bevételei | F5: Mindösszesen | G5: bevételek | J5: szervek kiadásai | M5: Mindösszesen | N5: kiadások
E6: Kiemelt előirányzatok átcsoportosítása számviteli változások miatt | J6: összesen | K6: kiadásai | L6: Kiemelt előirányzatok átcsoportosítása számviteli változások miatt
B7: KÖLTSÉGVETÉSI BEVÉTELEK | I7: KÖLTSÉGVETÉSI KIADÁSOK
A8: B1 | B8: Működési célú támogatások államháztartáson belülről | C8: 1017708 | D8: 13833269 | F8: =SUM(D8:E8) -> 13833269 | G8: =SUM(C8+F8) -> 14850977 | H8: K1 | I8: Személyi juttatások | J8: 12735018 | K8: 543571 | L8: 154 | M8: =SUM(K8:L8) -> 543725 | N8: =SUM(J8+M8) -> 13278743
A9: B3 | B9: Közhatalmi bevételek | C9: 1350 | D9: 14997022 | F9: =SUM(D9:E9) -> 14997022 | G9: =SUM(C9+F9) -> 14998372 | H9: K2 | I9: Munkaadókat terhelő járulékok és szociális hozzájárulási adó | J9: 1881382 | K9: 76135 | L9: 60 | M9: =SUM(K9:L9) -> 76195 | N9: =SUM(J9+M9) -> 1957577
A10: B4 | B10: Működési bevétel | C10: 1768104 | D10: 3850122 | F10: =SUM(D10:E10) -> 3850122 | G10: =SUM(C10+F10) -> 5618226 | H10: K3 | I10: Dologi kiadások | J10: 5528671 | K10: 6758106 | L10: 1742889 | M10: =SUM(K10:L10) -> 8500995 | N10: =SUM(J10+M10) -> 14029666
A11: B6 | B11: Működési célú átvett pénzeszközök | C11: 1516 | D11: 2133943 | F11: =SUM(D11:E11) -> 2133943 | G11: =SUM(C11+F11) -> 2135459 | H11: K4 | I11: Ellátottak pénzbeli juttatásai | J11: 0 | K11: 237011 | L11: 0 | M11: =SUM(K11:L11) -> 237011 | N11: =SUM(J11+M11) -> 237011
F12: =SUM(D12:E12) -> 0 | G12: =SUM(C12+F12) -> 0 | H12: K5 | I12: Egyéb működési célú kiadások | J12: 4590 | K12: 9205314 | L12: 0 | M12: =SUM(K12:L12) -> 9205314 | N12: =SUM(J12+M12) -> 9209904
B13: Működési bevételek összesen | C13: =SUM(C8:C12) -> 2788678 | D13: =SUM(D8:D12) -> 34814356 | E13: =SUM(E8:E12) -> 0 | F13: =SUM(F8:F12) -> 34814356 | G13: =SUM(G8:G12) -> 37603034 | I13: Működési kiadások összesen | J13: =SUM(J8:J12) -> 20149661 | K13: =SUM(K8:K12) -> 16820137 | L13: =SUM(L8:L12) -> 1743103 | M13: =SUM(M8:M12) -> 18563240 | N13: =SUM(N8:N12) -> 38712901
A14: B2 | B14: Felhalmozási célú támogatások államháztartáson belülről | C14: 12600 | D14: 7957999 | F14: =SUM(D14:E14) -> 7957999 | G14: =SUM(C14+F14) -> 7970599 | H14: K6 | I14: Beruházások | J14: 303916 | K14: 3134651 | L14: -1684834 | M14: =SUM(K14:L14) -> 1449817 | N14: =SUM(J14+M14) -> 1753733
A15: B5 | B15: Felhalmozási bevételek | C15: 18650 | D15: 802100 | F15: =SUM(D15:E15) -> 802100 | G15: =SUM(C15+F15) -> 820750 | H15: K7 | I15: Felújítások | J15: 111021 | K15: 8787084 | L15: -58096 | M15: =SUM(K15:L15) -> 8728988 | N15: =SUM(J15+M15) -> 8840009
A16: B7 | B16: Felhalmozási célú átvett pénzeszközök | C16: 0 | D16: 134752 | F16: =SUM(D16:E16) -> 134752 | G16: =SUM(C16+F16) -> 134752 | H16: K8 | I16: Egyéb felhalmozási célú kiadások | J16: 0 | K16: 129620 | L16: -173 | M16: =SUM(K16:L16) -> 129447 | N16: =SUM(J16+M16) -> 129447
B17: Felhalmozási bevételek összesen | C17: =SUM(C14:C16) -> 31250 | D17: =SUM(D14:D16) -> 8894851 | E17: =SUM(E14:E16) -> 0 | F17: =SUM(F14:F16) -> 8894851 | G17: =SUM(G14:G16) -> 8926101 | I17: Felhalmozási kiadások összesen | J17: =SUM(J14:J16) -> 414937 | K17: =SUM(K14:K16) -> 12051355 | L17: =SUM(L14:L16) -> -1743103 | M17: =SUM(M14:M16) -> 10308252 | N17: =SUM(N14:N16) -> 10723189
B18: KÖLTSÉGVETÉSI BEVÉTELEK ÖSSZESEN | C18: =+C13+C17 -> 2819928 | D18: =+D13+D17 -> 43709207 | E18: =+E13+E17 -> 0 | F18: =+F13+F17 -> 43709207 | G18: =+G13+G17 -> 46529135 | I18: KÖLTSÉGVETÉSI KIADÁSOK ÖSSZESEN | J18: =SUM(J17,J13) -> 20564598 | K18: =SUM(K17,K13) -> 28871492 | L18: =+L13+L17 -> 0 | M18: =SUM(M13+M17) -> 28871492 | N18: =SUM(N17,N13) -> 49436090
A19: B8 | B19: Finanszírozási bevételek | C19: 0 | D19: 12363715 | F19: =SUM(D19:E19) -> 12363715 | G19: =SUM(C19+F19) -> 12363715 | H19: K9 | I19: Finanszírozási kiadások | J19: 0 | K19: 9456760 | L19: 0 | M19: =SUM(K19:L19) -> 9456760 | N19: =SUM(J19+M19) -> 9456760
B20: MINDÖSSZESEN BEVÉTELEK | C20: =SUM(C18:C19) -> 2819928 | D20: =SUM(D18:D19) -> 56072922 | E20: =SUM(E18:E19) -> 0 | F20: =SUM(F18:F19) -> 56072922 | G20: =SUM(G18:G19) -> 58892850 | I20: MINDÖSSZESEN KIADÁSOK | J20: =SUM(J18:J19) -> 20564598 | K20: =SUM(K18:K19) -> 38328252 | L20: =SUM(L18:L19) -> 0 | M20: =SUM(M18:M19) -> 38328252 | N20: =SUM(N18:N19) -> 58892850

Sheet 2 mérleg
A2: SZOMBATHELY MEGYEI JOGÚ VÁROS ÖNKORMÁNYZATÁNAK PÉNZÜGYI MÉRLEGE
O3: ezer forintban
B4: MŰKÖDÉSI BEVÉTELEK | D4: 2025. évi | E4: 2026. évi | F4: 2026. évi I.sz. | G4: Javasolt | H4: 2026. évi II.sz. | I4: MŰKÖDÉSI KIADÁSOK | K4: 2025. évi | L4: 2026. évi | M4: 2026. évi I.sz. | N4: Javasolt | O4: 2026. évi II.sz.
D5: teljesítés | E5: eredeti előirányzat | F5: módosított előirányzat | G5: módosítás | H5: módosított előirányzat | K5: teljesítés | L5: eredeti előirányzat | M5: módosított előirányzat | N5: módosítás | O5: módosított előirányzat
A7: Működési célú támogatások ÁH-on belülről | D7: ='3 működési bevételek'!F59 -> 9963486 | E7: ='3 működési bevételek'!G59 -> 11782041 | F7: ='3 működési bevételek'!H59 -> 12030675 | G7: ='3 működési bevételek'!I59 -> 1802594 | H7: ='3 működési bevételek'!J59 -> 13833269 | I7: Oktatási ágazat | K7: =+'8 oktatás'!B24+'8 oktatás'!B9 -> 6001882 | L7: =+'8 oktatás'!C24+'8 oktatás'!C9 -> 6593717 | M7: ='8 oktatás'!D25 -> 6967379 | N7: ='8 oktatás'!E25 -> -2776 | O7: ='8 oktatás'!F25 -> 6964603
A8: Közhatalmi bevételek | D8: ='3 működési bevételek'!F73 -> 16204265 | E8: ='3 működési bevételek'!G73 -> 14991000 | F8: ='3 működési bevételek'!H73 -> 14993026 | G8: ='3 működési bevételek'!I73 -> 3996 | H8: ='3 működési bevételek'!J73 -> 14997022 | I8: Kulturális ágazat, média | K8: ='9 kultúra'!B66 -> 3546874 | L8: ='9 kultúra'!C66 -> 3694119 | M8: ='9 kultúra'!D66 -> 4415349 | N8: ='9 kultúra'!E66 -> 31194 | O8: ='9 kultúra'!F66 -> 4446543
A9: Működési bevételek | D9: ='3 működési bevételek'!F111 -> 3015061 | E9: ='3 működési bevételek'!G111 -> 2100686 | F9: ='3 működési bevételek'!H111 -> 3686459 | G9: ='3 működési bevételek'!I111 -> 163663 | H9: ='3 működési bevételek'!J111 -> 3850122 | I9: Szociális ágazat | K9: ='10 szociális'!B39 -> 2505141 | L9: ='10 szociális'!C39 -> 2284192 | M9: ='10 szociális'!D39 -> 2556663 | N9: ='10 szociális'!E39 -> 165959 | O9: ='10 szociális'!F39 -> 2722622
A10: Működési célú átvett pénzeszközök | D10: ='3 működési bevételek'!F141 -> 38469 | E10: ='3 működési bevételek'!G141 -> 0 | F10: ='3 működési bevételek'!H141 -> 1944780 | G10: ='3 működési bevételek'!I141 -> 189163 | H10: ='3 működési bevételek'!J141 -> 2133943 | I10: Egészségügyi ágazat | K10: ='11 egészségügy'!B19 -> 934767 | L10: ='11 egészségügy'!C19 -> 1038794 | M10: ='11 egészségügy'!D19 -> 1231050 | N10: ='11 egészségügy'!E19 -> 2553 | O10: ='11 egészségügy'!F19 -> 1233603
A11: Költségvetési szervek működési bevételei | D11: ='3 működési bevételek'!F155 -> 2616703 | E11: ='3 működési bevételek'!G155 -> 2269013 | F11: ='3 működési bevételek'!H155 -> 2706275 | G11: ='3 működési bevételek'!I155 -> 82403 | H11: ='3 működési bevételek'!J155 -> 2788678 | I11: Gyermekvédelemi ágazat | K11: ='12 gyermekvédelm'!B12 -> 1998458 | L11: ='12 gyermekvédelm'!C12 -> 2147581 | M11: ='12 gyermekvédelm'!D12 -> 2270346 | N11: ='12 gyermekvédelm'!E12 -> 26073 | O11: ='12 gyermekvédelm'!F12 -> 2296419
I12: Egyéb más ágazathoz nem sorolható intézmények és feladatok | K12: ='13 egyéb'!B118 -> 13719352 | L12: ='13 egyéb'!C118 -> 12726120 | M12: ='13 egyéb'!D118 -> 13435441 | N12: ='13 egyéb'!E118 -> 295135 | O12: ='13 egyéb'!F118 -> 13730576
I13: Sport | K13: =+'14 sport'!B26 -> 1222396 | L13: =+'14 sport'!C26 -> 984977 | M13: =+'14 sport'!D26 -> 995559 | N13: =+'14 sport'!E26 -> 146785 | O13: =+'14 sport'!F26 -> 1142344
I14: Kommunális, városüzemeltetési és környezetvédelmi kiadások | K14: =+'15 város.ü.'!B31 -> 1736670 | L14: =+'15 város.ü.'!C31 -> 3079786 | M14: =+'15 város.ü.'!D31 -> 3238352 | N14: =+'15 város.ü.'!E31 -> 20597 | O14: =+'15 város.ü.'!F31 -> 3258949
I15: Út-híd fenntartás | K15: =+'16 út-híd'!B28 -> 353805 | L15: =+'16 út-híd'!C28 -> 396000 | M15: =+'16 út-híd'!D28 -> 714820 | N15: =+'16 út-híd'!E28 -> 300736 | O15: =+'16 út-híd'!F28 -> 1015556
I16: Tartalékok
J17: Általános tartalék | L17: =2245+1+6686+3649-200+1510 -> 13891 | M17: 6868 | N17: =-500-350 -> -850 | O17: =SUM(M17:N17) -> 6018
J18: Tartalék - a városi kistelepülési célú könyvtárakat megillető kiegészítő állami támogatás - kötött felhasználású támogatás a Berzsenyi D. könyvtár részére | L18: =142713-392 -> 142321 | M18: 0 | O18: =SUM(M18:N18) -> 0
J19: Tartalék - kulturális intézményekben és cégekben foglalkoztatottak jogszabály szerinti bérjellegű kiadásaira kapott állami támogatás tartaléka | L19: =243763-19926-77726-38000-79910-3631 -> 24570 | M19: 0 | O19: =SUM(M19:N19) -> 0
J20: Tartalék - kulturális gazdasági társaságok 15%-os béremelésének tartaléka | L20: 139829 | M20: 0 | O20: =SUM(M20:N20) -> 0
J21: Tartalék - önkormányzati szociális bérlakás értékesítéséből származó bevételből | M21: 0 | O21: =SUM(M21:N21) -> 0
J22: Tartalék a 2026. évi költségvetéshez | M22: 0 | O22: =SUM(M22:N22) -> 0
J23: Tartalék - városi cégek, intézmények, szolgáltatások működésére | L23: =7158+42842+7842+7890+76016-1000-1000-300+5000-4000-1000+500-5000-6966 -> 127982 | M23: 273946 | N23: =-37522-10000-118030-2700-21560-4282+62713 -> -131381 | O23: =SUM(M23:N23) -> 142565
J24: Tartalék - Felsőcsatári gyerektábor tervezési költségeire | L24: =10000-5000+5000 -> 10000 | M24: 10000 | O24: =SUM(M24:N24) -> 10000
I25: Tartalékok össszesen | K25: =SUM(K17:K24) -> 0 | L25: =SUM(L17:L24) -> 458593 | M25: =SUM(M17:M24) -> 290814 | N25: =SUM(N17:N24) -> -132231 | O25: =SUM(O17:O24) -> 158583
A26: Működési célú bevételek összesen : | D26: =SUM(D7:D25) -> 31837984 | E26: =SUM(E7:E25) -> 31142740 | F26: =SUM(F7:F25) -> 35361215 | G26: =SUM(G7:G25) -> 2241819 | H26: =SUM(H7:H25) -> 37603034 | I26: Működési célú kiadások összesen : | K26: =+K25+K15+K14+K13+K12+K11+K10+K9+K8+K7 -> 32019345 | L26: =+L25+L15+L14+L13+L12+L11+L10+L9+L8+L7 -> 33403879 | M26: =+M25+M15+M14+M13+M12+M11+M10+M9+M8+M7 -> 36115773 | N26: =+N25+N15+N14+N13+N12+N11+N10+N9+N8+N7 -> 854025 | O26: =+O25+O15+O14+O13+O12+O11+O10+O9+O8+O7 -> 36969798
C28: FELHALMOZÁSI BEVÉTELEK | D28: 2025. évi | E28: 2026. évi | F28: 2026. évi I.sz. | G28: Javasolt | H28: 2026. évi II.sz. | J28: FELHALMOZÁSI KIADÁSOK | K28: 2025. évi | L28: 2026. évi | M28: 2026. évi I.sz. | N28: Javasolt | O28: 2026. évi II.sz.
D29: teljesítés | E29: eredeti előirányzat | F29: módosított előirányzat | G29: módosítás | H29: módosított előirányzat | K29: teljesítés | L29: eredeti előirányzat | M29: módosított előirányzat | N29: módosítás | O29: módosított előirányzat
A31: Felhalmozási célú támogatások államháztartáson belülről | D31: ='17 felhalm.bevétel '!C27 -> 15364 | E31: ='17 felhalm.bevétel '!D27 -> 0 | F31: ='17 felhalm.bevétel '!E27 -> 7957999 | G31: ='17 felhalm.bevétel '!F27 -> 0 | H31: ='17 felhalm.bevétel '!G27 -> 7957999 | I31: Intézményi felhalmozási kiadások
A32: Felhalmozási bevételek | D32: ='17 felhalm.bevétel '!C34 -> 902249 | E32: ='17 felhalm.bevétel '!D34 -> 500000 | F32: ='17 felhalm.bevétel '!E34 -> 502100 | G32: ='17 felhalm.bevétel '!F34 -> 300000 | H32: ='17 felhalm.bevétel '!G34 -> 802100 | I32: Oktatási ágazat | K32: =+'8 oktatás'!B32 -> 91293 | L32: =+'8 oktatás'!C32 -> 0 | M32: =+'8 oktatás'!D32 -> 25286 | N32: =+'8 oktatás'!E32 -> 76278 | O32: =+'8 oktatás'!F32 -> 101564
A33: Felhalmozási célú átvett péneszközök | D33: ='17 felhalm.bevétel '!C44 -> 130957 | E33: ='17 felhalm.bevétel '!D44 -> 7000 | F33: ='17 felhalm.bevétel '!E44 -> 119131 | G33: ='17 felhalm.bevétel '!F44 -> 15621 | H33: ='17 felhalm.bevétel '!G44 -> 134752 | I33: Kulturális ágazat, média | K33: ='9 kultúra'!B75 -> 108483 | L33: ='9 kultúra'!C75 -> 0 | M33: ='9 kultúra'!D75 -> 79982 | N33: ='9 kultúra'!E75 -> 0 | O33: ='9 kultúra'!F75 -> 79982
A34: Költségvetési szervek felhalmozási bevételei | D34: ='17 felhalm.bevétel '!C58 -> 45998 | E34: ='17 felhalm.bevétel '!D58 -> 0 | F34: ='17 felhalm.bevétel '!E58 -> 27016 | G34: ='17 felhalm.bevétel '!F58 -> 4234 | H34: ='17 felhalm.bevétel '!G58 -> 31250 | I34: Szociális ágazat | K34: ='10 szociális'!B44 -> 27472 | L34: ='10 szociális'!C44 -> 14967 | M34: ='10 szociális'!D44 -> 26719 | N34: ='10 szociális'!E44 -> 6192 | O34: ='10 szociális'!F44 -> 32911
I35: Egészségügyi ágazat | K35: ='11 egészségügy'!B25 -> 16562 | L35: ='11 egészségügy'!C25 -> 0 | M35: ='11 egészségügy'!D25 -> 8416 | N35: ='11 egészségügy'!E25 -> 0 | O35: ='11 egészségügy'!F25 -> 8416
I36: Gyermekvédelemi ágazat | K36: ='12 gyermekvédelm'!B17 -> 27208 | L36: ='12 gyermekvédelm'!C17 -> 51660 | M36: ='12 gyermekvédelm'!D17 -> 59356 | N36: ='12 gyermekvédelm'!E17 -> 13175 | O36: ='12 gyermekvédelm'!F17 -> 72531
I37: Egyéb más ágazathoz nem sorolható intézmények és feladatok | K37: ='13 egyéb'!B125 -> 91573 | L37: ='13 egyéb'!C125 -> 95155 | M37: ='13 egyéb'!D125 -> 117346 | N37: ='13 egyéb'!E125 -> 187 | O37: ='13 egyéb'!F125 -> 117533
I38: Kommunális, városüzemeltetési és környezetvédelmi kiadások | K38: ='15 város.ü.'!B36 -> 0 | L38: ='15 város.ü.'!C36 -> 0 | M38: ='15 város.ü.'!D36 -> 1000 | N38: ='15 város.ü.'!E36 -> 1000 | O38: ='15 város.ü.'!F36 -> 2000
I39: Intézményi felhalmozási kiadások össszesen | K39: =SUM(K32:K38) -> 362591 | L39: =SUM(L32:L38) -> 161782 | M39: =SUM(M32:M38) -> 318105 | N39: =SUM(N32:N38) -> 96832 | O39: =SUM(O32:O38) -> 414937
I40: Pénzeszközátadás | K40: =+'18 felhalm.kiadás'!C9 -> 2308 | L40: =+'18 felhalm.kiadás'!D9 -> 0 | M40: =+'18 felhalm.kiadás'!E9 -> 129447 | N40: =+'18 felhalm.kiadás'!F9 -> 0 | O40: =+'18 felhalm.kiadás'!G9 -> 129447
I41: Költségvetési szervek beruházásai és felújításai | K41: ='18 felhalm.kiadás'!C17 -> 30426 | L41: ='18 felhalm.kiadás'!D17 -> 200000 | M41: ='18 felhalm.kiadás'!E17 -> 301608 | N41: ='18 felhalm.kiadás'!F17 -> 4120 | O41: ='18 felhalm.kiadás'!G17 -> 305728
I42: Vagyongazdálkodás | K42: =+'18 felhalm.kiadás'!C22 -> 57324 | L42: =+'18 felhalm.kiadás'!D22 -> 0 | M42: =+'18 felhalm.kiadás'!E22 -> 10512 | N42: =+'18 felhalm.kiadás'!F22 -> 0 | O42: =+'18 felhalm.kiadás'!G22 -> 10512
I43: Beruházások | K43: =+'18 felhalm.kiadás'!C85 -> 222202 | L43: =+'18 felhalm.kiadás'!D85 -> 8257432 | M43: =+'18 felhalm.kiadás'!E85 -> 9998798 | N43: =+'18 felhalm.kiadás'!F85 -> 1606697 | O43: =+'18 felhalm.kiadás'!G85 -> 11605495
I44: Munkáltatói kölcsön | K44: ='18 felhalm.kiadás'!C86 -> 1027 | L44: ='18 felhalm.kiadás'!D86 -> 0 | M44: ='18 felhalm.kiadás'!E86 -> 173 | N44: ='18 felhalm.kiadás'!F86 -> 0 | O44: ='18 felhalm.kiadás'!G86 -> 173
I45: Önkormányzati felhalmozási kiadások össszesen | K45: =SUM(K40:K44) -> 313287 | L45: =SUM(L40:L44) -> 8457432 | M45: =SUM(M40:M44) -> 10440538 | N45: =SUM(N40:N44) -> 1610817 | O45: =SUM(O40:O44) -> 12051355
A46: Felhalmozási célú bevételek összesen : | D46: =SUM(D31:D45) -> 1094568 | E46: =SUM(E31:E45) -> 507000 | F46: =SUM(F31:F45) -> 8606246 | G46: =SUM(G31:G45) -> 319855 | H46: =SUM(H31:H45) -> 8926101 | I46: Felhalmozási célú kiadások összesen : | K46: =+K45+K39 -> 675878 | L46: =+L45+L39 -> 8619214 | M46: =+M45+M39 -> 10758643 | N46: =+N45+N39 -> 1707649 | O46: =+O45+O39 -> 12466292
A48: Finanszírozási műveletek | I48: Finanszírozási műveletek
C49: Működési célú maradvány | D49: 1069309 | E49: 500000 | F49: 685622 | H49: =SUM(F49:G49) -> 685622 | I49: Finanszírozási kiadás - közvilágítás pénzügyi lízing tőke | K49: 120749 | L49: 120750 | M49: 120750 | O49: =SUM(M49:N49) -> 120750
C50: Működési célú maradvány - projektekhez | E50: 1940747 | F50: 0 | H50: =SUM(F50:G50) -> 0 | I50: Egyéb finanszírozási célú kiadás - 2026.évi költségvetési támogatási előleg | L50: 336010 | M50: 336010 | O50: =SUM(M50:N50) -> 336010
C51: Egyéb finanszírozási célú bevétel a 2026. évi költségvetési támogatási előleghez | D51: 336010 | E51: 336010 | F51: 0 | H51: =SUM(F51:G51) -> 0 | I51: Egyéb finanszírozási célú kiadás - 2025.évi költségvetési támogatási előleg | K51: 2269238 | M51: 0 | O51: =SUM(M51:N51) -> 0
C52: Egyéb finanszírozási célú bevétel a 2025. évi költségvetési támogatási előleghez | D52: 1988234 | F52: 0 | H52: =SUM(F52:G52) -> 0 | I52: Egyéb finanszírozási célú kiadás - Önkormányzati Magyar Államkötvény vásárlása | K52: 2000000 | M52: 4000000 | N52: 5000000 | O52: =SUM(M52:N52) -> 9000000
C53: Felhalmozási célú maradvány | D53: 1456893 | F53: 1178093 | H53: =SUM(F53:G53) -> 1178093 | M53: 0 | O53: =SUM(M53:N53) -> 0
C54: Felhalmozási célú maradvány - projektekhez | E54: 7966774 | F54: 0 | H54: =SUM(F54:G54) -> 0 | M54: 0 | O54: =SUM(M54:N54) -> 0
C55: Működési célú maradvány (intézményekhez kapcsolódóan) | D55: 690176 | E55: =19955+26670+24990+14967 -> 86582 | F55: 0 | H55: =SUM(F55:G55) -> 0 | M55: 0 | O55: =SUM(M55:N55) -> 0
C56: Egyéb finanszírozási célú bevétel - Önkormányzati Magyar Államkötvény visszaváltása | D56: 500000 | F56: 5500000 | G56: 5000000 | H56: =SUM(F56:G56) -> 10500000 | M56: 0 | O56: =SUM(M56:N56) -> 0
A57: Finanszírozási műveletek összesen | D57: =SUM(D48:D56) -> 6040622 | E57: =SUM(E48:E56) -> 10830113 | F57: =SUM(F48:F56) -> 7363715 | G57: =SUM(G48:G56) -> 5000000 | H57: =SUM(H48:H56) -> 12363715 | I57: Finanszírozási műveletek összesen | K57: =SUM(K49:K56) -> 4389987 | L57: =SUM(L49:L56) -> 456760 | M57: =SUM(M49:M56) -> 4456760 | N57: =SUM(N49:N56) -> 5000000 | O57: =SUM(O49:O56) -> 9456760
A60: Bevételek és finanszírozási műveletek összesen | D60: =+D57+D46+D26 -> 38973174 | E60: =+E57+E46+E26 -> 42479853 | F60: =+F57+F46+F26 -> 51331176 | G60: =+G57+G46+G26 -> 7561674 | H60: =+H57+H46+H26 -> 58892850 | I60: Kiadások és finanszírozási műveletek összesen | K60: =+K57+K46+K26 -> 37085210 | L60: =+L57+L46+L26 -> 42479853 | M60: =+M57+M46+M26 -> 51331176 | N60: =+N57+N46+N26 -> 7561674 | O60: =+O57+O46+O26 -> 58892850

Sheet 3 működési bevételek
A2: Költségvetési működési bevételek
J4: ezer forintban
E5: Megnevezés | F5: 2025. évi | G5: 2026. évi | H5: 2026. évi I.sz. | I5: Javasolt | J5: 2026. évi II.sz.
F6: teljesítés | G6: eredeti előirányzat | H6: módosított előirányzat | I6: módosítás | J6: módosított előirányzat
A7: MŰKÖDÉSI CÉLÚ TÁMOGATÁSOK ÁLLAMHÁZTARTÁSON BELÜLRŐL
B8: I. Helyi önkormányzatok működésének általános támogatása | F8: 1759844 | G8: =1706599+64813+76691 -> 1848103 | H8: 1848103 | J8: =SUM(H8:I8) -> 1848103
B9: II. Települési önkormányzatok egyes köznevelési feladatainak támogatása | F9: 3354379 | G9: =3333839+220531+61686+41561 -> 3657617 | H9: 3693262 | I9: =21835+8863 -> 30698 | J9: =SUM(H9:I9) -> 3723960
B10: III. | E10: Települési önkormányzatok egyes szociális és gyermekjóléti feladatainak támogatása | F10: 2130512 | G10: =2145681+31918+144277 -> 2321876 | H10: 2332725 | I10: =-20514+2668 -> -17846 | J10: =SUM(H10:I10) -> 2314879
B11: IV. | E11: Települési önkormányzatok gyermekétkeztetési feladatainak támogatása | F11: 946949 | G11: =878065+92235+45120 -> 1015420 | H11: 1015420 | I11: 24447 | J11: =SUM(H11:I11) -> 1039867
B12: V. Települési önkormányzatok kulturális feladatainak támogatása | F12: =SUM(F13:F14) -> 214194 | G12: =SUM(G13:G14) -> 213472 | H12: 213472 | I12: =SUM(I13:I14) -> 0 | J12: =SUM(J13:J14) -> 213472
C13: Vármegyeszékhely megyei jogú városok kulturális feladatainak támogatása | F13: 71480 | G13: =71479-328 -> 71151 | H13: 71151 | J13: =SUM(H13:I13) -> 71151
C14: Vármegyei hatókörű városi könyvtár kistelepülési könyvtári célú kiegészítő támogatása | F14: 142714 | G14: =142713-392 -> 142321 | H14: 142321 | J14: =SUM(H14:I14) -> 142321
B15: ÖSSZESEN (I.+II.+III.+IV.+V.) | F15: =F8+F9+F10+F11+F12 -> 8405878 | G15: =G8+G9+G10+G11+G12 -> 9056488 | H15: =H8+H9+H10+H11+H12 -> 9102982 | I15: =I8+I9+I10+I11+I12 -> 37299 | J15: =J8+J9+J10+J11+J12 -> 9140281
B16: Helyi önkormányzatok kiegészítő támogatásai
C17: Könyvtári érdekeltségnövelő támogatás | F17: 5539 | H17: 0 | J17: =SUM(H17:I17) -> 0
C18: Szociális ágazati összevont pótlék | F18: 251154 | H18: 104947 | I18: 85331 | J18: =SUM(H18:I18) -> 190278
C19: Kiegészítő szociális ágazati pótlék | H19: 37713 | I19: 38186 | J19: =SUM(H19:I19) -> 75899
C20: Helyi önkormányzatok kiegészítő támogatásai összesen | F20: =SUM(F17:F19) -> 256693 | G20: =SUM(G17:G19) -> 0 | H20: =SUM(H17:H19) -> 142660 | I20: =SUM(I17:I19) -> 123517 | J20: =SUM(J17:J19) -> 266177
B21: Települési önkormányzatok kulturális feladatainak támogatása
C22: Vármegyei hatókörű városi múzeumok feladatainak támogatása - Savaria Múzeum feladatainak támogatása | F22: 230670 | G22: 230670 | H22: 230670 | J22: =SUM(H22:I22) -> 230670
C23: Vármegyei hatókörű városi könyvtárak feladatainak támogatása - Berzsenyi Dániel könyvtár feladatainak támogatása | F23: 188000 | G23: 188000 | H23: 188000 | J23: =SUM(H23:I23) -> 188000
C24: Zeneművészeti szervek támogatása - Savaria Szimfónikus zenekar központi támogatása | F24: 318266 | G24: 318266 | H24: 318266 | J24: =SUM(H24:I24) -> 318266
C25: Települési önkormányzatok kulturális feladatainak bérjellegű támogatása (682/2021.(XII.6.) korm.rend.szerinti 20% és minimálbér és garantált bérminimum emelés) | F25: 157338 | G25: 157338 | H25: 157338 | J25: =SUM(H25:I25) -> 157338
C26: Kulturális 15%-os illetmény emeléshez normatív támogatás - kulturális intézmények | G26: 236016 | H26: 236016 | J26: =SUM(H26:I26) -> 236016
C27: Kulturális 15%-os illetmény emeléshez normatív támogatás - kulturális gazdasági társaságok | G27: 139829 | H27: 139829 | J27: =SUM(H27:I27) -> 139829
B28: Települési önkormányzatok kulturális feladatainak támogatásai összesen | F28: =SUM(F21:F27) -> 894274 | G28: =SUM(G21:G27) -> 1270119 | H28: =SUM(H21:H27) -> 1270119 | I28: =SUM(I21:I27) -> 0 | J28: =SUM(J21:J27) -> 1270119
B29: Működési célú költségvetési támogatások és kiegészítő támogatások
E30: Veszélyhelyzet ideje alatt a szomszédos országban fennálló humanitárius katasztrófára tekintettel érkező személyek elhelyezésének támogatása | F30: 7300 | H30: 2420 | I30: 1820 | J30: =SUM(H30:I30) -> 4240
E31: Kéményseprő ipari közszolgáltatás ellátásának támogatása | F31: 3137 | H31: 0 | J31: =SUM(H31:I31) -> 0
B32: Működési célú költségvetési támogatások és kiegészítő támogatások össszesen | F32: =SUM(F30:F31) -> 10437 | G32: =SUM(G30:G31) -> 0 | H32: =SUM(H30:H31) -> 2420 | I32: =SUM(I30:I31) -> 1820 | J32: =SUM(J30:J31) -> 4240
A33: ÖSSZESEN | F33: =F15+F20+F28+F32 -> 9567282 | G33: =G15+G20+G28+G32 -> 10326607 | H33: =H15+H20+H28+H32 -> 10518181 | I33: =I15+I20+I28+I32 -> 162636 | J33: =J15+J20+J28+J32 -> 10680817
B34: Elszámolásból származó bevételek
C35: Központi támogatás elszámolása alapján | I35: 8550 | J35: =SUM(H35:I35) -> 8550
B36: Elszámolásból származó bevételek összesen | F36: =SUM(F35) -> 0 | G36: =SUM(G35) -> 0 | H36: =SUM(H35) -> 0 | I36: =SUM(I35) -> 8550 | J36: =SUM(J35) -> 8550
A37: a.) | B37: ÖNKORMÁNYZATOK MŰKÖDÉSI TÁMOGATÁSAI | F37: =F33+F36 -> 9567282 | G37: =G33+G36 -> 10326607 | H37: =H33+H36 -> 10518181 | I37: =I33+I36 -> 171186 | J37: =J33+J36 -> 10689367
C38: Elvonások és befizetések bevételei | J38: =SUM(H38:I38) -> 0
C39: 2025. évi helyi iparűzési adóbevétel többlet elszámolásával kapcsolatos visszatérítés | H39: 40279 | J39: =SUM(H39:I39) -> 40279
A40: b.) | B40: ELVONÁSOK ÉS BEFIZETÉSEK BEVÉTELEI | F40: =SUM(F38:F39) -> 0 | G40: =SUM(G38:G39) -> 0 | H40: =SUM(H38:H39) -> 40279 | I40: =SUM(I38:I39) -> 0 | J40: =SUM(J38:J39) -> 40279
C41: Önkormányzati fenntartású Weöres Sándor Színház közös működtetési támogatása | F41: 75519 | G41: =302075+55733 -> 357808 | H41: 0 | J41: =SUM(H41:I41) -> 0
C42: Önkormányzati fenntartású Mesebolt Bábszínház közös működtetési támogatása | F42: 13250 | G42: =53000+30487 -> 83487 | H42: 0 | J42: =SUM(H42:I42) -> 0
C43: Otthontámogatás | H43: 492225 | I43: 20138 | J43: =SUM(H43:I43) -> 512363
C44: Támogatások elszámolása államháztartáson belülről | F44: 25 | H44: 0 | J44: =SUM(H44:I44) -> 0
C45: Energiaügyi Minisztérium - "Zöld óvoda" program támogatás | F45: 1000 | H45: 0 | J45: =SUM(H45:I45) -> 0
C46: INTERREG VI-A AT-HU 0200115 program - Közös drogprevenció képzési program és megvalósítása az osztrák-magyar határtérségben | F46: 19144 | H46: 0 | J46: =SUM(H46:I46) -> 0
C47: Köztemetés költségeinek megtérítése más önkormányzatoktól | F47: 13406 | H47: 5480 | I47: 4974 | J47: =SUM(H47:I47) -> 10454
C48: Nyugat-dunántúli Regionális Hulladékgazdálkodási Önkormányzati Társulástól támogatás | F48: 23860 | G48: 23860 | H48: 23860 | J48: =SUM(H48:I48) -> 23860
C49: 2025. évi helyi iparűzési adóbevétel többlete alapján meghatározott fizetési kötelezettség visszatérítése | G49: 40279 | H49: 0 | J49: =SUM(H49:I49) -> 0
C50: 2025. évi helyi iparűzési adóbevétel többletéből központilag vissza kapott támogatás | G50: 700000 | H50: 700000 | J50: =SUM(H50:I50) -> 700000
C51: Azbeszttel szennyezett területek mentesítésére, védelmi költségeire kapott központi támogatás | I51: 1606296 | J51: =SUM(H51:I51) -> 1606296
C52: Versenyképes Járások Program | G52: 250000 | H52: 0 | J52: =SUM(H52:I52) -> 0
D53: Járási igényeket kiszolgáló közösségi közlekedés fejlesztése és fenntartása | F53: 85612 | H53: 100000 | J53: =SUM(H53:I53) -> 100000
D54: Minőségi közétkeztetés biztosítása a járásban élő, szombathelyi köznevelési intézményekben ellátott gyermekek részére | F54: 64388 | H54: 78650 | J54: =SUM(H54:I54) -> 78650
D55: Laborjárat és a betegirányító, diszpécser „szolgáltatás” működtetési költségeinek finanszírozása | H55: 67000 | J55: =SUM(H55:I55) -> 67000
D56: Felsőcsatári gyerektábor tervezési költségeinek finanszírozása | H56: 5000 | J56: =SUM(H56:I56) -> 5000
D57: Szombathelyi Fedett Uszoda és Termálfürdő fejlesztése és fenntartása | F57: 100000 | H57: 0 | J57: =SUM(H57:I57) -> 0
A58: c.) | B58: EGYÉB MŰKÖDÉSI CÉLÚ TÁMOGATÁSOK BEVÉTELEI ÁLLAMHÁZTARTÁSON BELÜLRŐL | F58: =SUM(F41:F57) -> 396204 | G58: =SUM(G41:G57) -> 1455434 | H58: =SUM(H41:H57) -> 1472215 | I58: =SUM(I41:I57) -> 1631408 | J58: =SUM(J41:J57) -> 3103623
A59: MŰKÖDÉSI CÉLÚ TÁMOGATÁSOK ÁLLAMHÁZTARTÁSON BELÜLRŐL ÖSSZESEN (a.) + b.) + c.)) | F59: =F37+F40+F58 -> 9963486 | G59: =G37+G40+G58 -> 11782041 | H59: =H37+H40+H58 -> 12030675 | I59: =I37+I40+I58 -> 1802594 | J59: =J37+J40+J58 -> 13833269
A60: KÖZHATALMI BEVÉTELEK
B61: JÖVEDELEMADÓK
C62: Termőföld bérbeadásából szárm.jöv.adó | F62: 1070 | H62: 0 | J62: =SUM(H62:I62) -> 0
B63: VAGYONI TÍPUSÚ ADÓK | J63: =SUM(H63:I63) -> 0
C64: Épitményadó | F64: 2845187 | G64: =2535000+200000+50000-50000 -> 2735000 | H64: 2735000 | J64: =SUM(H64:I64) -> 2735000
B65: TERMÉK ÉS SZOLGÁLTATÁSOK ADÓI | J65: =SUM(H65:I65) -> 0
C66: Helyi iparűzési adó | F66: 13287493 | G66: =11717000+483000 -> 12200000 | H66: 12200000 | J66: =SUM(H66:I66) -> 12200000
C67: Idegenforgalmi adó | F67: 32112 | G67: 30000 | H67: 30000 | J67: =SUM(H67:I67) -> 30000
B68: EGYÉB KÖZHATALMI BEVÉTELEK | J68: =SUM(H68:I68) -> 0
C69: Egyéb adó és bírságok, pótlékok | F69: 28890 | G69: 25000 | H69: 25000 | J69: =SUM(H69:I69) -> 25000
C70: Környezetvédelmi birság | F70: 1094 | G70: 1000 | H70: 1000 | J70: =SUM(H70:I70) -> 1000
C71: Településképi bírság | F71: 200 | H71: 0 | J71: =SUM(H71:I71) -> 0
C72: Köztemetés költségeinek megtérítése | F72: 8219 | H72: 2026 | I72: 3996 | J72: =SUM(H72:I72) -> 6022
A73: KÖZHATALMI BEVÉTELEK ÖSSZESEN | F73: =SUM(F62:F72) -> 16204265 | G73: =SUM(G62:G72) -> 14991000 | H73: =SUM(H62:H72) -> 14993026 | I73: =SUM(I62:I72) -> 3996 | J73: =SUM(J62:J72) -> 14997022
A74: MŰKÖDÉSI BEVÉTELEK
B75: Tulajdonosi bevételek
E76: SZOVA Zrt. parkolásgazdálkodásból származó bevétel | F76: 677325 | G76: =665000+12000 -> 677000 | H76: 677000 | J76: =SUM(H76:I76) -> 677000
E77: Egyéb működési célú bevétel | F77: 25261 | G77: 9000 | H77: 9000 | J77: =SUM(H77:I77) -> 9000
E78: Földhaszonbérlet | F78: 2479 | G78: 2700 | H78: 2700 | J78: =SUM(H78:I78) -> 2700
E79: Helyiségek és lakások bérleti díja | F79: 810894 | G79: 700000 | H79: 700000 | J79: =SUM(H79:I79) -> 700000
E80: Közterület foglalás | F80: 33152 | G80: 17000 | H80: 17000 | J80: =SUM(H80:I80) -> 17000
E81: Útigénybevételi díj | F81: 3440 | G81: 1700 | H81: 1700 | J81: =SUM(H81:I81) -> 1700
E82: Víziközmű és szennyvízközmű használati díjbevétel | F82: 115354 | H82: 1189278 | J82: =SUM(H82:I82) -> 1189278
B83: Egyéb működési bevételek | J83: =SUM(H83:I83) -> 0
E84: ELAMEN Zrt. bérleti díj | F84: 17950 | G84: 17950 | H84: 17950 | J84: =SUM(H84:I84) -> 17950
E85: Szombathely, Akacs M. u. 7. épület utáni bérleti díjbevétel | F85: 68400 | G85: 68400 | H85: 68400 | J85: =SUM(H85:I85) -> 68400
E86: Egyéb különféle működési célú bevétel | F86: 860 | H86: 0 | J86: =SUM(H86:I86) -> 0
E87: Bérleti díj | F87: 11837 | G87: 9000 | H87: 9000 | J87: =SUM(H87:I87) -> 9000
E88: Közösségi Bérlakás Rendszer lakbér bevétele | F88: 49563 | H88: 20134 | I88: 21764 | J88: =SUM(H88:I88) -> 41898
E89: Biztosító térítése, egyéb kártérítés, kötbér | F89: 1056 | H89: 1594 | I89: 736 | J89: =SUM(H89:I89) -> 2330
E90: Vásárok bevétele | F90: 16675 | H90: 2208 | I90: 2187 | J90: =SUM(H90:I90) -> 4395
E91: Vásárokhoz kapcsolódó közterület foglalási díjbevétel | F91: 10377 | H91: 0 | J91: =SUM(H91:I91) -> 0
E92: Hulladékgazdálkodási feladatok ellátásához kapcsolódó önkormányatot megillető pénzügyi juttatás (MOHU-tól) | F92: 349075 | H92: 32623 | I92: 16463 | J92: =SUM(H92:I92) -> 49086
E93: Prenor Kft. bérleti díj megtérítése 2024. évre | F93: 37165 | H93: 0 | J93: =SUM(H93:I93) -> 0
E94: Prenor Kft. bérleti díj megtérítése 2025. évre | I94: 37165 | J94: =SUM(H94:I94) -> 37165
E95: Továbbszámlázott költségek megtérítése | F95: 40 | H95: 80 | J95: =SUM(H95:I95) -> 80
E96: Szombathelyi Neumann J.Ált.Isk.területén 3 db műfüves labdarúgó pálya éves karbantartási, továbbszámlázott költségének megtérítése | F96: 412 | H96: 0 | J96: =SUM(H96:I96) -> 0
E97: Szent Márton kártya értékesítése | F97: 26 | H97: 0 | J97: =SUM(H97:I97) -> 0
E98: Tavak haszonbérbe adása | F98: 906 | H98: 0 | J98: =SUM(H98:I98) -> 0
E99: Elektromos töltőállomás bérleti díja | H99: 209 | J99: =SUM(H99:I99) -> 209
B100: Kiszámlázott általános forgalmi adó és áfa visszatérítése | J100: =SUM(H100:I100) -> 0
E101: SZOVA Zrt. parkolásgazdálkodásból származó ÁFA visszatérülés | G101: 117936 | H101: 117936 | J101: =SUM(H101:I101) -> 117936
E102: Kiszámlázott és befizetendő áfa | F102: 574207 | G102: 400000 | H102: 400000 | J102: =SUM(H102:I102) -> 400000
...

Sheet 4 intézményi bevétel
B3: Szombathely Megyei Jogú Város Önkormányzata | R3: Szombathely Megyei Jogú Város Önkormányzata | AH3: Szombathely Megyei Jogú Város Önkormányzata
B4: Költségvetési szervek 2026. évi bevételei | R4: Költségvetési szervek 2026. évi bevételei | AH4: Költségvetési szervek 2026. évi bevételei
P5: ezer forintban | AF5: ezer forintban | AP5: ezer forintban
A6: I N T É Z M É N Y | B6: Működési bevételek | E6: Működési célú támogatások államháztartáson belülről | H6: Működési célú átvett pénzeszközök | K6: Közhatalmi bevételek | N6: Működési bevételek összesen | Q6: I N T É Z M É N Y | R6: Felhalmozási bevételek | U6: Felhalmozási célú támogatások államháztartáson belülről | X6: Felhalmozási célú átvett pénzeszközök | AA6: Felhalmozási bevételek összesen | AD6: Saját bevételek összesen | AG6: I N T É Z M É N Y | AH6: Előző év költségvetési maradványának igénybevétele | AK6: Központi irányítószervtől kapott támogatás | AN6: Költségvetési bevételek összesen
A7: 2026. | Q7: 2026. | AG7: 2026.
B8: 2026. évi I. sz. módosított előirányzat | C8: Javasolt módosítás | D8: 2026. évi II. sz. módosított előirányzat | E8: 2026. évi I. sz. módosított előirányzat | F8: Javasolt módosítás | G8: 2026. évi II. sz. módosított előirányzat | H8: 2026. évi I. sz. módosított előirányzat | I8: Javasolt módosítás | J8: 2026. évi II. sz. módosított előirányzat | K8: 2026. évi I. sz. módosított előirányzat | L8: Javasolt módosítás | M8: 2026. évi II. sz. módosított előirányzat | N8: 2026. évi I. sz. módosított előirányzat | O8: Javasolt módosítás | P8: 2026. évi II. sz. módosított előirányzat | R8: 2026. évi I. sz. módosított előirányzat | S8: Javasolt módosítás | T8: 2026. évi II. sz. módosított előirányzat | U8: 2026. évi I. sz. módosított előirányzat | V8: Javasolt módosítás | W8: 2026. évi II. sz. módosított előirányzat | X8: 2026. évi I. sz. módosított előirányzat | Y8: Javasolt módosítás | Z8: 2026. évi II. sz. módosított előirányzat | AA8: 2026. évi I. sz. módosított előirányzat | AB8: Javasolt módosítás | AC8: 2026. évi II. sz. módosított előirányzat | AD8: 2026. évi I. sz. módosított előirányzat | AE8: Javasolt módosítás | AF8: 2026. évi II. sz. módosított előirányzat | AH8: 2026. évi I. sz. módosított előirányzat | AI8: Javasolt módosítás | AJ8: 2026. évi II. sz. módosított előirányzat | AK8: 2026. évi I. sz. módosított előirányzat | AL8: Javasolt módosítás | AM8: 2026. évi II. sz. módosított előirányzat | AN8: 2026. évi I. sz. módosított előirányzat | AO8: Javasolt módosítás | AP8: 2026. évi II. sz. módosított előirányzat
A9: Ó v o d á k | Q9: Ó v o d á k | AG9: Ó v o d á k
A10: Aréna Óvoda | B10: ='[3]int.bevételek RM I'!D10 -> 2568 | D10: =SUM(B10:C10) -> 2568 | E10: ='[3]int.bevételek RM I'!G10 -> 0 | G10: =SUM(E10:F10) -> 0 | H10: ='[3]int.bevételek RM I'!J10 -> 0 | J10: =SUM(H10:I10) -> 0 | K10: ='[3]int.bevételek RM I'!M10 -> 0 | M10: =SUM(K10:L10) -> 0 | N10: =B10+E10+H10+K10 -> 2568 | O10: =C10+F10+I10+L10 -> 0 | P10: =D10+G10+J10+M10 -> 2568 | Q10: Aréna Óvoda | R10: ='[3]int.bevételek RM I'!T10 -> 0 | T10: =SUM(R10:S10) -> 0 | U10: ='[3]int.bevételek RM I'!W10 -> 0 | W10: =SUM(U10:V10) -> 0 | X10: ='[3]int.bevételek RM I'!Z10 -> 0 | Z10: =SUM(X10:Y10) -> 0 | AA10: =R10+U10+X10 -> 0 | AB10: =S10+V10+Y10 -> 0 | AC10: =T10+W10+Z10 -> 0 | AD10: =N10+AA10 -> 2568 | AE10: =O10+AB10 -> 0 | AF10: =P10+AC10 -> 2568 | AG10: Aréna Óvoda | AH10: ='[3]int.bevételek RM I'!AJ10 -> 3426 | AJ10: =SUM(AH10:AI10) -> 3426 | AK10: ='[3]int.bevételek RM I'!AM10 -> 326005 | AL10: 650 | AM10: =SUM(AK10:AL10) -> 326655 | AN10: =N10+AA10+AH10+AK10 -> 331999 | AO10: =O10+AB10+AI10+AL10 -> 650 | AP10: =P10+AC10+AJ10+AM10 -> 332649
A11: Barátság Óvoda | B11: ='[3]int.bevételek RM I'!D11 -> 1000 | D11: =SUM(B11:C11) -> 1000 | E11: ='[3]int.bevételek RM I'!G11 -> 0 | G11: =SUM(E11:F11) -> 0 | H11: ='[3]int.bevételek RM I'!J11 -> 0 | J11: =SUM(H11:I11) -> 0 | K11: ='[3]int.bevételek RM I'!M11 -> 0 | M11: =SUM(K11:L11) -> 0 | N11: =B11+E11+H11+K11 -> 1000 | O11: =C11+F11+I11+L11 -> 0 | P11: =D11+G11+J11+M11 -> 1000 | Q11: Barátság Óvoda | R11: ='[3]int.bevételek RM I'!T11 -> 0 | T11: =SUM(R11:S11) -> 0 | U11: ='[3]int.bevételek RM I'!W11 -> 0 | W11: =SUM(U11:V11) -> 0 | X11: ='[3]int.bevételek RM I'!Z11 -> 0 | Z11: =SUM(X11:Y11) -> 0 | AA11: =R11+U11+X11 -> 0 | AB11: =S11+V11+Y11 -> 0 | AC11: =T11+W11+Z11 -> 0 | AD11: =N11+AA11 -> 1000 | AE11: =O11+AB11 -> 0 | AF11: =P11+AC11 -> 1000 | AG11: Barátság Óvoda | AH11: ='[3]int.bevételek RM I'!AJ11 -> 886 | AJ11: =SUM(AH11:AI11) -> 886 | AK11: ='[3]int.bevételek RM I'!AM11 -> 219948 | AL11: 458 | AM11: =SUM(AK11:AL11) -> 220406 | AN11: =N11+AA11+AH11+AK11 -> 221834 | AO11: =O11+AB11+AI11+AL11 -> 458 | AP11: =P11+AC11+AJ11+AM11 -> 222292
A12: Pipitér Óvoda | B12: ='[3]int.bevételek RM I'!D12 -> 960 | D12: =SUM(B12:C12) -> 960 | E12: ='[3]int.bevételek RM I'!G12 -> 64 | G12: =SUM(E12:F12) -> 64 | H12: ='[3]int.bevételek RM I'!J12 -> 0 | J12: =SUM(H12:I12) -> 0 | K12: ='[3]int.bevételek RM I'!M12 -> 0 | M12: =SUM(K12:L12) -> 0 | N12: =B12+E12+H12+K12 -> 1024 | O12: =C12+F12+I12+L12 -> 0 | P12: =D12+G12+J12+M12 -> 1024 | Q12: Pipitér Óvoda | R12: ='[3]int.bevételek RM I'!T12 -> 0 | T12: =SUM(R12:S12) -> 0 | U12: ='[3]int.bevételek RM I'!W12 -> 0 | W12: =SUM(U12:V12) -> 0 | X12: ='[3]int.bevételek RM I'!Z12 -> 0 | Z12: =SUM(X12:Y12) -> 0 | AA12: =R12+U12+X12 -> 0 | AB12: =S12+V12+Y12 -> 0 | AC12: =T12+W12+Z12 -> 0 | AD12: =N12+AA12 -> 1024 | AE12: =O12+AB12 -> 0 | AF12: =P12+AC12 -> 1024 | AG12: Pipitér Óvoda | AH12: ='[3]int.bevételek RM I'!AJ12 -> 2589 | AJ12: =SUM(AH12:AI12) -> 2589 | AK12: ='[3]int.bevételek RM I'!AM12 -> 228445 | AL12: 1295 | AM12: =SUM(AK12:AL12) -> 229740 | AN12: =N12+AA12+AH12+AK12 -> 232058 | AO12: =O12+AB12+AI12+AL12 -> 1295 | AP12: =P12+AC12+AJ12+AM12 -> 233353
A13: Hétszínvirág Óvoda | B13: ='[3]int.bevételek RM I'!D13 -> 1256 | C13: 54 | D13: =SUM(B13:C13) -> 1310 | E13: ='[3]int.bevételek RM I'!G13 -> 48 | G13: =SUM(E13:F13) -> 48 | H13: ='[3]int.bevételek RM I'!J13 -> 0 | J13: =SUM(H13:I13) -> 0 | K13: ='[3]int.bevételek RM I'!M13 -> 0 | M13: =SUM(K13:L13) -> 0 | N13: =B13+E13+H13+K13 -> 1304 | O13: =C13+F13+I13+L13 -> 54 | P13: =D13+G13+J13+M13 -> 1358 | Q13: Hétszínvirág Óvoda | R13: ='[3]int.bevételek RM I'!T13 -> 0 | T13: =SUM(R13:S13) -> 0 | U13: ='[3]int.bevételek RM I'!W13 -> 0 | W13: =SUM(U13:V13) -> 0 | X13: ='[3]int.bevételek RM I'!Z13 -> 0 | Z13: =SUM(X13:Y13) -> 0 | AA13: =R13+U13+X13 -> 0 | AB13: =S13+V13+Y13 -> 0 | AC13: =T13+W13+Z13 -> 0 | AD13: =N13+AA13 -> 1304 | AE13: =O13+AB13 -> 54 | AF13: =P13+AC13 -> 1358 | AG13: Hétszínvirág Óvoda | AH13: ='[3]int.bevételek RM I'!AJ13 -> 1730 | AJ13: =SUM(AH13:AI13) -> 1730 | AK13: ='[3]int.bevételek RM I'!AM13 -> 279608 | AL13: 651 | AM13: =SUM(AK13:AL13) -> 280259 | AN13: =N13+AA13+AH13+AK13 -> 282642 | AO13: =O13+AB13+AI13+AL13 -> 705 | AP13: =P13+AC13+AJ13+AM13 -> 283347
A14: Szivárvány Óvoda | B14: ='[3]int.bevételek RM I'!D14 -> 1328 | D14: =SUM(B14:C14) -> 1328 | E14: ='[3]int.bevételek RM I'!G14 -> 183 | G14: =SUM(E14:F14) -> 183 | H14: ='[3]int.bevételek RM I'!J14 -> 0 | J14: =SUM(H14:I14) -> 0 | K14: ='[3]int.bevételek RM I'!M14 -> 0 | M14: =SUM(K14:L14) -> 0 | N14: =B14+E14+H14+K14 -> 1511 | O14: =C14+F14+I14+L14 -> 0 | P14: =D14+G14+J14+M14 -> 1511 | Q14: Szivárvány Óvoda | R14: ='[3]int.bevételek RM I'!T14 -> 0 | T14: =SUM(R14:S14) -> 0 | U14: ='[3]int.bevételek RM I'!W14 -> 0 | W14: =SUM(U14:V14) -> 0 | X14: ='[3]int.bevételek RM I'!Z14 -> 0 | Z14: =SUM(X14:Y14) -> 0 | AA14: =R14+U14+X14 -> 0 | AB14: =S14+V14+Y14 -> 0 | AC14: =T14+W14+Z14 -> 0 | AD14: =N14+AA14 -> 1511 | AE14: =O14+AB14 -> 0 | AF14: =P14+AC14 -> 1511 | AG14: Szivárvány Óvoda | AH14: ='[3]int.bevételek RM I'!AJ14 -> 1850 | AJ14: =SUM(AH14:AI14) -> 1850 | AK14: ='[3]int.bevételek RM I'!AM14 -> 276947 | AL14: 38166 | AM14: =SUM(AK14:AL14) -> 315113 | AN14: =N14+AA14+AH14+AK14 -> 280308 | AO14: =O14+AB14+AI14+AL14 -> 38166 | AP14: =P14+AC14+AJ14+AM14 -> 318474
A15: Donászy Magda Óvoda | B15: ='[3]int.bevételek RM I'!D15 -> 1600 | D15: =SUM(B15:C15) -> 1600 | E15: ='[3]int.bevételek RM I'!G15 -> 60 | G15: =SUM(E15:F15) -> 60 | H15: ='[3]int.bevételek RM I'!J15 -> 0 | J15: =SUM(H15:I15) -> 0 | K15: ='[3]int.bevételek RM I'!M15 -> 0 | M15: =SUM(K15:L15) -> 0 | N15: =B15+E15+H15+K15 -> 1660 | O15: =C15+F15+I15+L15 -> 0 | P15: =D15+G15+J15+M15 -> 1660 | Q15: Donászy Magda Óvoda | R15: ='[3]int.bevételek RM I'!T15 -> 0 | T15: =SUM(R15:S15) -> 0 | U15: ='[3]int.bevételek RM I'!W15 -> 0 | W15: =SUM(U15:V15) -> 0 | X15: ='[3]int.bevételek RM I'!Z15 -> 0 | Z15: =SUM(X15:Y15) -> 0 | AA15: =R15+U15+X15 -> 0 | AB15: =S15+V15+Y15 -> 0 | AC15: =T15+W15+Z15 -> 0 | AD15: =N15+AA15 -> 1660 | AE15: =O15+AB15 -> 0 | AF15: =P15+AC15 -> 1660 | AG15: Donászy Magda Óvoda | AH15: ='[3]int.bevételek RM I'!AJ15 -> 2051 | AJ15: =SUM(AH15:AI15) -> 2051 | AK15: ='[3]int.bevételek RM I'!AM15 -> 255747 | AL15: 942 | AM15: =SUM(AK15:AL15) -> 256689 | AN15: =N15+AA15+AH15+AK15 -> 259458 | AO15: =O15+AB15+AI15+AL15 -> 942 | AP15: =P15+AC15+AJ15+AM15 -> 260400
A16: Mesevár Óvoda | B16: ='[3]int.bevételek RM I'!D16 -> 1400 | C16: 296 | D16: =SUM(B16:C16) -> 1696 | E16: ='[3]int.bevételek RM I'!G16 -> 0 | G16: =SUM(E16:F16) -> 0 | H16: ='[3]int.bevételek RM I'!J16 -> 0 | J16: =SUM(H16:I16) -> 0 | K16: ='[3]int.bevételek RM I'!M16 -> 0 | M16: =SUM(K16:L16) -> 0 | N16: =B16+E16+H16+K16 -> 1400 | O16: =C16+F16+I16+L16 -> 296 | P16: =D16+G16+J16+M16 -> 1696 | Q16: Mesevár Ovoda | R16: ='[3]int.bevételek RM I'!T16 -> 0 | T16: =SUM(R16:S16) -> 0 | U16: ='[3]int.bevételek RM I'!W16 -> 0 | W16: =SUM(U16:V16) -> 0 | X16: ='[3]int.bevételek RM I'!Z16 -> 0 | Z16: =SUM(X16:Y16) -> 0 | AA16: =R16+U16+X16 -> 0 | AB16: =S16+V16+Y16 -> 0 | AC16: =T16+W16+Z16 -> 0 | AD16: =N16+AA16 -> 1400 | AE16: =O16+AB16 -> 296 | AF16: =P16+AC16 -> 1696 | AG16: Mesevár Ovoda | AH16: ='[3]int.bevételek RM I'!AJ16 -> 1230 | AJ16: =SUM(AH16:AI16) -> 1230 | AK16: ='[3]int.bevételek RM I'!AM16 -> 181439 | AL16: 2131 | AM16: =SUM(AK16:AL16) -> 183570 | AN16: =N16+AA16+AH16+AK16 -> 184069 | AO16: =O16+AB16+AI16+AL16 -> 2427 | AP16: =P16+AC16+AJ16+AM16 -> 186496
A17: Játéksziget Óvoda | B17: ='[3]int.bevételek RM I'!D17 -> 1568 | D17: =SUM(B17:C17) -> 1568 | E17: ='[3]int.bevételek RM I'!G17 -> 0 | G17: =SUM(E17:F17) -> 0 | H17: ='[3]int.bevételek RM I'!J17 -> 0 | J17: =SUM(H17:I17) -> 0 | K17: ='[3]int.bevételek RM I'!M17 -> 0 | M17: =SUM(K17:L17) -> 0 | N17: =B17+E17+H17+K17 -> 1568 | O17: =C17+F17+I17+L17 -> 0 | P17: =D17+G17+J17+M17 -> 1568 | Q17: Játéksziget Óvoda | R17: ='[3]int.bevételek RM I'!T17 -> 0 | T17: =SUM(R17:S17) -> 0 | U17: ='[3]int.bevételek RM I'!W17 -> 0 | W17: =SUM(U17:V17) -> 0 | X17: ='[3]int.bevételek RM I'!Z17 -> 0 | Z17: =SUM(X17:Y17) -> 0 | AA17: =R17+U17+X17 -> 0 | AB17: =S17+V17+Y17 -> 0 | AC17: =T17+W17+Z17 -> 0 | AD17: =N17+AA17 -> 1568 | AE17: =O17+AB17 -> 0 | AF17: =P17+AC17 -> 1568 | AG17: Játéksziget Óvoda | AH17: ='[3]int.bevételek RM I'!AJ17 -> 957 | AJ17: =SUM(AH17:AI17) -> 957 | AK17: ='[3]int.bevételek RM I'!AM17 -> 194615 | AL17: 400 | AM17: =SUM(AK17:AL17) -> 195015 | AN17: =N17+AA17+AH17+AK17 -> 197140 | AO17: =O17+AB17+AI17+AL17 -> 400 | AP17: =P17+AC17+AJ17+AM17 -> 197540
A18: Kőrösi Csoma Sándor Utcai Óvoda | B18: ='[3]int.bevételek RM I'!D18 -> 880 | C18: 127 | D18: =SUM(B18:C18) -> 1007 | E18: ='[3]int.bevételek RM I'!G18 -> 0 | G18: =SUM(E18:F18) -> 0 | H18: ='[3]int.bevételek RM I'!J18 -> 0 | J18: =SUM(H18:I18) -> 0 | K18: ='[3]int.bevételek RM I'!M18 -> 0 | M18: =SUM(K18:L18) -> 0 | N18: =B18+E18+H18+K18 -> 880 | O18: =C18+F18+I18+L18 -> 127 | P18: =D18+G18+J18+M18 -> 1007 | Q18: Kőrösi Csoma Sándor Utcai Óvoda | R18: ='[3]int.bevételek RM I'!T18 -> 0 | T18: =SUM(R18:S18) -> 0 | U18: ='[3]int.bevételek RM I'!W18 -> 0 | W18: =SUM(U18:V18) -> 0 | X18: ='[3]int.bevételek RM I'!Z18 -> 0 | Z18: =SUM(X18:Y18) -> 0 | AA18: =R18+U18+X18 -> 0 | AB18: =S18+V18+Y18 -> 0 | AC18: =T18+W18+Z18 -> 0 | AD18: =N18+AA18 -> 880 | AE18: =O18+AB18 -> 127 | AF18: =P18+AC18 -> 1007 | AG18: Kőrösi Csoma Sándor Utcai Óvoda | AH18: ='[3]int.bevételek RM I'!AJ18 -> 1896 | AJ18: =SUM(AH18:AI18) -> 1896 | AK18: ='[3]int.bevételek RM I'!AM18 -> 282991 | AL18: 1881 | AM18: =SUM(AK18:AL18) -> 284872 | AN18: =N18+AA18+AH18+AK18 -> 285767 | AO18: =O18+AB18+AI18+AL18 -> 2008 | AP18: =P18+AC18+AJ18+AM18 -> 287775
A19: Gazdag Erzsi Óvoda | B19: ='[3]int.bevételek RM I'!D19 -> 3384 | C19: 1166 | D19: =SUM(B19:C19) -> 4550 | E19: ='[3]int.bevételek RM I'!G19 -> 0 | G19: =SUM(E19:F19) -> 0 | H19: ='[3]int.bevételek RM I'!J19 -> 0 | J19: =SUM(H19:I19) -> 0 | K19: ='[3]int.bevételek RM I'!M19 -> 0 | M19: =SUM(K19:L19) -> 0 | N19: =B19+E19+H19+K19 -> 3384 | O19: =C19+F19+I19+L19 -> 1166 | P19: =D19+G19+J19+M19 -> 4550 | Q19: Gazdag Erzsi Óvoda | R19: ='[3]int.bevételek RM I'!T19 -> 0 | T19: =SUM(R19:S19) -> 0 | U19: ='[3]int.bevételek RM I'!W19 -> 0 | W19: =SUM(U19:V19) -> 0 | X19: ='[3]int.bevételek RM I'!Z19 -> 0 | Z19: =SUM(X19:Y19) -> 0 | AA19: =R19+U19+X19 -> 0 | AB19: =S19+V19+Y19 -> 0 | AC19: =T19+W19+Z19 -> 0 | AD19: =N19+AA19 -> 3384 | AE19: =O19+AB19 -> 1166 | AF19: =P19+AC19 -> 4550 | AG19: Gazdag Erzsi Óvoda | AH19: ='[3]int.bevételek RM I'!AJ19 -> 5227 | AJ19: =SUM(AH19:AI19) -> 5227 | AK19: ='[3]int.bevételek RM I'!AM19 -> 323830 | AL19: 797 | AM19: =SUM(AK19:AL19) -> 324627 | AN19: =N19+AA19+AH19+AK19 -> 332441 | AO19: =O19+AB19+AI19+AL19 -> 1963 | AP19: =P19+AC19+AJ19+AM19 -> 334404
A20: Maros Óvoda | B20: ='[3]int.bevételek RM I'!D20 -> 124 | C20: 135 | D20: =SUM(B20:C20) -> 259 | E20: ='[3]int.bevételek RM I'!G20 -> 44 | G20: =SUM(E20:F20) -> 44 | H20: ='[3]int.bevételek RM I'!J20 -> 0 | J20: =SUM(H20:I20) -> 0 | K20: ='[3]int.bevételek RM I'!M20 -> 0 | M20: =SUM(K20:L20) -> 0 | N20: =B20+E20+H20+K20 -> 168 | O20: =C20+F20+I20+L20 -> 135 | P20: =D20+G20+J20+M20 -> 303 | Q20: Maros Óvoda | R20: ='[3]int.bevételek RM I'!T20 -> 0 | T20: =SUM(R20:S20) -> 0 | U20: ='[3]int.bevételek RM I'!W20 -> 0 | W20: =SUM(U20:V20) -> 0 | X20: ='[3]int.bevételek RM I'!Z20 -> 0 | Z20: =SUM(X20:Y20) -> 0 | AA20: =R20+U20+X20 -> 0 | AB20: =S20+V20+Y20 -> 0 | AC20: =T20+W20+Z20 -> 0 | AD20: =N20+AA20 -> 168 | AE20: =O20+AB20 -> 135 | AF20: =P20+AC20 -> 303 | AG20: Maros Óvoda | AH20: ='[3]int.bevételek RM I'!AJ20 -> 864 | AJ20: =SUM(AH20:AI20) -> 864 | AK20: ='[3]int.bevételek RM I'!AM20 -> 146970 | AL20: 901 | AM20: =SUM(AK20:AL20) -> 147871 | AN20: =N20+AA20+AH20+AK20 -> 148002 | AO20: =O20+AB20+AI20+AL20 -> 1036 | AP20: =P20+AC20+AJ20+AM20 -> 149038
A21: Vadvirág Óvoda | B21: ='[3]int.bevételek RM I'!D21 -> 1160 | C21: 57 | D21: =SUM(B21:C21) -> 1217 | E21: ='[3]int.bevételek RM I'!G21 -> 0 | G21: =SUM(E21:F21) -> 0 | H21: ='[3]int.bevételek RM I'!J21 -> 0 | J21: =SUM(H21:I21) -> 0 | K21: ='[3]int.bevételek RM I'!M21 -> 0 | M21: =SUM(K21:L21) -> 0 | N21: =B21+E21+H21+K21 -> 1160 | O21: =C21+F21+I21+L21 -> 57 | P21: =D21+G21+J21+M21 -> 1217 | Q21: Vadvirág Óvoda | R21: ='[3]int.bevételek RM I'!T21 -> 0 | T21: =SUM(R21:S21) -> 0 | U21: ='[3]int.bevételek RM I'!W21 -> 0 | W21: =SUM(U21:V21) -> 0 | X21: ='[3]int.bevételek RM I'!Z21 -> 0 | Z21: =SUM(X21:Y21) -> 0 | AA21: =R21+U21+X21 -> 0 | AB21: =S21+V21+Y21 -> 0 | AC21: =T21+W21+Z21 -> 0 | AD21: =N21+AA21 -> 1160 | AE21: =O21+AB21 -> 57 | AF21: =P21+AC21 -> 1217 | AG21: Vadvirág Óvoda | AH21: ='[3]int.bevételek RM I'!AJ21 -> 1185 | AJ21: =SUM(AH21:AI21) -> 1185 | AK21: ='[3]int.bevételek RM I'!AM21 -> 150794 | AL21: 429 | AM21: =SUM(AK21:AL21) -> 151223 | AN21: =N21+AA21+AH21+AK21 -> 153139 | AO21: =O21+AB21+AI21+AL21 -> 486 | AP21: =P21+AC21+AJ21+AM21 -> 153625
A22: Margaréta Óvoda | B22: ='[3]int.bevételek RM I'!D22 -> 2552 | D22: =SUM(B22:C22) -> 2552 | E22: ='[3]int.bevételek RM I'!G22 -> 24 | G22: =SUM(E22:F22) -> 24 | H22: ='[3]int.bevételek RM I'!J22 -> 0 | J22: =SUM(H22:I22) -> 0 | K22: ='[3]int.bevételek RM I'!M22 -> 0 | M22: =SUM(K22:L22) -> 0 | N22: =B22+E22+H22+K22 -> 2576 | O22: =C22+F22+I22+L22 -> 0 | P22: =D22+G22+J22+M22 -> 2576 | Q22: Margaréta Óvoda | R22: ='[3]int.bevételek RM I'!T22 -> 0 | T22: =SUM(R22:S22) -> 0 | U22: ='[3]int.bevételek RM I'!W22 -> 0 | W22: =SUM(U22:V22) -> 0 | X22: ='[3]int.bevételek RM I'!Z22 -> 0 | Z22: =SUM(X22:Y22) -> 0 | AA22: =R22+U22+X22 -> 0 | AB22: =S22+V22+Y22 -> 0 | AC22: =T22+W22+Z22 -> 0 | AD22: =N22+AA22 -> 2576 | AE22: =O22+AB22 -> 0 | AF22: =P22+AC22 -> 2576 | AG22: Margaréta Óvoda | AH22: ='[3]int.bevételek RM I'!AJ22 -> 1195 | AJ22: =SUM(AH22:AI22) -> 1195 | AK22: ='[3]int.bevételek RM I'!AM22 -> 182784 | AL22: 397 | AM22: =SUM(AK22:AL22) -> 183181 | AN22: =N22+AA22+AH22+AK22 -> 186555 | AO22: =O22+AB22+AI22+AL22 -> 397 | AP22: =P22+AC22+AJ22+AM22 -> 186952
A23: Napsugár Óvoda | B23: ='[3]int.bevételek RM I'!D23 -> 280 | C23: 64 | D23: =SUM(B23:C23) -> 344 | E23: ='[3]int.bevételek RM I'!G23 -> 49 | G23: =SUM(E23:F23) -> 49 | H23: ='[3]int.bevételek RM I'!J23 -> 0 | J23: =SUM(H23:I23) -> 0 | K23: ='[3]int.bevételek RM I'!M23 -> 0 | M23: =SUM(K23:L23) -> 0 | N23: =B23+E23+H23+K23 -> 329 | O23: =C23+F23+I23+L23 -> 64 | P23: =D23+G23+J23+M23 -> 393 | Q23: Napsugár Óvoda | R23: ='[3]int.bevételek RM I'!T23 -> 0 | T23: =SUM(R23:S23) -> 0 | U23: ='[3]int.bevételek RM I'!W23 -> 0 | W23: =SUM(U23:V23) -> 0 | X23: ='[3]int.bevételek RM I'!Z23 -> 0 | Z23: =SUM(X23:Y23) -> 0 | AA23: =R23+U23+X23 -> 0 | AB23: =S23+V23+Y23 -> 0 | AC23: =T23+W23+Z23 -> 0 | AD23: =N23+AA23 -> 329 | AE23: =O23+AB23 -> 64 | AF23: =P23+AC23 -> 393 | AG23: Napsugár Óvoda | AH23: ='[3]int.bevételek RM I'!AJ23 -> 2476 | AJ23: =SUM(AH23:AI23) -> 2476 | AK23: ='[3]int.bevételek RM I'!AM23 -> 222120 | AL23: 1807 | AM23: =SUM(AK23:AL23) -> 223927 | AN23: =N23+AA23+AH23+AK23 -> 224925 | AO23: =O23+AB23+AI23+AL23 -> 1871 | AP23: =P23+AC23+AJ23+AM23 -> 226796
A24: Szűrcsapó Óvoda | B24: ='[3]int.bevételek RM I'!D24 -> 1640 | C24: 176 | D24: =SUM(B24:C24) -> 1816 | E24: ='[3]int.bevételek RM I'!G24 -> 0 | G24: =SUM(E24:F24) -> 0 | H24: ='[3]int.bevételek RM I'!J24 -> 0 | I24: 86 | J24: =SUM(H24:I24) -> 86 | K24: ='[3]int.bevételek RM I'!M24 -> 0 | M24: =SUM(K24:L24) -> 0 | N24: =B24+E24+H24+K24 -> 1640 | O24: =C24+F24+I24+L24 -> 262 | P24: =D24+G24+J24+M24 -> 1902 | Q24: Szűrcsapó Óvoda | R24: ='[3]int.bevételek RM I'!T24 -> 0 | T24: =SUM(R24:S24) -> 0 | U24: ='[3]int.bevételek RM I'!W24 -> 0 | W24: =SUM(U24:V24) -> 0 | X24: ='[3]int.bevételek RM I'!Z24 -> 0 | Z24: =SUM(X24:Y24) -> 0 | AA24: =R24+U24+X24 -> 0 | AB24: =S24+V24+Y24 -> 0 | AC24: =T24+W24+Z24 -> 0 | AD24: =N24+AA24 -> 1640 | AE24: =O24+AB24 -> 262 | AF24: =P24+AC24 -> 1902 | AG24: Szűrcsapó Óvoda | AH24: ='[3]int.bevételek RM I'!AJ24 -> 1221 | AJ24: =SUM(AH24:AI24) -> 1221 | AK24: ='[3]int.bevételek RM I'!AM24 -> 314681 | AL24: 1838 | AM24: =SUM(AK24:AL24) -> 316519 | AN24: =N24+AA24+AH24+AK24 -> 317542 | AO24: =O24+AB24+AI24+AL24 -> 2100 | AP24: =P24+AC24+AJ24+AM24 -> 319642
A25: Mocorgó Óvoda | B25: ='[3]int.bevételek RM I'!D25 -> 329 | C25: 107 | D25: =SUM(B25:C25) -> 436 | E25: ='[3]int.bevételek RM I'!G25 -> 96 | G25: =SUM(E25:F25) -> 96 | H25: ='[3]int.bevételek RM I'!J25 -> 0 | J25: =SUM(H25:I25) -> 0 | K25: ='[3]int.bevételek RM I'!M25 -> 0 | M25: =SUM(K25:L25) -> 0 | N25: =B25+E25+H25+K25 -> 425 | O25: =C25+F25+I25+L25 -> 107 | P25: =D25+G25+J25+M25 -> 532 | Q25: Mocorgó Óvoda | R25: ='[3]int.bevételek RM I'!T25 -> 0 | T25: =SUM(R25:S25) -> 0 | U25: ='[3]int.bevételek RM I'!W25 -> 0 | W25: =SUM(U25:V25) -> 0 | X25: ='[3]int.bevételek RM I'!Z25 -> 0 | Z25: =SUM(X25:Y25) -> 0 | AA25: =R25+U25+X25 -> 0 | AB25: =S25+V25+Y25 -> 0 | AC25: =T25+W25+Z25 -> 0 | AD25: =N25+AA25 -> 425 | AE25: =O25+AB25 -> 107 | AF25: =P25+AC25 -> 532 | AG25: Mocorgó Óvoda | AH25: ='[3]int.bevételek RM I'!AJ25 -> 2113 | AJ25: =SUM(AH25:AI25) -> 2113 | AK25: ='[3]int.bevételek RM I'!AM25 -> 227601 | AL25: 425 | AM25: =SUM(AK25:AL25) -> 228026 | AN25: =N25+AA25+AH25+AK25 -> 230139 | AO25: =O25+AB25+AI25+AL25 -> 532 | AP25: =P25+AC25+AJ25+AM25 -> 230671
A26: Benczúr Gyula Utcai Óvoda | B26: ='[3]int.bevételek RM I'!D26 -> 1104 | D26: =SUM(B26:C26) -> 1104 | E26: ='[3]int.bevételek RM I'!G26 -> 0 | G26: =SUM(E26:F26) -> 0 | H26: ='[3]int.bevételek RM I'!J26 -> 0 | J26: =SUM(H26:I26) -> 0 | K26: ='[3]int.bevételek RM I'!M26 -> 0 | M26: =SUM(K26:L26) -> 0 | N26: =B26+E26+H26+K26 -> 1104 | O26: =C26+F26+I26+L26 -> 0 | P26: =D26+G26+J26+M26 -> 1104 | Q26: Benczúr Gyula Utcai Óvoda | R26: ='[3]int.bevételek RM I'!T26 -> 0 | T26: =SUM(R26:S26) -> 0 | U26: ='[3]int.bevételek RM I'!W26 -> 0 | W26: =SUM(U26:V26) -> 0 | X26: ='[3]int.bevételek RM I'!Z26 -> 0 | Z26: =SUM(X26:Y26) -> 0 | AA26: =R26+U26+X26 -> 0 | AB26: =S26+V26+Y26 -> 0 | AC26: =T26+W26+Z26 -> 0 | AD26: =N26+AA26 -> 1104 | AE26: =O26+AB26 -> 0 | AF26: =P26+AC26 -> 1104 | AG26: Benczúr Gyula Utcai Óvoda | AH26: ='[3]int.bevételek RM I'!AJ26 -> 799 | AJ26: =SUM(AH26:AI26) -> 799 | AK26: ='[3]int.bevételek RM I'!AM26 -> 181158 | AL26: 397 | AM26: =SUM(AK26:AL26) -> 181555 | AN26: =N26+AA26+AH26+AK26 -> 183061 | AO26: =O26+AB26+AI26+AL26 -> 397 | AP26: =P26+AC26+AJ26+AM26 -> 183458
A27: Weöres Sándor Óvoda | B27: ='[3]int.bevételek RM I'!D27 -> 1600 | C27: 405 | D27: =SUM(B27:C27) -> 2005 | E27: ='[3]int.bevételek RM I'!G27 -> 0 | G27: =SUM(E27:F27) -> 0 | H27: ='[3]int.bevételek RM I'!J27 -> 0 | J27: =SUM(H27:I27) -> 0 | K27: ='[3]int.bevételek RM I'!M27 -> 0 | M27: =SUM(K27:L27) -> 0 | N27: =B27+E27+H27+K27 -> 1600 | O27: =C27+F27+I27+L27 -> 405 | P27: =D27+G27+J27+M27 -> 2005 | Q27: Weöres Sándor Óvoda | R27: ='[3]int.bevételek RM I'!T27 -> 0 | T27: =SUM(R27:S27) -> 0 | U27: ='[3]int.bevételek RM I'!W27 -> 0 | W27: =SUM(U27:V27) -> 0 | X27: ='[3]int.bevételek RM I'!Z27 -> 0 | Z27: =SUM(X27:Y27) -> 0 | AA27: =R27+U27+X27 -> 0 | AB27: =S27+V27+Y27 -> 0 | AC27: =T27+W27+Z27 -> 0 | AD27: =N27+AA27 -> 1600 | AE27: =O27+AB27 -> 405 | AF27: =P27+AC27 -> 2005 | AG27: Weöres Sándor Óvoda | AH27: ='[3]int.bevételek RM I'!AJ27 -> 1228 | AJ27: =SUM(AH27:AI27) -> 1228 | AK27: ='[3]int.bevételek RM I'!AM27 -> 121141 | AL27: 700 | AM27: =SUM(AK27:AL27) -> 121841 | AN27: =N27+AA27+AH27+AK27 -> 123969 | AO27: =O27+AB27+AI27+AL27 -> 1105 | AP27: =P27+AC27+AJ27+AM27 -> 125074
A28: Óvodák összesen | B28: =SUM(B10:B27) -> 24733 | C28: =SUM(C10:C27) -> 2587 | D28: =SUM(D10:D27) -> 27320 | E28: =SUM(E10:E27) -> 568 | F28: =SUM(F10:F27) -> 0 | G28: =SUM(G10:G27) -> 568 | H28: =SUM(H10:H27) -> 0 | I28: =SUM(I10:I27) -> 86 | ... P28: =SUM(P10:P27) -> 27974 | Q28: Óvodák összesen | R28: =SUM(R10:R27) -> 0 | S28: =SUM(S10:S27) -> 0 | T28: =SUM(T10:T27) -> 0 | U28: =SUM(U10:U27) -> 0 | V28: =SUM(V10:V27) -> 0 | W28: =SUM(W10:W27) -> 0 | X28: =SUM(X10:X27) -> 0 | Y28: =SUM(Y10:Y27) -> 0 | ... AC28: =SUM(AC10:AC27) -> 0 | AD28: =N28+AA28 -> 25301 | AE28: =O28+AB28 -> 2673 | AF28: =P28+AC28 -> 27974 | AG28: Óvodák összesen | AH28: =SUM(AH10:AH27) -> 32923 | AI28: =SUM(AI10:AI27) -> 0 | AJ28: =SUM(AJ10:AJ27) -> 32923 | AK28: =SUM(AK10:AK27) -> 4116824 | AL28: =SUM(AL10:AL27) -> 54265 | AM28: =SUM(AM10:AM27) -> 4171089 | AN28: =SUM(AN10:AN27) -> 4175048 | AO28: =SUM(AO10:AO27) -> 56938 | AP28: =SUM(AP10:AP27) -> 4231986
A29: Szombathelyi Köznevelési GAMESZ | B29: ='[3]int.bevételek RM I'!D29 -> 694181 | C29: 1084 | D29: =SUM(B29:C29) -> 695265 | E29: ='[3]int.bevételek RM I'!G29 -> 1539 | F29: 2030 | G29: =SUM(E29:F29) -> 3569 | H29: ='[3]int.bevételek RM I'!J29 -> 0 | J29: =SUM(H29:I29) -> 0 | K29: ='[3]int.bevételek RM I'!M29 -> 0 | M29: =SUM(K29:L29) -> 0 | N29: =B29+E29+H29+K29 -> 695720 | O29: =C29+F29+I29+L29 -> 3114 | P29: =D29+G29+J29+M29 -> 698834 | Q29: Szombathelyi Köznevelési GAMESZ | R29: ='[3]int.bevételek RM I'!T29 -> 0 | T29: =SUM(R29:S29) -> 0 | U29: ='[3]int.bevételek RM I'!W29 -> 0 | W29: =SUM(U29:V29) -> 0 | X29: ='[3]int.bevételek RM I'!Z29 -> 0 | Z29: =SUM(X29:Y29) -> 0 | AA29: =R29+U29+X29 -> 0 | AB29: =S29+V29+Y29 -> 0 | AC29: =T29+W29+Z29 -> 0 | AD29: =N29+AA29 -> 695720 | AE29: =O29+AB29 -> 3114 | AF29: =P29+AC29 -> 698834 | AG29: Szombathelyi Köznevelési GAMESZ | AH29: ='[3]int.bevételek RM I'!AJ29 -> 5542 | AJ29: =SUM(AH29:AI29) -> 5542 | AK29: ='[3]int.bevételek RM I'!AM29 -> 2086397 | AL29: 12700 | AM29: =SUM(AK29:AL29) -> 2099097 | AN29: =N29+AA29+AH29+AK29 -> 2787659 | AO29: =O29+AB29+AI29+AL29 -> 15814 | AP29: =P29+AC29+AJ29+AM29 -> 2803473
A30: Oktatási intézmények összesen | B30: =B28+B29 -> 718914 | C30: =C28+C29 -> 3671 | D30: =D28+D29 -> 722585 | E30: =E28+E29 -> 2107 | F30: =F28+F29 -> 2030 | G30: =G28+G29 -> 4137 | H30: =H28+H29 -> 0 | I30: =I28+I29 -> 86 | ... P30: =P28+P29 -> 726808 | Q30: Oktatási intézmények összesen | R30: =R28+R29 -> 0 | S30: =S28+S29 -> 0 | T30: =T28+T29 -> 0 | U30: =U28+U29 -> 0 | V30: =V28+V29 -> 0 | W30: =W28+W29 -> 0 | X30: =X28+X29 -> 0 | Y30: =Y28+Y29 -> 0 | ... AC30: =AC28+AC29 -> 0 | AD30: =N30+AA30 -> 721021 | AE30: =O30+AB30 -> 5787 | AF30: =P30+AC30 -> 726808 | AG30: Oktatási intézmények összesen | AH30: =AH28+AH29 -> 38465 | AI30: =AI28+AI29 -> 0 | AJ30: =AJ28+AJ29 -> 38465 | AK30: =AK28+AK29 -> 6203221 | AL30: =AL28+AL29 -> 66965 | AM30: =AM28+AM29 -> 6270186 | AN30: =AN28+AN29 -> 6962707 | AO30: =AO28+AO29 -> 72752 | AP30: =AP28+AP29 -> 7035459
A31: Nem oktatási intézmények | Q31: Nem oktatási intézmények | AG31: Nem oktatási intézmények
A32: Kulturális intézmények | Q32: Kulturális intézmények | AG32: Kulturális intézmények
A33: Mesebolt Bábszínház | B33: ='[3]int.bevételek RM I'!D33 -> 38471 | D33: =SUM(B33:C33) -> 38471 | E33: ='[3]int.bevételek RM I'!G33 -> 88087 | G33: =SUM(E33:F33) -> 88087 | H33: ='[3]int.bevételek RM I'!J33 -> 0 | J33: =SUM(H33:I33) -> 0 | K33: ='[3]int.bevételek RM I'!M33 -> 0 | M33: =SUM(K33:L33) -> 0 | N33: =B33+E33+H33+K33 -> 126558 | O33: =C33+F33+I33+L33 -> 0 | P33: =D33+G33+J33+M33 -> 126558 | Q33: Mesebolt Bábszínház | R33: ='[3]int.bevételek RM I'!T33 -> 0 | T33: =SUM(R33:S33) -> 0 | U33: ='[3]int.bevételek RM I'!W33 -> 0 | W33: =SUM(U33:V33) -> 0 | X33: ='[3]int.bevételek RM I'!Z33 -> 0 | Z33: =SUM(X33:Y33) -> 0 | AA33: =R33+U33+X33 -> 0 | AB33: =S33+V33+Y33 -> 0 | AC33: =T33+W33+Z33 -> 0 | AD33: =N33+AA33 -> 126558 | AE33: =O33+AB33 -> 0 | AF33: =P33+AC33 -> 126558 | AG33: Mesebolt Bábszínház | AH33: ='[3]int.bevételek RM I'!AJ33 -> 53284 | AJ33: =SUM(AH33:AI33) -> 53284 | AK33: ='[3]int.bevételek RM I'!AM33 -> 125736 | AM33: =SUM(AK33:AL33) -> 125736 | AN33: =N33+AA33+AH33+AK33 -> 305578 | AO33: =O33+AB33+AI33+AL33 -> 0 | AP33: =P33+AC33+AJ33+AM33 -> 305578
A34: Savaria Szimfonikus Zenekar | B34: ='[3]int.bevételek RM I'!D34 -> 133344 | D34: =SUM(B34:C34) -> 133344 | E34: ='[3]int.bevételek RM I'!G34 -> 208152 | G34: =SUM(E34:F34) -> 208152 | H34: ='[3]int.bevételek RM I'!J34 -> 0 | J34: =SUM(H34:I34) -> 0 | K34: ='[3]int.bevételek RM I'!M34 -> 0 | M34: =SUM(K34:L34) -> 0 | N34: =B34+E34+H34+K34 -> 341496 | O34: =C34+F34+I34+L34 -> 0 | P34: =D34+G34+J34+M34 -> 341496 | Q34: Savaria Szimfonikus Zenekar | R34: ='[3]int.bevételek RM I'!T34 -> 0 | T34: =SUM(R34:S34) -> 0 | U34: ='[3]int.bevételek RM I'!W34 -> 12000 | W34: =SUM(U34:V34) -> 12000 | X34: ='[3]int.bevételek RM I'!Z34 -> 0 | Z34: =SUM(X34:Y34) -> 0 | AA34: =R34+U34+X34 -> 12000 | AB34: =S34+V34+Y34 -> 0 | AC34: =T34+W34+Z34 -> 12000 | AD34: =N34+AA34 -> 353496 | AE34: =O34+AB34 -> 0 | AF34: =P34+AC34 -> 353496 | AG34: Savaria Szimfonikus Zenekar | AH34: ='[3]int.bevételek RM I'!AJ34 -> 304325 | AJ34: =SUM(AH34:AI34) -> 304325 | AK34: ='[3]int.bevételek RM I'!AM34 -> 644378 | AL34: 426 | AM34: =SUM(AK34:AL34) -> 644804 | AN34: =N34+AA34+AH34+AK34 -> 1302199 | AO34: =O34+AB34+AI34+AL34 -> 426 | AP34: =P34+AC34+AJ34+AM34 -> 1302625
A35: Berzsenyi Dániel Könyvtár | B35: ='[3]int.bevételek RM I'!D35 -> 34400 | D35: =SUM(B35:C35) -> 34400 | E35: ='[3]int.bevételek RM I'!G35 -> 7000 | F35: 5675 | G35: =SUM(E35:F35) -> 12675 | H35: ='[3]int.bevételek RM I'!J35 -> 0 | J35: =SUM(H35:I35) -> 0 | K35: ='[3]int.bevételek RM I'!M35 -> 0 | M35: =SUM(K35:L35) -> 0 | N35: =B35+E35+H35+K35 -> 41400 | O35: =C35+F35+I35+L35 -> 5675 | P35: =D35+G35+J35+M35 -> 47075 | Q35: Berzsenyi Dániel Könyvtár | R35: ='[3]int.bevételek RM I'!T35 -> 0 | T35: =SUM(R35:S35) -> 0 | U35: ='[3]int.bevételek RM I'!W35 -> 0 | W35: =SUM(U35:V35) -> 0 | X35: ='[3]int.bevételek RM I'!Z35 -> 0 | Z35: =SUM(X35:Y35) -> 0 | AA35: =R35+U35+X35 -> 0 | AB35: =S35+V35+Y35 -> 0 | AC35: =T35+W35+Z35 -> 0 | AD35: =N35+AA35 -> 41400 | AE35: =O35+AB35 -> 5675 | AF35: =P35+AC35 -> 47075 | AG35: Berzsenyi Dániel Könyvtár | AH35: ='[3]int.bevételek RM I'!AJ35 -> 32419 | AJ35: =SUM(AH35:AI35) -> 32419 | AK35: ='[3]int.bevételek RM I'!AM35 -> 532286 | AM35: =SUM(AK35:AL35) -> 532286 | AN35: =N35+AA35+AH35+AK35 -> 606105 | AO35: =O35+AB35+AI35+AL35 -> 5675 | AP35: =P35+AC35+AJ35+AM35 -> 611780
A36: Savaria Múzeum | B36: ='[3]int.bevételek RM I'!D36 -> 154078 | D36: =SUM(B36:C36) -> 154078 | E36: ='[3]int.bevételek RM I'!G36 -> 52707 | F36: 24962 | G36: =SUM(E36:F36) -> 77669 | H36: ='[3]int.bevételek RM I'!J36 -> 0 | J36: =SUM(H36:I36) -> 0 | K36: ='[3]int.bevételek RM I'!M36 -> 0 | M36: =SUM(K36:L36) -> 0 | N36: =B36+E36+H36+K36 -> 206785 | O36: =C36+F36+I36+L36 -> 24962 | P36: =D36+G36+J36+M36 -> 231747 | Q36: Savaria Múzeum | R36: ='[3]int.bevételek RM I'!T36 -> 0 | T36: =SUM(R36:S36) -> 0 | U36: ='[3]int.bevételek RM I'!W36 -> 600 | W36: =SUM(U36:V36) -> 600 | X36: ='[3]int.bevételek RM I'!Z36 -> 0 | Z36: =SUM(X36:Y36) -> 0 | AA36: =R36+U36+X36 -> 600 | AB36: =S36+V36+Y36 -> 0 | AC36: =T36+W36+Z36 -> 600 | AD36: =N36+AA36 -> 207385 | AE36: =O36+AB36 -> 24962 | AF36: =P36+AC36 -> 232347 | AG36: Savaria Múzeum | AH36: ='[3]int.bevételek RM I'!AJ36 -> 71319 | AJ36: =SUM(AH36:AI36) -> 71319 | AK36: ='[3]int.bevételek RM I'!AM36 -> 808506 | AL36: 640 | AM36: =SUM(AK36:AL36) -> 809146 | AN36: =N36+AA36+AH36+AK36 -> 1087210 | AO36: =O36+AB36+AI36+AL36 -> 25602 | AP36: =P36+AC36+AJ36+AM36 -> 1112812
A37: Összesen | B37: =SUM(B33:B36) -> 360293 | C37: =SUM(C33:C36) -> 0 | D37: =SUM(D33:D36) -> 360293 | E37: =SUM(E33:E36) -> 355946 | F37: =SUM(F33:F36) -> 30637 | G37: =SUM(G33:G36) -> 386583 | H37: =SUM(H33:H36) -> 0 | I37: =SUM(I33:I36) -> 0 | ... P37: =SUM(P33:P36) -> 746876 | Q37: Összesen | R37: =SUM(R33:R36) -> 0 | S37: =SUM(S33:S36) -> 0 | T37: =SUM(T33:T36) -> 0 | U37: =SUM(U33:U36) -> 12600 | V37: =SUM(V33:V36) -> 0 | W37: =SUM(W33:W36) -> 12600 | X37: =SUM(X33:X36) -> 0 | Y37: =SUM(Y33:Y36) -> 0 | ... AC37: =SUM(AC33:AC36) -> 12600 | AD37: =N37+AA37 -> 728839 | AE37: =O37+AB37 -> 30637 | AF37: =P37+AC37 -> 759476 | AG37: Összesen | AH37: =SUM(AH33:AH36) -> 461347 | AI37: =SUM(AI33:AI36) -> 0 | AJ37: =SUM(AJ33:AJ36) -> 461347 | AK37: =SUM(AK33:AK36) -> 2110906 | AL37: =SUM(AL33:AL36) -> 1066 | AM37: =SUM(AM33:AM36) -> 2111972 | AN37: =SUM(AN33:AN36) -> 3301092 | AO37: =SUM(AO33:AO36) -> 31703 | AP37: =SUM(AP33:AP36) -> 3332795
A38: Szociális intézmény | Q38: Szociális intézmény | AG38: Szociális intézmény
A39: Pálos Károly Szociális Szolgáltató Központ és Gyermekjóléti Szolgálat | B39: ='[3]int.bevételek RM I'!D39 -> 254185 | C39: 26045 | D39: =SUM(B39:C39) -> 280230 | E39: ='[3]int.bevételek RM I'!G39 -> 0 | F39: 6561 | G39: =SUM(E39:F39) -> 6561 | H39: ='[3]int.bevételek RM I'!J39 -> 0 | I39: 430 | J39: =SUM(H39:I39) -> 430 | K39: ='[3]int.bevételek RM I'!M39 -> 0 | M39: =SUM(K39:L39) -> 0 | N39: =B39+E39+H39+K39 -> 254185 | O39: =C39+F39+I39+L39 -> 33036 | P39: =D39+G39+J39+M39 -> 287221 | Q39: Pálos Károly Szociális Szolgáltató Központ és Gyermekjóléti Szolgálat | R39: ='[3]int.bevételek RM I'!T39 -> 0 | T39: =SUM(R39:S39) -> 0 | U39: ='[3]int.bevételek RM I'!W39 -> 0 | W39: =SUM(U39:V39) -> 0 | X39: ='[3]int.bevételek RM I'!Z39 -> 0 | Z39: =SUM(X39:Y39) -> 0 | AA39: =R39+U39+X39 -> 0 | AB39: =S39+V39+Y39 -> 0 | AC39: =T39+W39+Z39 -> 0 | AD39: =N39+AA39 -> 254185 | AE39: =O39+AB39 -> 33036 | AF39: =P39+AC39 -> 287221 | AG39: Pálos Károly Szociális Szolgáltató Központ és Gyermekjóléti Szolgálat | AH39: ='[3]int.bevételek RM I'!AJ39 -> 2784 | AJ39: =SUM(AH39:AI39) -> 2784 | AK39: ='[3]int.bevételek RM I'!AM39 -> 1754503 | AL39: 110677 | AM39: =SUM(AK39:AL39) -> 1865180 | AN39: =N39+AA39+AH39+AK39 -> 2011472 | AO39: =O39+AB39+AI39+AL39 -> 143713 | AP39: =P39+AC39+AJ39+AM39 -> 2155185
A40: Egészségügyi intézmény | Q40: Egészségügyi intézmény | AG40: Egészségügyi intézmény | AK40: ='[3]int.bevételek RM I'!AM40 -> 0
A41: Szombathelyi Egészségügyi és Kulturális GESZ | B41: ='[3]int.bevételek RM I'!D41 -> 70816 | D41: =SUM(B41:C41) -> 70816 | E41: ='[3]int.bevételek RM I'!G41 -> 532064 | G41: =SUM(E41:F41) -> 532064 | H41: ='[3]int.bevételek RM I'!J41 -> 0 | J41: =SUM(H41:I41) -> 0 | K41: ='[3]int.bevételek RM I'!M41 -> 0 | M41: =SUM(K41:L41) -> 0 | N41: =B41+E41+H41+K41 -> 602880 | O41: =C41+F41+I41+L41 -> 0 | P41: =D41+G41+J41+M41 -> 602880 | Q41: Szombathelyi Egészségügyi és Kulturális GESZ | R41: ='[3]int.bevételek RM I'!T41 -> 0 | T41: =SUM(R41:S41) -> 0 | U41: ='[3]int.bevételek RM I'!W41 -> 0 | W41: =SUM(U41:V41) -> 0 | X41: ='[3]int.bevételek RM I'!Z41 -> 0 | AA41: =R41+U41+X41 -> 0 | AB41: =S41+V41+Y41 -> 0 | AC41: =T41+W41+Z41 -> 0 | AD41: =N41+AA41 -> 602880 | AE41: =O41+AB41 -> 0 | AF41: =P41+AC41 -> 602880 | AG41: Szombathelyi Egészségügyi és Kulturális GESZ | AH41: ='[3]int.bevételek RM I'!AJ41 -> 154463 | AJ41: =SUM(AH41:AI41) -> 154463 | AK41: ='[3]int.bevételek RM I'!AM41 -> 401909 | AL41: 2553 | AM41: =SUM(AK41:AL41) -> 404462 | AN41: =N41+AA41+AH41+AK41 -> 1159252 | AO41: =O41+AB41+AI41+AL41 -> 2553 | AP41: =P41+AC41+AJ41+AM41 -> 1161805
A42: Gyermekvédelmi intézmény | Q42: Gyermekvédelmi intézmény | AG42: Gyermekvédelmi intézmény | AK42: ='[3]int.bevételek RM I'!AM42 -> 0
A43: Szombathelyi Egyesített Bölcsődei Intézmény | B43: ='[3]int.bevételek RM I'!D43 -> 86282 | D43: =SUM(B43:C43) -> 86282 | E43: ='[3]int.bevételek RM I'!G43 -> 12181 | F43: 7982 | G43: =SUM(E43:F43) -> 20163 | H43: ='[3]int.bevételek RM I'!J43 -> 0 | J43: =SUM(H43:I43) -> 0 | K43: ='[3]int.bevételek RM I'!M43 -> 0 | M43: =SUM(K43:L43) -> 0 | N43: =B43+E43+H43+K43 -> 98463 | O43: =C43+F43+I43+L43 -> 7982 | P43: =D43+G43+J43+M43 -> 106445 | Q43: Szombathelyi Egyesített Bölcsődei Intézmény | R43: ='[3]int.bevételek RM I'!T43 -> 0 | T43: =SUM(R43:S43) -> 0 | U43: ='[3]int.bevételek RM I'!W43 -> 0 | W43: =SUM(U43:V43) -> 0 | X43: ='[3]int.bevételek RM I'!Z43 -> 0 | Z43: =SUM(X43:Y43) -> 0 | AA43: =R43+U43+X43 -> 0 | AB43: =S43+V43+Y43 -> 0 | AC43: =T43+W43+Z43 -> 0 | AD43: =N43+AA43 -> 98463 | AE43: =O43+AB43 -> 7982 | AF43: =P43+AC43 -> 106445 | AG43: Szombathelyi Egyesített Bölcsődei Intézmény | AH43: ='[3]int.bevételek RM I'!AJ43 -> 3629 | AJ43: =SUM(AH43:AI43) -> 3629 | AK43: ='[3]int.bevételek RM I'!AM43 -> 2220369 | AL43: 38266 | AM43: =SUM(AK43:AL43) -> 2258635 | AN43: =N43+AA43+AH43+AK43 -> 2322461 | AO43: =O43+AB43+AI43+AL43 -> 46248 | AP43: =P43+AC43+AJ43+AM43 -> 2368709
A44: Egyéb intézmények | Q44: Egyéb intézmények | AG44: Egyéb intézmények
A45: Szombathely Városi Vásárcsarnok | B45: ='[3]int.bevételek RM I'!D45 -> 203300 | D45: =SUM(B45:C45) -> 203300 | E45: ='[3]int.bevételek RM I'!G45 -> 0 | G45: =SUM(E45:F45) -> 0 | H45: ='[3]int.bevételek RM I'!J45 -> 0 | J45: =SUM(H45:I45) -> 0 | K45: ='[3]int.bevételek RM I'!M45 -> 0 | M45: =SUM(K45:L45) -> 0 | N45: =B45+E45+H45+K45 -> 203300 | O45: =C45+F45+I45+L45 -> 0 | P45: =D45+G45+J45+M45 -> 203300 | Q45: Szombathely Városi Vásárcsarnok | R45: ='[3]int.bevételek RM I'!T45 -> 0 | T45: =SUM(R45:S45) -> 0 | U45: ='[3]int.bevételek RM I'!W45 -> 0 | W45: =SUM(U45:V45) -> 0 | X45: ='[3]int.bevételek RM I'!Z45 -> 0 | Z45: =SUM(X45:Y45) -> 0 | AA45: =R45+U45+X45 -> 0 | AB45: =S45+V45+Y45 -> 0 | AC45: =T45+W45+Z45 -> 0 | AD45: =N45+AA45 -> 203300 | AE45: =O45+AB45 -> 0 | AF45: =P45+AC45 -> 203300 | AG45: Szombathely Városi Vásárcsarnok | AH45: ='[3]int.bevételek RM I'!AJ45 -> 15005 | AJ45: =SUM(AH45:AI45) -> 15005 | AK45: ='[3]int.bevételek RM I'!AM45 -> 34700 | AM45: =SUM(AK45:AL45) -> 34700 | AN45: =N45+AA45+AH45+AK45 -> 253005 | AO45: =O45+AB45+AI45+AL45 -> 0 | AP45: =P45+AC45+AJ45+AM45 -> 253005
A46: Szombathelyi Parkfenntartó Intézmény | B46: ='[3]int.bevételek RM I'!D46 -> 21537 | D46: =SUM(B46:C46) -> 21537 | E46: ='[3]int.bevételek RM I'!G46 -> 0 | G46: =SUM(E46:F46) -> 0 | H46: ='[3]int.bevételek RM I'!J46 -> 0 | J46: =SUM(H46:I46) -> 0 | K46: ='[3]int.bevételek RM I'!M46 -> 0 | M46: =SUM(K46:L46) -> 0 | N46: =B46+E46+H46+K46 -> 21537 | O46: =C46+F46+I46+L46 -> 0 | P46: =D46+G46+J46+M46 -> 21537 | Q46: Szombathelyi Parkfenntartó Intézmény | R46: ='[3]int.bevételek RM I'!T46 -> 14416 | S46: 4134 | T46: =SUM(R46:S46) -> 18550 | U46: ='[3]int.bevételek RM I'!W46 -> 0 | W46: =SUM(U46:V46) -> 0 | X46: ='[3]int.bevételek RM I'!Z46 -> 0 | Z46: =SUM(X46:Y46) -> 0 | AA46: =R46+U46+X46 -> 14416 | AB46: =S46+V46+Y46 -> 4134 | AC46: =T46+W46+Z46 -> 18550 | AD46: =N46+AA46 -> 35953 | AE46: =O46+AB46 -> 4134 | AF46: =P46+AC46 -> 40087 | AG46: Szombathelyi Parkfenntartó Intézmény | AH46: ='[3]int.bevételek RM I'!AJ46 -> 0 | AJ46: =SUM(AH46:AI46) -> 0 | AK46: ='[3]int.bevételek RM I'!AM46 -> 494966 | AM46: =SUM(AK46:AL46) -> 494966 | AN46: =N46+AA46+AH46+AK46 -> 530919 | AO46: =O46+AB46+AI46+AL46 -> 4134 | AP46: =P46+AC46+AJ46+AM46 -> 535053
A47: Polgármesteri Hivatal | B47: ='[3]int.bevételek RM I'!D47 -> 21655 | C47: 1406 | D47: =SUM(B47:C47) -> 23061 | E47: ='[3]int.bevételek RM I'!G47 -> 64645 | F47: 3555 | G47: =SUM(E47:F47) -> 68200 | H47: ='[3]int.bevételek RM I'!J47 -> 1000 | J47: =SUM(H47:I47) -> 1000 | K47: ='[3]int.bevételek RM I'!M47 -> 1350 | M47: =SUM(K47:L47) -> 1350 | N47: =B47+E47+H47+K47 -> 88650 | O47: =C47+F47+I47+L47 -> 4961 | P47: =D47+G47+J47+M47 -> 93611 | Q47: Polgármesteri Hivatal | R47: ='[3]int.bevételek RM I'!T47 -> 0 | S47: 100 | T47: =SUM(R47:S47) -> 100 | U47: ='[3]int.bevételek RM I'!W47 -> 0 | W47: =SUM(U47:V47) -> 0 | X47: ='[3]int.bevételek RM I'!Z47 -> 0 | Z47: =SUM(X47:Y47) -> 0 | AA47: =R47+U47+X47 -> 0 | AB47: =S47+V47+Y47 -> 100 | AC47: =T47+W47+Z47 -> 100 | AD47: =N47+AA47 -> 88650 | AE47: =O47+AB47 -> 5061 | AF47: =P47+AC47 -> 93711 | AG47: Polgármesteri Hivatal | AH47: ='[3]int.bevételek RM I'!AJ47 -> 9929 | AJ47: =SUM(AH47:AI47) -> 9929 | AK47: ='[3]int.bevételek RM I'!AM47 -> 3600013 | AL47: 18934 | AM47: =SUM(AK47:AL47) -> 3618947 | AN47: =N47+AA47+AH47+AK47 -> 3698592 | AO47: =O47+AB47+AI47+AL47 -> 23995 | AP47: =P47+AC47+AJ47+AM47 -> 3722587
A48: Összesen | B48: =SUM(B45:B47) -> 246492 | C48: =SUM(C45:C47) -> 1406 | D48: =SUM(D45:D47) -> 247898 | E48: =SUM(E45:E47) -> 64645 | F48: =SUM(F45:F47) -> 3555 | G48: =SUM(G45:G47) -> 68200 | H48: =SUM(H45:H47) -> 1000 | I48: =SUM(I45:I47) -> 0 | ... P48: =SUM(P45:P47) -> 318448 | Q48: Összesen | R48: =SUM(R45:R47) -> 14416 | S48: =SUM(S45:S47) -> 4234 | T48: =SUM(T45:T47) -> 18650 | U48: =SUM(U45:U47) -> 0 | V48: =SUM(V45:V47) -> 0 | W48: =SUM(W45:W47) -> 0 | X48: =SUM(X45:X47) -> 0 | Y48: =SUM(Y45:Y47) -> 0 | ... AC48: =SUM(AC45:AC47) -> 18650 | AD48: =N48+AA48 -> 327903 | AE48: =O48+AB48 -> 9195 | AF48: =P48+AC48 -> 337098 | AG48: Összesen | AH48: =SUM(AH45:AH47) -> 24934 | AI48: =SUM(AI45:AI47) -> 0 | AJ48: =SUM(AJ45:AJ47) -> 24934 | AK48: =SUM(AK45:AK47) -> 4129679 | AL48: =SUM(AL45:AL47) -> 18934 | AM48: =SUM(AM45:AM47) -> 4148613 | AN48: =SUM(AN45:AN47) -> 4482516 | AO48: =SUM(AO45:AO47) -> 28129 | AP48: =SUM(AP45:AP47) -> 4510645
A49: Nem oktatási intézmények összesen | B49: =B37+B39+B41+B43+B48 -> 1018068 | C49: =C37+C39+C41+C43+C48 -> 27451 | D49: =D37+D39+D41+D43+D48 -> 1045519 | E49: =E37+E39+E41+E43+E48 -> 964836 | F49: =F37+F39+F41+F43+F48 -> 48735 | G49: =G37+G39+G41+G43+G48 -> 1013571 | H49: =H37+H39+H41+H43+H48 -> 1000 | I49: =I37+I39+I41+I43+I48 -> 430 | ... P49: =P37+P39+P41+P43+P48 -> 2061870 | Q49: Nem oktatási intézmények összesen | R49: =R37+R39+R41+R43+R48 -> 14416 | S49: =S37+S39+S41+S43+S48 -> 4234 | T49: =T37+T39+T41+T43+T48 -> 18650 | U49: =U37+U39+U41+U43+U48 -> 12600 | V49: =V37+V39+V41+V43+V48 -> 0 | W49: =W37+W39+W41+W43+W48 -> 12600 | X49: =X37+X39+X41+X43+X48 -> 0 | Y49: =Y37+Y39+Y41+Y43+Y48 -> 0 | ... AF49: =AF37+AF39+AF41+AF43+AF48 -> 2093120 | AG49: Nem oktatási intézmények összesen | AH49: =AH37+AH39+AH41+AH43+AH48 -> 647157 | AI49: =AI37+AI39+AI41+AI43+AI48 -> 0 | AJ49: =AJ37+AJ39+AJ41+AJ43+AJ48 -> 647157 | AK49: =AK37+AK39+AK41+AK43+AK48 -> 10617366 | AL49: =AL37+AL39+AL41+AL43+AL48 -> 171496 | AM49: =AM37+AM39+AM41+AM43+AM48 -> 10788862 | AN49: =AN37+AN39+AN41+AN43+AN48 -> 13276793 | AO49: =AO37+AO39+AO41+AO43+AO48 -> 252346 | AP49: =AP37+AP39+AP41+AP43+AP48 -> 13529139
A50: Intézmények mindösszesen | B50: =B30+B49 -> 1736982 | C50: =C30+C49 -> 31122 | D50: =D30+D49 -> 1768104 | E50: =E30+E49 -> 966943 | F50: =F30+F49 -> 50765 | G50: =G30+G49 -> 1017708 | H50: =H30+H49 -> 1000 | I50: =I30+I49 -> 516 | ... P50: =P30+P49 -> 2788678 | Q50: Intézmények mindösszesen | R50: =R30+R49 -> 14416 | S50: =S30+S49 -> 4234 | T50: =T30+T49 -> 18650 | U50: =U30+U49 -> 12600 | V50: =V30+V49 -> 0 | W50: =W30+W49 -> 12600 | X50: =X30+X49 -> 0 | Y50: =Y30+Y49 -> 0 | ... AF50: =AF30+AF49 -> 2819928 | AG50: Intézmények mindösszesen | AH50: =AH30+AH49 -> 685622 | AI50: =AI30+AI49 -> 0 | AJ50: =AJ30+AJ49 -> 685622 | AK50: =AK30+AK49 -> 16820587 | AL50: =AL30+AL49 -> 238461 | AM50: =AM30+AM49 -> 17059048 | AN50: =AN30+AN49 -> 20239500 | AO50: =AO30+AO49 -> 325098 | AP50: =AP30+AP49 -> 20564598

Sheet 5 normatíva
A1: Szombathely Megyei Jogú Város Önkormányzata általános működésének és ágazati feladatainak támogatása
A2: és a helyi önkormányzatok kiegészítő támogatásai
F3: ezer Forinban
A4: Önkormányzat általános működésének és ágazati feladatainak támogatása (Költségvetési törvény 2. melléklet) | B4: 2025. év teljesítés | C4: 2026. év eredeti előirányzat | D4: 2026. év I. sz. módosított előirányzat | E4: javasolt módosítás | F4: 2026. év II. sz. módosított előirányzat
A5: 1.1. TELEPÜLÉSI ÖNKORMÁNYZATOK MŰKÖDÉSÉNEK ÁLTALÁNOS TÁMOGATÁSA
A6: 1.1.1. Önkormányzati hivatal működésének támogatása | B6: 1118971 | C6: 1191814 | D6: 1191814 | F6: =SUM(D6:E6) -> 1191814
A7: 1.1.2. Településüzemeltetés - zöldterület gazdálkodás támogatása | B7: 83153 | C7: 83156 | D7: 83156 | F7: =SUM(D7:E7) -> 83156
A8: 1.1.3. Településüzemeltetés - közvilágítás támogatása | B8: 218067 | C8: 203786 | D8: 203786 | F8: =SUM(D8:E8) -> 203786
A9: 1.1.4. Településüzemeltetés - köztemető támogatása | B9: 100 | C9: 30744 | D9: 30744 | F9: =SUM(D9:E9) -> 30744
A10: 1.1.5. Településüzemeltetés - közutak támogatása | B10: 131036 | C10: 131036 | D10: 131036 | F10: =SUM(D10:E10) -> 131036
A11: 1.1.6. Egyéb önkormányzati feladatok támogatása | B11: 207617 | C11: 206662 | D11: 206662 | F11: =SUM(D11:E11) -> 206662
A12: 1.1.7. Lakott külterülettel kapcsolatos feladatok támogatása | B12: 224 | C12: 230 | D12: 230 | F12: =SUM(D12:E12) -> 230
A13: 1.1.8. Nem közművel összegyűjtött háztartási szennyvíz ártalmatlanítása | B13: 676 | C13: 675 | D13: 675 | F13: =SUM(D13:E13) -> 675
A14: A HELYI ÖNKORMÁNYZATOK MŰKÖDÉSÉNEK ÁLTALÁNOS TÁMOGATÁSA ÖSSZESEN | B14: =SUM(B5:B13) -> 1759844 | C14: =SUM(C5:C13) -> 1848103 | D14: =SUM(D5:D13) -> 1848103 | E14: =SUM(E5:E13) -> 0 | F14: =SUM(F5:F13) -> 1848103
A15: 1.2. A TELEPÜLÉSI ÖNKORMÁNYZATOK EGYES KÖZNEVELÉSI FELADATAINAK TÁMOGATÁSA
A16: 1.2.1. Óvodaműködtetési támogatás
A17: 1.2.1.1. Óvoda működtetési támogatás - Óvoda napi nyitvatartási ideje eléri a 8 órát | B17: 372845 | C17: 370380 | D17: 370380 | E17: ='[4]2026.májusi-mutatószám '!E17+'[4]2026.májusi fajlagosem-ped.bér'!E17 -> 1896 | F17: =SUM(D17:E17) -> 372276
A18: 1.2.2. Az óvodában foglalkoztatott pedagógusok átlagbéralapú támogatása
A19: 1.2.2.1 Pedagógusok átlagbéralapú támogatása | B19: 2057637 | C19: 2292000 | D19: 2326440 | E19: ='[4]2026.májusi-mutatószám '!E19+'[4]2026.májusi fajlagosem-ped.bér'!E19 -> 21800 | F19: =SUM(D19:E19) -> 2348240
A20: 1.2.3. Kiegészítő támogatás a pedagógusok és a pedagógus szakképzettséggel rendelkező segítők minosítésébol adódó többletkiadásaihoz
A21: 1.2.3.1. Napi 8 órát elérő nyitvatartási idővel rendelkező óvodában foglalkoztatott
A22: 1.2.3.1.1.Alapfokozatú végzettségű
A23: 1.2.3.1.1.1. Pedagógus II.kategóriába sorolt pedagógusok , ped.szakképzettséggel rendelkező segítők kiegészítő támogatása | B23: 51619 | C23: 55448 | D23: 55448 | E23: ='[4]2026.májusi-mutatószám '!E23+'[4]2026.májusi fajlagosem-ped.bér'!E23 -> 1804 | F23: =SUM(D23:E23) -> 57252
A24: ebből - óvodák | B24: 49707 | C24: 52580 | D24: 52580 | E24: ='[4]2026.májusi-mutatószám '!E24+'[4]2026.májusi fajlagosem-ped.bér'!E24 -> 1412 | F24: =SUM(D24:E24) -> 53992
A25: - Egyesített Bölcsődei Intézmény | B25: 1912 | C25: 2868 | D25: 2868 | E25: ='[4]2026.májusi-mutatószám '!E25+'[4]2026.májusi fajlagosem-ped.bér'!E25 -> 392 | F25: =SUM(D25:E25) -> 3260
A26: 1.2.3.1.1.2. Mesterpedagógus, kutatótanár kategóriába sorolt pedagógusok kiegészítő támogatása | B26: 51856 | C26: 57040 | D26: 57040 | E26: ='[4]2026.májusi-mutatószám '!E26+'[4]2026.májusi fajlagosem-ped.bér'!E26 -> -4086 | F26: =SUM(D26:E26) -> 52954
A27: 1.2.3.1.2. Mesterfokú végzettségű
A28: 1.2.3.1.2.1. Pedagógus II.kategóriába sorolt pedagógusok , ped.szakképzettséggel rendelkező segítők kiegészítő támogatása | B28: 3141 | C28: 3456 | D28: 3456 | E28: ='[4]2026.májusi-mutatószám '!E28+'[4]2026.májusi fajlagosem-ped.bér'!E28 -> 12 | F28: =SUM(D28:E28) -> 3468
A29: ebből - óvodák | B29: 1047 | C29: 1152 | D29: 1152 | E29: ='[4]2026.májusi-mutatószám '!E29+'[4]2026.májusi fajlagosem-ped.bér'!E29 -> 4 | F29: =SUM(D29:E29) -> 1156
A30: - Egyesített Bölcsődei Intézmény | B30: 2094 | C30: 2304 | D30: 2304 | E30: ='[4]2026.májusi-mutatószám '!E30+'[4]2026.májusi fajlagosem-ped.bér'!E30 -> 8 | F30: =SUM(D30:E30) -> 2312
A31: 1.2.3.1.2.2. Mesterpedagógus, kutatótanár kategóriába sorolt pedagógusok kiegészítő támogatása | B31: 3660 | C31: 8052 | D31: 8052 | E31: ='[4]2026.májusi-mutatószám '!E31+'[4]2026.májusi fajlagosem-ped.bér'!E31 -> 30 | F31: =SUM(D31:E31) -> 8082
A32: 1.2.4. Nemzetiségi pótlék
A33: 1.2.4.1. Napi 8 órát elérő nyitvatartási idővel rendelkező óvodában foglalkoztatott
A34: 1.2.4.1.1.Nemzetiségi pótlékban részesülő pedagógus - pótlék felső határa | B34: 13904 | C34: 15296 | D34: 15296 | E34: ='[4]2026.májusi-mutatószám '!E34+'[4]2026.májusi fajlagosem-ped.bér'!E34 -> 56 | F34: =SUM(D34:E34) -> 15352
A35: 1.2.5. Az óvodában foglalkoztatott pedagógusok nevelőmunkáját közvetlenül segítők átlagbéralapú támogatása
A36: 1.2.5.1. Napi 8 órát elérő nyitvatartási idővel rendelkező óvodában foglalkoztatott
A37: 1.2.5.1.1.pedagógus szakképzettséggel nem rendelkező segítők átlagbéralapú támogatása | B37: 723296 | C37: 773813 | D37: 773813 | E37: ='[4]2026.májusi-mutatószám '!E37+'[4]2026.májusi fajlagosem-ped.bér'!E37 -> -8350 | F37: =SUM(D37:E37) -> 765463
A38: 1.2.5.1.2.pedagógus szakképzettséggel rendelkező segítők átlagbéralapú támogatása | B38: 87014 | C38: 80220 | D38: 81425 | E38: ='[4]2026.májusi-mutatószám '!E38+'[4]2026.májusi fajlagosem-ped.bér'!E38 -> 17530 | F38: =SUM(D38:E38) -> 98955
A39: 1.2.7. Diabétesz ellátási pótlék | B39: 1738 | C39: 1912 | D39: 1912 | E39: ='[4]2026.májusi-mutatószám '!E39+'[4]2026.májusi fajlagosem-ped.bér'!E39 -> 6 | F39: =SUM(D39:E39) -> 1918
A40: 1.2. A TELEPÜLÉSI ÖNKORMÁNYZATOK EGYES KÖZNEVELÉSI FELADATAINAK TÁMOGATÁSA ÖSSZESEN | B40: =SUM(B15:B39)-B24-B25-B29-B30 -> 3366710 | C40: =SUM(C15:C39)-C24-C25-C29-C30 -> 3657617 | D40: =SUM(D15:D39)-D24-D25-D29-D30 -> 3693262 | E40: =SUM(E15:E39)-E24-E25-E29-E30 -> 30698 | F40: =SUM(F15:F39)-F24-F25-F29-F30 -> 3723960
A41: 1.3. TELEPÜLÉSI ÖNKORMÁNYZATOK EGYES SZOCIÁLIS ÉS GYERMEKJÓLÉTI FELADATAINAK TÁMOGATÁSA
A42: 1.3.2. Egyes szociális és gyermekjóléti feladatok támogatása
A43: 1.3.2.1.Család- és gyermekjóléti szolgálat | B43: 121380 | C43: 120967 | D43: 120967 | E43: ='[4]2026.májusi-mutatószám '!E43+'[4]2026.májusi fajlagosem-ped.bér'!E43 -> 0 | F43: =SUM(D43:E43) -> 120967
A44: 1.3.2.2.1.Család- és gyermekjóléti központ | B44: 142276 | C44: 152149 | D44: 152149 | E44: ='[4]2026.májusi-mutatószám '!E44+'[4]2026.májusi fajlagosem-ped.bér'!E44 -> 0 | F44: =SUM(D44:E44) -> 152149
A45: 1.3.2.2.2.Család- és gyermekjóléti központ-óvodai és iskolai szociális segítő tevékenység támogatása | B45: 96166 | C45: 103212 | D45: 103212 | E45: ='[4]2026.májusi-mutatószám '!E45+'[4]2026.májusi fajlagosem-ped.bér'!E45 -> 0 | F45: =SUM(D45:E45) -> 103212
A46: 1.3.2.3.1. Szociális étkeztetés - önálló feladat ellátás | B46: 87458 | C46: 93366 | D46: 93366 | E46: ='[4]2026.májusi-mutatószám '!E46+'[4]2026.májusi fajlagosem-ped.bér'!E46 -> -2835 | F46: =SUM(D46:E46) -> 90531
A47: 1.3.2.4.1. Házi segítségnyújtás- szociális segítés | B47: 75 | C47: 75 | D47: 75 | E47: ='[4]2026.májusi-mutatószám '!E47+'[4]2026.májusi fajlagosem-ped.bér'!E47 -> 25 | F47: =SUM(D47:E47) -> 100
A48: 1.3.2.4.2. Házi segítségnyújtás- személyi gondozás -önálló feladatellátás | B48: 68699 | C48: 77881 | D48: 77881 | E48: ='[4]2026.májusi-mutatószám '!E48+'[4]2026.májusi fajlagosem-ped.bér'!E48 -> -5001 | F48: =SUM(D48:E48) -> 72880
A49: 1.3.2.6.1. Időskorúak nappali intézményi ellátása - önálló feladat ellátás | B49: 58126 | C49: 63071 | D49: 63071 | E49: ='[4]2026.májusi-mutatószám '!E49+'[4]2026.májusi fajlagosem-ped.bér'!E49 -> -1213 | F49: =SUM(D49:E49) -> 61858
A50: 1.3.2.8.1. Demens személyek nappali intézményi ellátása - önálló feladat ellátás | B50: 7127 | C50: 7560 | D50: 7560 | E50: ='[4]2026.májusi-mutatószám '!E50+'[4]2026.májusi fajlagosem-ped.bér'!E50 -> 2160 | F50: =SUM(D50:E50) -> 9720
A51: 1.3.2. Egyes szociális és gyermekjóléti feladatok támogatása | B51: =SUM(B43:B50) -> 581307 | C51: =SUM(C43:C50) -> 618281 | D51: =SUM(D43:D50) -> 618281 | E51: =SUM(E43:E50) -> -6864 | F51: =SUM(F43:F50) -> 611417
A52: 1.3.3. Bölcsőde, mini bölcsőde támogatása
A53: 1.3.3.1. Bölcsődei bértámogatás
A54: 1.3.3.1.1. Felsőfokú végzettségű kisgyermeknevelők, szaktanácsadók bértámogatása | B54: 607523 | C54: 712656 | D54: 723505 | E54: ='[4]2026.májusi-mutatószám '!E54+'[4]2026.májusi fajlagosem-ped.bér'!E54 -> 44522 | F54: =SUM(D54:E54) -> 768027
A55: 1.3.3.1.2. Bölcsődei dajkák, középfokú végzettségű kisgyermeknevelők, szaktanácsadók bértámogatása | B55: 625198 | C55: 647180 | D55: 647180 | E55: ='[4]2026.májusi-mutatószám '!E55+'[4]2026.májusi fajlagosem-ped.bér'!E55 -> -31591 | F55: =SUM(D55:E55) -> 615589
A56: 1.3.3.2. Bölcsődei üzemeltetési támogatás | B56: 258889 | C56: 266816 | D56: 266816 | E56: ='[4]2026.májusi-mutatószám '!E56+'[4]2026.májusi fajlagosem-ped.bér'!E56 -> -15238 | F56: =SUM(D56:E56) -> 251578
A57: 1.3.3. Bölcsőde, mini bölcsőde támogatása összesen | B57: =SUM(B54:B56) -> 1491610 | C57: =SUM(C54:C56) -> 1626652 | D57: =SUM(D54:D56) -> 1637501 | E57: =SUM(E54:E56) -> -2307 | F57: =SUM(F54:F56) -> 1635194
A58: 1.3.4. Települési önkormányzatok által biztosított egyes szoc.szakosított ellátsok, valamint a gyermekek átmeneti gondozásával kapcsolatos feladatok támogatása
A59: 1.3.4.1. Bértámogatás | B59: 38956 | C59: 60725 | D59: 60725 | E59: ='[4]2026.májusi-mutatószám '!E59+'[4]2026.májusi fajlagosem-ped.bér'!E59 -> -8675 | F59: =SUM(D59:E59) -> 52050
A60: 1.3.4.2. Intézményüzemeltetési támogatás | B60: 16171 | C60: 16218 | D60: 16218 | E60: ='[4]2026.májusi-mutatószám '!E60+'[4]2026.májusi fajlagosem-ped.bér'!E60 -> 0 | F60: =SUM(D60:E60) -> 16218
A61: 1.3.4. Települési önkormányzatok által biztosított egyes szoc.szakosított ellátsok, valamint a gyermekek átmeneti gondozásával kapcsolatos feladatok támogatása összesen | B61: =SUM(B59:B60) -> 55127 | C61: =SUM(C59:C60) -> 76943 | D61: =SUM(D59:D60) -> 76943 | E61: =SUM(E59:E60) -> -8675 | F61: =SUM(F59:F60) -> 68268
A62: 1.3. TELEPÜLÉSI ÖNKORMÁNYZATOK EGYES SZOCIÁLIS ÉS GYERMEKJÓLÉTI FELADATAINAK TÁMOGATÁSA ÖSSZESEN | B62: =B51+B57+B61 -> 2128044 | C62: =C51+C57+C61 -> 2321876 | D62: =D51+D57+D61 -> 2332725 | E62: =E51+E57+E61 -> -17846 | F62: =F51+F57+F61 -> 2314879
A63: 1.4. TELEPÜLÉSI ÖNKORMÁNYZATOK GYERMEKÉTKEZTETÉSI FELADATAINAK TÁMOGATÁSA
A64: 1.4.1. Intézményi gyermekétkeztetés támogatása
A65: 1.4.1.1. Intézményi gyermekétkeztetés - bértámogatás | B65: 369523 | C65: 417076 | D65: 417076 | E65: ='[4]2026.májusi-mutatószám '!E65+'[4]2026.májusi fajlagosem-ped.bér'!E65 -> 9064 | F65: =SUM(D65:E65) -> 426140
A66: 1.4.1.2. Intézményi gyermekétkeztetés - üzemeltetési támogatása | B66: 574968 | C66: 596710 | D66: 596710 | E66: ='[4]2026.májusi-mutatószám '!E66+'[4]2026.májusi fajlagosem-ped.bér'!E66 -> 15505 | F66: =SUM(D66:E66) -> 612215
A67: 1.4.2. Szünidei étkeztetés támogatása | B67: 1145 | C67: 1634 | D67: 1634 | E67: ='[4]2026.májusi-mutatószám '!E67+'[4]2026.májusi fajlagosem-ped.bér'!E67 -> -122 | F67: =SUM(D67:E67) -> 1512
A68: 1.4. TELEPÜLÉSI ÖNKORMÁNYZATOK GYERMEKÉTKEZTETÉS FELADATAINAK TÁMOGATÁSA ÖSSZESEN | B68: =SUM(B65:B67) -> 945636 | C68: =SUM(C65:C67) -> 1015420 | D68: =SUM(D65:D67) -> 1015420 | E68: =SUM(E65:E67) -> 24447 | F68: =SUM(F65:F67) -> 1039867
A69: 1.5. A TELEPÜLÉSI ÖNKORMÁNYZATOK KULTURÁLIS FELADATAINAK TÁMOGATÁSA
A70: 1.5.1. Vármegyeszékhely megyei jogú városok kulturális feladatainak támogatása | B70: 71480 | C70: 71151 | D70: 71151 | E70: ='[4]2026.májusi-mutatószám '!E70+'[4]2026.májusi fajlagosem-ped.bér'!E70 -> 0 | F70: =SUM(D70:E70) -> 71151
A71: 1.5.5. Vármegyei hatókörű városi könyvtár kistelepülési könyvtári célú kiegészítő támogatása | B71: 142714 | C71: 142321 | D71: 142321 | E71: ='[4]2026.májusi-mutatószám '!E71+'[4]2026.májusi fajlagosem-ped.bér'!E71 -> 0 | F71: =SUM(D71:E71) -> 142321
A72: 1.5. A TELEPÜLÉSI ÖNKORMÁNYZATOK KULTURÁLIS FELADATAINAK TÁMOGATÁSA ÖSSZESEN | B72: =SUM(B70:B71) -> 214194 | C72: =SUM(C70:C71) -> 213472 | D72: =SUM(D70:D71) -> 213472 | E72: =SUM(E70:E71) -> 0 | F72: =SUM(F70:F71) -> 213472
A73: TELEPÜLÉSI ÖNKORMÁNYZATOK ÁLTALÁNOS MŰKÖDÉSÉNEK ÉS ÁGAZATI FELADATAINAK TÁMOGATÁSA MINDÖSSZESEN | B73: =B14+B40+B62+B68+B72 -> 8414428 | C73: =C14+C40+C62+C68+C72 -> 9056488 | D73: =D14+D40+D62+D68+D72 -> 9102982 | E73: =E14+E40+E62+E68+E72 -> 37299 | F73: =F14+F40+F62+F68+F72 -> 9140281
A74: Helyi önkormányzatok kiegészítő támogatásai (Költségvetési törvény 3. melléklet)
A75: 2.3.2. Szociális ágazati összevont pótlék | B75: 251154 | D75: 104947 | E75: 85331 | F75: =SUM(D75:E75) -> 190278
A76: Kiegészítő szociális ágazati pótlék | D76: 37713 | E76: 38186 | F76: =SUM(D76:E76) -> 75899
A77: Egyes szociális és gyermekjóléti feldatok működési célú támogatása összesen | B77: =SUM(B75:B76) -> 251154 | C77: =SUM(C75:C76) -> 0 | D77: =SUM(D75:D76) -> 142660 | E77: =SUM(E75:E76) -> 123517 | F77: =SUM(F75:F76) -> 266177
A78: 2.4.1. Vármegyei hatókörű városi múzeumok feladatainak támogatása | B78: 230670 | C78: 230670 | D78: 230670 | E78: ='[4]2026.májusi-mutatószám '!E75+'[4]2026.májusi fajlagosem-ped.bér'!E75 -> 0 | F78: =SUM(D78:E78) -> 230670
A79: 2.4.2. Vármegyei hatókörű városi könyvtárak feladatainak támogatása | B79: 188000 | C79: 188000 | D79: 188000 | E79: ='[4]2026.májusi-mutatószám '!E76+'[4]2026.májusi fajlagosem-ped.bér'!E76 -> 0 | F79: =SUM(D79:E79) -> 188000
A80: 2.4.5. Zeneművészeti szervezetek támogatása | B80: 5539 | C80: 318266 | D80: 318266 | E80: ='[4]2026.májusi-mutatószám '!E77+'[4]2026.májusi fajlagosem-ped.bér'!E77 -> 0 | F80: =SUM(D80:E80) -> 318266
A81: 2.4.6. Települési önkormányzatok kulturális feladatainak bérjellegű támogatása (20%) | B81: 157338 | C81: 157338 | D81: 157338 | E81: ='[4]2026.májusi-mutatószám '!E78+'[4]2026.májusi fajlagosem-ped.bér'!E78 -> 0 | F81: =SUM(D81:E81) -> 157338
A82: 2.4.6.Települési önkormányzatok kulturális feladatainak bérjellegű támogatása - Kulturális inézmények és cégek 15%-os bérfejlesztéséhez támogatás | B82: 318266 | C82: 375845 | D82: 375845 | E82: ='[4]2026.májusi-mutatószám '!E79+'[4]2026.májusi fajlagosem-ped.bér'!E79 -> 0 | F82: =SUM(D82:E82) -> 375845
A83: Kulturális feladatok támogatása összesen | B83: =SUM(B78:B82) -> 899813 | C83: =SUM(C78:C82) -> 1270119 | D83: =SUM(D78:D82) -> 1270119 | E83: =SUM(E78:E82) -> 0 | F83: =SUM(F78:F82) -> 1270119
A84: Veszélyhelyzet ideje alatt a szomszédos országban fennálló humanitárius katasztrófára tekintettel érkező személyek elhelyezésének támogatása | B84: 7300 | D84: 2420 | E84: 1820 | F84: =SUM(D84:E84) -> 4240
A85: A kéményseprő ipari közszolgáltatás helyi önkormányzat általi ellátásának támogatása | B85: 3137 | F85: =SUM(D85:E85) -> 0
A86: Működési célú költségvetési támogatások és kiegészítő támogatások összesen | B86: =SUM(B84:B85) -> 10437 | C86: =SUM(C84:C85) -> 0 | D86: =SUM(D84:D85) -> 2420 | E86: =SUM(E84:E85) -> 1820 | F86: =SUM(F84:F85) -> 4240
A87: HELYI ÖNKORMÁNYZATOK KIEGÉSZÍTŐ TÁMOGATÁSAI MINDÖSSZESEN | B87: =B77+B83+B86 -> 1161404 | C87: =C77+C83+C86 -> 1270119 | D87: =D77+D83+D86 -> 1415199 | E87: =E77+E83+E86 -> 125337 | F87: =F77+F83+F86 -> 1540536
A88: KVTV. 2. ÉS 3. MELLÉKLETE SZERINTI TÁMOGATÁSOK MINDÖSSZESEN | B88: =B73+B87 -> 9575832 | C88: =C73+C87 -> 10326607 | D88: =D73+D87 -> 10518181 | E88: =E73+E87 -> 162636 | F88: =F73+F87 -> 10680817

Sheet 6 intézményi kiadás
B2: Szombathely Megyei Jogú Város Önkormányzata | L2: Szombathely Megyei Jogú Város Önkormányzata | V2: Szombathely Megyei Jogú Város Önkormányzata
B3: Költségvetési szervek 2026. évi kiadásai | L3: Költségvetési szervek 2026. évi kiadásai | V3: Költségvetési szervek 2026. évi kiadásai
J4: ezer forintban | T4: ezer forintban | AJ4: ezer forintban
A5: I N T É Z M É N Y | B5: Személyi juttatások | E5: Munkaadókat terhelő járulékok és szociális hozzájárulási adó | H5: Dologi kiadások | K5: I N T É Z M É N Y | L5: Ellátottak pénzbeli juttatásai | O5: Egyéb működési célú kiadások | R5: Működési kiadások összesen | U5: I N T É Z M É N Y | V5: Beruházás | Y5: Felújítás | AB5: Egyéb felhalmozási célú kiadások | AE5: Felhalmozási kiadások összesen | AH5: Költségvetési kiadások összesen
A7: 2026. | K7: 2026. | U7: 2026.
B8: 2026. évi I. sz. módosított előirányzat | C8: Javasolt módosítás | D8: 2026. évi II. sz. módosított előirányzat | E8: 2026. évi I. sz. módosított előirányzat | F8: Javasolt módosítás | G8: 2026. évi II. sz. módosított előirányzat | H8: 2026. évi I. sz. módosított előirányzat | I8: Javasolt módosítás | J8: 2026. évi II. sz. módosított előirányzat | L8: 2026. évi I. sz. módosított előirányzat | M8: Javasolt módosítás | N8: 2026. évi II. sz. módosított előirányzat | O8: 2026. évi I. sz. módosított előirányzat | P8: Javasolt módosítás | Q8: 2026. évi II. sz. módosított előirányzat | R8: 2026. évi I. sz. módosított előirányzat | S8: Javasolt módosítás | T8: 2026. évi II. sz. módosított előirányzat | V8: 2026. évi I. sz. módosított előirányzat | W8: Javasolt módosítás | X8: 2026. évi II. sz. módosított előirányzat | Y8: 2026. évi I. sz. módosított előirányzat | Z8: Javasolt módosítás | AA8: 2026. évi II. sz. módosított előirányzat | AB8: 2026. évi I. sz. módosított előirányzat | AC8: Javasolt módosítás | AD8: 2026. évi II. sz. módosított előirányzat | AE8: 2026. évi I. sz. módosított előirányzat | AF8: Javasolt módosítás | AG8: 2026. évi II. sz. módosított előirányzat | AH8: 2026. évi I. sz. módosított előirányzat | AI8: Javasolt módosítás | AJ8: 2026. évi II. sz. módosított előirányzat
A9: Ó v o d á k | K9: Ó v o d á k | U9: Ó v o d á k
A10: Aréna Óvoda | B10: ='[3]int.kiadások RM I'!D10 -> 280344 | C10: =-1135+575 -> -560 | D10: =SUM(B10:C10) -> 279784 | E10: ='[3]int.kiadások RM I'!G10 -> 42572 | F10: =-147+75 -> -72 | G10: =SUM(E10:F10) -> 42500 | H10: ='[3]int.kiadások RM I'!J10 -> 9083 | I10: -1901 | J10: =SUM(H10:I10) -> 7182 | K10: Aréna Óvoda | L10: ='[3]int.kiadások RM I'!N10 -> 0 | N10: =SUM(L10:M10) -> 0 | O10: ='[3]int.kiadások RM I'!Q10 -> 0 | Q10: =SUM(O10:P10) -> 0 | R10: =B10+E10+H10+L10+O10 -> 331999 | S10: =C10+F10+I10+M10+P10 -> -2533 | T10: =D10+G10+J10+N10+Q10 -> 329466 | U10: Aréna Óvoda | V10: ='[3]int.kiadások RM I'!X10 -> 0 | W10: 3183 | X10: =SUM(V10:W10) -> 3183 | Y10: ='[3]int.kiadások RM I'!AA10 -> 0 | AA10: =SUM(Y10:Z10) -> 0 | AB10: ='[3]int.kiadások RM I'!AD10 -> 0 | AD10: =SUM(AB10:AC10) -> 0 | AE10: =V10+Y10+AB10 -> 0 | AF10: =W10+Z10+AC10 -> 3183 | AG10: =X10+AA10+AD10 -> 3183 | AH10: =R10+AE10 -> 331999 | AI10: =S10+AF10 -> 650 | AJ10: =T10+AG10 -> 332649
A11: Barátság Óvoda | B11: ='[3]int.kiadások RM I'!D11 -> 191581 | C11: =-65+405 -> 340 | D11: =SUM(B11:C11) -> 191921 | E11: ='[3]int.kiadások RM I'!G11 -> 25485 | F11: =-9+53 -> 44 | G11: =SUM(E11:F11) -> 25529 | H11: ='[3]int.kiadások RM I'!J11 -> 4652 | I11: 74 | J11: =SUM(H11:I11) -> 4726 | K11: Barátság Óvoda | L11: ='[3]int.kiadások RM I'!N11 -> 0 | N11: =SUM(L11:M11) -> 0 | O11: ='[3]int.kiadások RM I'!Q11 -> 0 | Q11: =SUM(O11:P11) -> 0 | R11: =B11+E11+H11+L11+O11 -> 221718 | S11: =C11+F11+I11+M11+P11 -> 458 | T11: =D11+G11+J11+N11+Q11 -> 222176 | U11: Barátság Óvoda | V11: ='[3]int.kiadások RM I'!X11 -> 116 | X11: =SUM(V11:W11) -> 116 | Y11: ='[3]int.kiadások RM I'!AA11 -> 0 | AA11: =SUM(Y11:Z11) -> 0 | AB11: ='[3]int.kiadások RM I'!AD11 -> 0 | AD11: =SUM(AB11:AC11) -> 0 | AE11: =V11+Y11+AB11 -> 116 | AF11: =W11+Z11+AC11 -> 0 | AG11: =X11+AA11+AD11 -> 116 | AH11: =R11+AE11 -> 221834 | AI11: =S11+AF11 -> 458 | AJ11: =T11+AG11 -> 222292
A12: Pipitér Óvoda | B12: ='[3]int.kiadások RM I'!D12 -> 200616 | C12: =-1233+1057 -> -176 | D12: =SUM(B12:C12) -> 200440 | E12: ='[3]int.kiadások RM I'!G12 -> 26897 | F12: =-160+238 -> 78 | G12: =SUM(E12:F12) -> 26975 | H12: ='[3]int.kiadások RM I'!J12 -> 4510 | I12: 1204 | J12: =SUM(H12:I12) -> 5714 | K12: Pipitér Óvoda | L12: ='[3]int.kiadások RM I'!N12 -> 0 | N12: =SUM(L12:M12) -> 0 | O12: ='[3]int.kiadások RM I'!Q12 -> 0 | Q12: =SUM(O12:P12) -> 0 | R12: =B12+E12+H12+L12+O12 -> 232023 | S12: =C12+F12+I12+M12+P12 -> 1106 | T12: =D12+G12+J12+N12+Q12 -> 233129 | U12: Pipitér Óvoda | V12: ='[3]int.kiadások RM I'!X12 -> 35 | W12: 189 | X12: =SUM(V12:W12) -> 224 | Y12: ='[3]int.kiadások RM I'!AA12 -> 0 | AA12: =SUM(Y12:Z12) -> 0 | AB12: ='[3]int.kiadások RM I'!AD12 -> 0 | AD12: =SUM(AB12:AC12) -> 0 | AE12: =V12+Y12+AB12 -> 35 | AF12: =W12+Z12+AC12 -> 189 | AG12: =X12+AA12+AD12 -> 224 | AH12: =R12+AE12 -> 232058 | AI12: =S12+AF12 -> 1295 | AJ12: =T12+AG12 -> 233353
A13: Hétszínvirág Óvoda | B13: ='[3]int.kiadások RM I'!D13 -> 240296 | C13: =200+576 -> 776 | D13: =SUM(B13:C13) -> 241072 | E13: ='[3]int.kiadások RM I'!G13 -> 36515 | F13: =-1018+75 -> -943 | G13: =SUM(E13:F13) -> 35572 | H13: ='[3]int.kiadások RM I'!J13 -> 5831 | I13: 676 | J13: =SUM(H13:I13) -> 6507 | K13: Hétszínvirág Óvoda | L13: ='[3]int.kiadások RM I'!N13 -> 0 | N13: =SUM(L13:M13) -> 0 | O13: ='[3]int.kiadások RM I'!Q13 -> 0 | Q13: =SUM(O13:P13) -> 0 | R13: =B13+E13+H13+L13+O13 -> 282642 | S13: =C13+F13+I13+M13+P13 -> 509 | T13: =D13+G13+J13+N13+Q13 -> 283151 | U13: Hétszínvirág Óvoda | V13: ='[3]int.kiadások RM I'!X13 -> 0 | W13: 196 | X13: =SUM(V13:W13) -> 196 | Y13: ='[3]int.kiadások RM I'!AA13 -> 0 | AA13: =SUM(Y13:Z13) -> 0 | AB13: ='[3]int.kiadások RM I'!AD13 -> 0 | AD13: =SUM(AB13:AC13) -> 0 | AE13: =V13+Y13+AB13 -> 0 | AF13: =W13+Z13+AC13 -> 196 | AG13: =X13+AA13+AD13 -> 196 | AH13: =R13+AE13 -> 282642 | AI13: =S13+AF13 -> 705 | AJ13: =T13+AG13 -> 283347
A14: Szivárvány Óvoda | B14: ='[3]int.kiadások RM I'!D14 -> 239514 | C14: =-1612+570 -> -1042 | D14: =SUM(B14:C14) -> 238472 | E14: ='[3]int.kiadások RM I'!G14 -> 36500 | F14: =-500+74 -> -426 | G14: =SUM(E14:F14) -> 36074 | H14: ='[3]int.kiadások RM I'!J14 -> 3890 | I14: 1690 | J14: =SUM(H14:I14) -> 5580 | K14: Szivárvány Óvoda | L14: ='[3]int.kiadások RM I'!N14 -> 0 | N14: =SUM(L14:M14) -> 0 | O14: ='[3]int.kiadások RM I'!Q14 -> 0 | Q14: =SUM(O14:P14) -> 0 | R14: =B14+E14+H14+L14+O14 -> 279904 | S14: =C14+F14+I14+M14+P14 -> 222 | T14: =D14+G14+J14+N14+Q14 -> 280126 | U14: Szivárvány Óvoda | V14: ='[3]int.kiadások RM I'!X14 -> 404 | W14: 422 | X14: =SUM(V14:W14) -> 826 | Y14: ='[3]int.kiadások RM I'!AA14 -> 0 | Z14: 37522 | AA14: =SUM(Y14:Z14) -> 37522 | AB14: ='[3]int.kiadások RM I'!AD14 -> 0 | AD14: =SUM(AB14:AC14) -> 0 | AE14: =V14+Y14+AB14 -> 404 | AF14: =W14+Z14+AC14 -> 37944 | AG14: =X14+AA14+AD14 -> 38348 | AH14: =R14+AE14 -> 280308 | AI14: =S14+AF14 -> 38166 | AJ14: =T14+AG14 -> 318474
A15: Donászy Magda Óvoda | B15: ='[3]int.kiadások RM I'!D15 -> 222995 | C15: =-2483+791 -> -1692 | D15: =SUM(B15:C15) -> 221303 | E15: ='[3]int.kiadások RM I'!G15 -> 31712 | F15: =-322+151 -> -171 | G15: =SUM(E15:F15) -> 31541 | H15: ='[3]int.kiadások RM I'!J15 -> 4155 | I15: -395 | J15: =SUM(H15:I15) -> 3760 | K15: Donászy Magda Óvoda | L15: ='[3]int.kiadások RM I'!N15 -> 0 | N15: =SUM(L15:M15) -> 0 | O15: ='[3]int.kiadások RM I'!Q15 -> 0 | Q15: =SUM(O15:P15) -> 0 | R15: =B15+E15+H15+L15+O15 -> 258862 | S15: =C15+F15+I15+M15+P15 -> -2258 | T15: =D15+G15+J15+N15+Q15 -> 256604 | U15: Donászy Magda Óvoda | V15: ='[3]int.kiadások RM I'!X15 -> 21 | X15: =SUM(V15:W15) -> 21 | Y15: ='[3]int.kiadások RM I'!AA15 -> 575 | Z15: 3200 | AA15: =SUM(Y15:Z15) -> 3775 | AB15: ='[3]int.kiadások RM I'!AD15 -> 0 | AD15: =SUM(AB15:AC15) -> 0 | AE15: =V15+Y15+AB15 -> 596 | AF15: =W15+Z15+AC15 -> 3200 | AG15: =X15+AA15+AD15 -> 3796 | AH15: =R15+AE15 -> 259458 | AI15: =S15+AF15 -> 942 | AJ15: =T15+AG15 -> 260400
A16: Mesevár Ovoda | B16: ='[3]int.kiadások RM I'!D16 -> 158472 | C16: =-487+1708 -> 1221 | D16: =SUM(B16:C16) -> 159693 | E16: ='[3]int.kiadások RM I'!G16 -> 21329 | F16: =-64+423 -> 359 | G16: =SUM(E16:F16) -> 21688 | H16: ='[3]int.kiadások RM I'!J16 -> 4254 | I16: 837 | J16: =SUM(H16:I16) -> 5091 | K16: Mesevár Ovoda | L16: ='[3]int.kiadások RM I'!N16 -> 0 | N16: =SUM(L16:M16) -> 0 | O16: ='[3]int.kiadások RM I'!Q16 -> 0 | Q16: =SUM(O16:P16) -> 0 | R16: =B16+E16+H16+L16+O16 -> 184055 | S16: =C16+F16+I16+M16+P16 -> 2417 | T16: =D16+G16+J16+N16+Q16 -> 186472 | U16: Mesevár Ovoda | V16: ='[3]int.kiadások RM I'!X16 -> 14 | W16: 10 | X16: =SUM(V16:W16) -> 24 | Y16: ='[3]int.kiadások RM I'!AA16 -> 0 | AA16: =SUM(Y16:Z16) -> 0 | AB16: ='[3]int.kiadások RM I'!AD16 -> 0 | AD16: =SUM(AB16:AC16) -> 0 | AE16: =V16+Y16+AB16 -> 14 | AF16: =W16+Z16+AC16 -> 10 | AG16: =X16+AA16+AD16 -> 24 | AH16: =R16+AE16 -> 184069 | AI16: =S16+AF16 -> 2427 | AJ16: =T16+AG16 -> 186496
A17: Játéksziget Óvoda | B17: ='[3]int.kiadások RM I'!D17 -> 170166 | C17: =-655+354 -> -301 | D17: =SUM(B17:C17) -> 169865 | E17: ='[3]int.kiadások RM I'!G17 -> 22864 | F17: =-85+46 -> -39 | G17: =SUM(E17:F17) -> 22825 | H17: ='[3]int.kiadások RM I'!J17 -> 3931 | I17: 740 | J17: =SUM(H17:I17) -> 4671 | K17: Játéksziget Óvoda | L17: ='[3]int.kiadások RM I'!N17 -> 0 | N17: =SUM(L17:M17) -> 0 | O17: ='[3]int.kiadások RM I'!Q17 -> 0 | Q17: =SUM(O17:P17) -> 0 | R17: =B17+E17+H17+L17+O17 -> 196961 | S17: =C17+F17+I17+M17+P17 -> 400 | T17: =D17+G17+J17+N17+Q17 -> 197361 | U17: Játéksziget Óvoda | V17: ='[3]int.kiadások RM I'!X17 -> 179 | X17: =SUM(V17:W17) -> 179 | Y17: ='[3]int.kiadások RM I'!AA17 -> 0 | AA17: =SUM(Y17:Z17) -> 0 | AB17: ='[3]int.kiadások RM I'!AD17 -> 0 | AD17: =SUM(AB17:AC17) -> 0 | AE17: =V17+Y17+AB17 -> 179 | AF17: =W17+Z17+AC17 -> 0 | AG17: =X17+AA17+AD17 -> 179 | AH17: =R17+AE17 -> 197140 | AI17: =S17+AF17 -> 400 | AJ17: =T17+AG17 -> 197540
A18: Kőrösi Csoma Sándor Utcai Óvoda | B18: ='[3]int.kiadások RM I'!D18 -> 239064 | C18: =-190+1532 -> 1342 | D18: =SUM(B18:C18) -> 240406 | E18: ='[3]int.kiadások RM I'!G18 -> 36398 | F18: =-299+349 -> 50 | G18: =SUM(E18:F18) -> 36448 | H18: ='[3]int.kiadások RM I'!J18 -> 4873 | I18: -648 | J18: =SUM(H18:I18) -> 4225 | K18: Kőrösi Csoma Sándor Utcai Óvoda | L18: ='[3]int.kiadások RM I'!N18 -> 0 | N18: =SUM(L18:M18) -> 0 | O18: ='[3]int.kiadások RM I'!Q18 -> 0 | Q18: =SUM(O18:P18) -> 0 | R18: =B18+E18+H18+L18+O18 -> 280335 | S18: =C18+F18+I18+M18+P18 -> 744 | T18: =D18+G18+J18+N18+Q18 -> 281079 | U18: Kőrösi Csoma Sándor Utcai Óvoda | V18: ='[3]int.kiadások RM I'!X18 -> 5432 | W18: 1264 | X18: =SUM(V18:W18) -> 6696 | Y18: ='[3]int.kiadások RM I'!AA18 -> 0 | AA18: =SUM(Y18:Z18) -> 0 | AB18: ='[3]int.kiadások RM I'!AD18 -> 0 | AD18: =SUM(AB18:AC18) -> 0 | AE18: =V18+Y18+AB18 -> 5432 | AF18: =W18+Z18+AC18 -> 1264 | AG18: =X18+AA18+AD18 -> 6696 | AH18: =R18+AE18 -> 285767 | AI18: =S18+AF18 -> 2008 | AJ18: =T18+AG18 -> 287775
A19: Gazdag Erzsi Óvoda | B19: ='[3]int.kiadások RM I'!D19 -> 283581 | C19: =-1371+705 -> -666 | D19: =SUM(B19:C19) -> 282915 | E19: ='[3]int.kiadások RM I'!G19 -> 42746 | F19: =-730+92 -> -638 | G19: =SUM(E19:F19) -> 42108 | H19: ='[3]int.kiadások RM I'!J19 -> 6006 | I19: 3180 | J19: =SUM(H19:I19) -> 9186 | K19: Gazdag Erzsi Óvoda | L19: ='[3]int.kiadások RM I'!N19 -> 0 | N19: =SUM(L19:M19) -> 0 | O19: ='[3]int.kiadások RM I'!Q19 -> 0 | Q19: =SUM(O19:P19) -> 0 | R19: =B19+E19+H19+L19+O19 -> 332333 | S19: =C19+F19+I19+M19+P19 -> 1876 | T19: =D19+G19+J19+N19+Q19 -> 334209 | U19: Gazdag Erzsi Óvoda | V19: ='[3]int.kiadások RM I'!X19 -> 108 | W19: 87 | X19: =SUM(V19:W19) -> 195 | Y19: ='[3]int.kiadások RM I'!AA19 -> 0 | AA19: =SUM(Y19:Z19) -> 0 | AB19: ='[3]int.kiadások RM I'!AD19 -> 0 | AD19: =SUM(AB19:AC19) -> 0 | AE19: =V19+Y19+AB19 -> 108 | AF19: =W19+Z19+AC19 -> 87 | AG19: =X19+AA19+AD19 -> 195 | AH19: =R19+AE19 -> 332441 | AI19: =S19+AF19 -> 1963 | AJ19: =T19+AG19 -> 334404
A20: Maros Óvoda | B20: ='[3]int.kiadások RM I'!D20 -> 127128 | C20: =-207+744 -> 537 | D20: =SUM(B20:C20) -> 127665 | E20: ='[3]int.kiadások RM I'!G20 -> 17134 | F20: =-27+157 -> 130 | G20: =SUM(E20:F20) -> 17264 | H20: ='[3]int.kiadások RM I'!J20 -> 3700 | I20: -115 | J20: =SUM(H20:I20) -> 3585 | K20: Maros Óvoda | L20: ='[3]int.kiadások RM I'!N20 -> 0 | N20: =SUM(L20:M20) -> 0 | O20: ='[3]int.kiadások RM I'!Q20 -> 0 | Q20: =SUM(O20:P20) -> 0 | R20: =B20+E20+H20+L20+O20 -> 147962 | S20: =C20+F20+I20+M20+P20 -> 552 | T20: =D20+G20+J20+N20+Q20 -> 148514 | U20: Maros Óvoda | V20: ='[3]int.kiadások RM I'!X20 -> 40 | W20: 484 | X20: =SUM(V20:W20) -> 524 | Y20: ='[3]int.kiadások RM I'!AA20 -> 0 | AA20: =SUM(Y20:Z20) -> 0 | AB20: ='[3]int.kiadások RM I'!AD20 -> 0 | AD20: =SUM(AB20:AC20) -> 0 | AE20: =V20+Y20+AB20 -> 40 | AF20: =W20+Z20+AC20 -> 484 | AG20: =X20+AA20+AD20 -> 524 | AH20: =R20+AE20 -> 148002 | AI20: =S20+AF20 -> 1036 | AJ20: =T20+AG20 -> 149038
A21: Vadvirág Óvoda | B21: ='[3]int.kiadások RM I'!D21 -> 132435 | C21: =-1207+291 -> -916 | D21: =SUM(B21:C21) -> 131519 | E21: ='[3]int.kiadások RM I'!G21 -> 17894 | F21: =-1066+38 -> -1028 | G21: =SUM(E21:F21) -> 16866 | H21: ='[3]int.kiadások RM I'!J21 -> 2810 | I21: =474+100 -> 574 | J21: =SUM(H21:I21) -> 3384 | K21: Vadvirág Óvoda | L21: ='[3]int.kiadások RM I'!N21 -> 0 | N21: =SUM(L21:M21) -> 0 | O21: ='[3]int.kiadások RM I'!Q21 -> 0 | Q21: =SUM(O21:P21) -> 0 | R21: =B21+E21+H21+L21+O21 -> 153139 | S21: =C21+F21+I21+M21+P21 -> -1370 | T21: =D21+G21+J21+N21+Q21 -> 151769 | U21: Vadvirág Óvoda | V21: ='[3]int.kiadások RM I'!X21 -> 0 | W21: 1856 | X21: =SUM(V21:W21) -> 1856 | Y21: ='[3]int.kiadások RM I'!AA21 -> 0 | AA21: =SUM(Y21:Z21) -> 0 | AB21: ='[3]int.kiadások RM I'!AD21 -> 0 | AD21: =SUM(AB21:AC21) -> 0 | AE21: =V21+Y21+AB21 -> 0 | AF21: =W21+Z21+AC21 -> 1856 | AG21: =X21+AA21+AD21 -> 1856 | AH21: =R21+AE21 -> 153139 | AI21: =S21+AF21 -> 486 | AJ21: =T21+AG21 -> 153625
A22: Margaréta Óvoda | B22: ='[3]int.kiadások RM I'!D22 -> 159307 | C22: =-669+351 -> -318 | D22: =SUM(B22:C22) -> 158989 | E22: ='[3]int.kiadások RM I'!G22 -> 21402 | F22: =-87+46 -> -41 | G22: =SUM(E22:F22) -> 21361 | H22: ='[3]int.kiadások RM I'!J22 -> 5846 | I22: 542 | J22: =SUM(H22:I22) -> 6388 | K22: Margaréta Óvoda | L22: ='[3]int.kiadások RM I'!N22 -> 0 | N22: =SUM(L22:M22) -> 0 | O22: ='[3]int.kiadások RM I'!Q22 -> 0 | Q22: =SUM(O22:P22) -> 0 | R22: =B22+E22+H22+L22+O22 -> 186555 | S22: =C22+F22+I22+M22+P22 -> 183 | T22: =D22+G22+J22+N22+Q22 -> 186738 | U22: Margaréta Óvoda | V22: ='[3]int.kiadások RM I'!X22 -> 0 | W22: 214 | X22: =SUM(V22:W22) -> 214 | Y22: ='[3]int.kiadások RM I'!AA22 -> 0 | AA22: =SUM(Y22:Z22) -> 0 | AB22: ='[3]int.kiadások RM I'!AD22 -> 0 | AD22: =SUM(AB22:AC22) -> 0 | AE22: =V22+Y22+AB22 -> 0 | AF22: =W22+Z22+AC22 -> 214 | AG22: =X22+AA22+AD22 -> 214 | AH22: =R22+AE22 -> 186555 | AI22: =S22+AF22 -> 397 | AJ22: =T22+AG22 -> 186952
A23: Napsugár Óvoda | B23: ='[3]int.kiadások RM I'!D23 -> 189331 | C23: =-394+1466 -> 1072 | D23: =SUM(B23:C23) -> 190403 | E23: ='[3]int.kiadások RM I'!G23 -> 25496 | F23: =-51+341 -> 290 | G23: =SUM(E23:F23) -> 25786 | H23: ='[3]int.kiadások RM I'!J23 -> 3767 | I23: 489 | J23: =SUM(H23:I23) -> 4256 | K23: Napsugár Óvoda | L23: ='[3]int.kiadások RM I'!N23 -> 0 | N23: =SUM(L23:M23) -> 0 | O23: ='[3]int.kiadások RM I'!Q23 -> 0 | Q23: =SUM(O23:P23) -> 0 | R23: =B23+E23+H23+L23+O23 -> 218594 | S23: =C23+F23+I23+M23+P23 -> 1851 | T23: =D23+G23+J23+N23+Q23 -> 220445 | U23: Napsugár Óvoda | V23: ='[3]int.kiadások RM I'!X23 -> 6331 | W23: 20 | X23: =SUM(V23:W23) -> 6351 | Y23: ='[3]int.kiadások RM I'!AA23 -> 0 | AA23: =SUM(Y23:Z23) -> 0 | AB23: ='[3]int.kiadások RM I'!AD23 -> 0 | AD23: =SUM(AB23:AC23) -> 0 | AE23: =V23+Y23+AB23 -> 6331 | AF23: =W23+Z23+AC23 -> 20 | AG23: =X23+AA23+AD23 -> 6351 | AH23: =R23+AE23 -> 224925 | AI23: =S23+AF23 -> 1871 | AJ23: =T23+AG23 -> 226796
A24: Szűrcsapó Óvoda | B24: ='[3]int.kiadások RM I'!D24 -> 265658 | C24: =-544+1494 -> 950 | D24: =SUM(B24:C24) -> 266608 | E24: ='[3]int.kiadások RM I'!G24 -> 40491 | F24: =-71+344 -> 273 | G24: =SUM(E24:F24) -> 40764 | H24: ='[3]int.kiadások RM I'!J24 -> 11333 | I24: 877 | J24: =SUM(H24:I24) -> 12210 | K24: Szűrcsapó Óvoda | L24: ='[3]int.kiadások RM I'!N24 -> 0 | N24: =SUM(L24:M24) -> 0 | O24: ='[3]int.kiadások RM I'!Q24 -> 0 | Q24: =SUM(O24:P24) -> 0 | R24: =B24+E24+H24+L24+O24 -> 317482 | S24: =C24+F24+I24+M24+P24 -> 2100 | T24: =D24+G24+J24+N24+Q24 -> 319582 | U24: Szűrcsapó Óvoda | V24: ='[3]int.kiadások RM I'!X24 -> 60 | X24: =SUM(V24:W24) -> 60 | Y24: ='[3]int.kiadások RM I'!AA24 -> 0 | AA24: =SUM(Y24:Z24) -> 0 | AB24: ='[3]int.kiadások RM I'!AD24 -> 0 | AD24: =SUM(AB24:AC24) -> 0 | AE24: =V24+Y24+AB24 -> 60 | AF24: =W24+Z24+AC24 -> 0 | AG24: =X24+AA24+AD24 -> 60 | AH24: =R24+AE24 -> 317542 | AI24: =S24+AF24 -> 2100 | AJ24: =T24+AG24 -> 319642
A25: Mocorgó Óvoda | B25: ='[3]int.kiadások RM I'!D25 -> 193440 | C25: =-6046+376 -> -5670 | D25: =SUM(B25:C25) -> 187770 | E25: ='[3]int.kiadások RM I'!G25 -> 25525 | F25: =-787+49 -> -738 | G25: =SUM(E25:F25) -> 24787 | H25: ='[3]int.kiadások RM I'!J25 -> 10723 | I25: 3816 | J25: =SUM(H25:I25) -> 14539 | K25: Mocorgó Óvoda | L25: ='[3]int.kiadások RM I'!N25 -> 0 | N25: =SUM(L25:M25) -> 0 | O25: ='[3]int.kiadások RM I'!Q25 -> 0 | Q25: =SUM(O25:P25) -> 0 | R25: =B25+E25+H25+L25+O25 -> 229688 | S25: =C25+F25+I25+M25+P25 -> -2592 | T25: =D25+G25+J25+N25+Q25 -> 227096 | U25: Mocorgó Óvoda | V25: ='[3]int.kiadások RM I'!X25 -> 451 | W25: 3124 | X25: =SUM(V25:W25) -> 3575 | Y25: ='[3]int.kiadások RM I'!AA25 -> 0 | AA25: =SUM(Y25:Z25) -> 0 | AB25: ='[3]int.kiadások RM I'!AD25 -> 0 | AD25: =SUM(AB25:AC25) -> 0 | AE25: =V25+Y25+AB25 -> 451 | AF25: =W25+Z25+AC25 -> 3124 | AG25: =X25+AA25+AD25 -> 3575 | AH25: =R25+AE25 -> 230139 | AI25: =S25+AF25 -> 532 | AJ25: =T25+AG25 -> 230671
A26: Benczúr Gyula Utcai Óvoda | B26: ='[3]int.kiadások RM I'!D26 -> 157211 | C26: =-1006+351 -> -655 | D26: =SUM(B26:C26) -> 156556 | E26: ='[3]int.kiadások RM I'!G26 -> 21132 | F26: =-411+46 -> -365 | G26: =SUM(E26:F26) -> 20767 | H26: ='[3]int.kiadások RM I'!J26 -> 4683 | I26: 804 | J26: =SUM(H26:I26) -> 5487 | K26: Benczúr Gyula Utcai Óvoda | L26: ='[3]int.kiadások RM I'!N26 -> 0 | N26: =SUM(L26:M26) -> 0 | O26: ='[3]int.kiadások RM I'!Q26 -> 0 | Q26: =SUM(O26:P26) -> 0 | R26: =B26+E26+H26+L26+O26 -> 183026 | S26: =C26+F26+I26+M26+P26 -> -216 | T26: =D26+G26+J26+N26+Q26 -> 182810 | U26: Benczúr Gyula Utcai Óvoda | V26: ='[3]int.kiadások RM I'!X26 -> 35 | W26: 613 | X26: =SUM(V26:W26) -> 648 | Y26: ='[3]int.kiadások RM I'!AA26 -> 0 | AA26: =SUM(Y26:Z26) -> 0 | AB26: ='[3]int.kiadások RM I'!AD26 -> 0 | AD26: =SUM(AB26:AC26) -> 0 | AE26: =V26+Y26+AB26 -> 35 | AF26: =W26+Z26+AC26 -> 613 | AG26: =X26+AA26+AD26 -> 648 | AH26: =R26+AE26 -> 183061 | AI26: =S26+AF26 -> 397 | AJ26: =T26+AG26 -> 183458
A27: Weöres Sándor Óvoda | B27: ='[3]int.kiadások RM I'!D27 -> 106514 | C27: =-688+575 -> -113 | D27: =SUM(B27:C27) -> 106401 | E27: ='[3]int.kiadások RM I'!G27 -> 14155 | F27: =-89+125 -> 36 | G27: =SUM(E27:F27) -> 14191 | H27: ='[3]int.kiadások RM I'!J27 -> 3300 | I27: 905 | J27: =SUM(H27:I27) -> 4205 | K27: Weöres Sándor Óvoda | L27: ='[3]int.kiadások RM I'!N27 -> 0 | N27: =SUM(L27:M27) -> 0 | O27: ='[3]int.kiadások RM I'!Q27 -> 0 | Q27: =SUM(O27:P27) -> 0 | R27: =B27+E27+H27+L27+O27 -> 123969 | S27: =C27+F27+I27+M27+P27 -> 828 | T27: =D27+G27+J27+N27+Q27 -> 124797 | U27: Weöres Sándor Óvoda | V27: ='[3]int.kiadások RM I'!X27 -> 0 | W27: 277 | X27: =SUM(V27:W27) -> 277 | Y27: ='[3]int.kiadások RM I'!AA27 -> 0 | AA27: =SUM(Y27:Z27) -> 0 | AB27: ='[3]int.kiadások RM I'!AD27 -> 0 | AD27: =SUM(AB27:AC27) -> 0 | AE27: =V27+Y27+AB27 -> 0 | AF27: =W27+Z27+AC27 -> 277 | AG27: =X27+AA27+AD27 -> 277 | AH27: =R27+AE27 -> 123969 | AI27: =S27+AF27 -> 1105 | AJ27: =T27+AG27 -> 125074
A28: Óvodák összesen | B28: =SUM(B10:B27) -> 3557653 | C28: =SUM(C10:C27) -> -5871 | D28: =SUM(D10:D27) -> 3551782 | E28: =SUM(E10:E27) -> 506247 | F28: =SUM(F10:F27) -> -3201 | G28: =SUM(G10:G27) -> 503046 | H28: =SUM(H10:H27) -> 97347 | I28: =SUM(I10:I27) -> 13349 | J28: =SUM(J10:J27) -> 110696 | K28: Óvodák összesen | L28: =SUM(L10:L27) -> 0 | M28: =SUM(M10:M27) -> 0 | N28: =SUM(N10:N27) -> 0 | O28: =SUM(O10:O27) -> 0 | P28: =SUM(P10:P27) -> 0 | Q28: =SUM(Q10:Q27) -> 0 | R28: =SUM(R10:R27) -> 4161247 | S28: =SUM(S10:S27) -> 4277 | T28: =SUM(T10:T27) -> 4165524 | U28: Óvodák összesen | V28: =SUM(V10:V27) -> 13226 | W28: =SUM(W10:W27) -> 11939 | X28: =SUM(X10:X27) -> 25165 | Y28: =SUM(Y10:Y27) -> 575 | Z28: =SUM(Z10:Z27) -> 40722 | AA28: =SUM(AA10:AA27) -> 41297 | AB28: =SUM(AB10:AB27) -> 0 | AC28: =SUM(AC10:AC27) -> 0 | ... AJ28: =SUM(AJ10:AJ27) -> 4231986
A29: Szombathelyi Köznevelési GAMESZ | B29: ='[3]int.kiadások RM I'!D29 -> 385839 | C29: -20 | D29: =SUM(B29:C29) -> 385819 | E29: ='[3]int.kiadások RM I'!G29 -> 59599 | F29: -47 | G29: =SUM(E29:F29) -> 59552 | H29: ='[3]int.kiadások RM I'!J29 -> 2330736 | I29: =-10436+2700 -> -7736 | J29: =SUM(H29:I29) -> 2323000 | K29: Szombathelyi Köznevelési GAMESZ | L29: ='[3]int.kiadások RM I'!N29 -> 0 | N29: =SUM(L29:M29) -> 0 | O29: ='[3]int.kiadások RM I'!Q29 -> 0 | Q29: =SUM(O29:P29) -> 0 | R29: =B29+E29+H29+L29+O29 -> 2776174 | S29: =C29+F29+I29+M29+P29 -> -7803 | T29: =D29+G29+J29+N29+Q29 -> 2768371 | U29: Szombathelyi Köznevelési GAMESZ | V29: ='[3]int.kiadások RM I'!X29 -> 3487 | W29: =13617+10000 -> 23617 | X29: =SUM(V29:W29) -> 27104 | Y29: ='[3]int.kiadások RM I'!AA29 -> 7998 | AA29: =SUM(Y29:Z29) -> 7998 | AB29: ='[3]int.kiadások RM I'!AD29 -> 0 | AD29: =SUM(AB29:AC29) -> 0 | AE29: =V29+Y29+AB29 -> 11485 | AF29: =W29+Z29+AC29 -> 23617 | AG29: =X29+AA29+AD29 -> 35102 | AH29: =R29+AE29 -> 2787659 | AI29: =S29+AF29 -> 15814 | AJ29: =T29+AG29 -> 2803473
A30: Oktatási intézmények összesen | B30: =SUM(B28:B29) -> 3943492 | C30: =SUM(C28:C29) -> -5891 | D30: =SUM(D28:D29) -> 3937601 | E30: =SUM(E28:E29) -> 565846 | F30: =SUM(F28:F29) -> -3248 | G30: =SUM(G28:G29) -> 562598 | H30: =SUM(H28:H29) -> 2428083 | I30: =SUM(I28:I29) -> 5613 | J30: =SUM(J28:J29) -> 2433696 | K30: Oktatási intézmények összesen | L30: =SUM(L28:L29) -> 0 | M30: =SUM(M28:M29) -> 0 | N30: =SUM(N28:N29) -> 0 | O30: =SUM(O28:O29) -> 0 | P30: =SUM(P28:P29) -> 0 | Q30: =SUM(Q28:Q29) -> 0 | R30: =SUM(R28:R29) -> 6937421 | S30: =SUM(S28:S29) -> -3526 | T30: =SUM(T28:T29) -> 6933895 | U30: Oktatási intézmények összesen | V30: =SUM(V28:V29) -> 16713 | W30: =SUM(W28:W29) -> 35556 | X30: =SUM(X28:X29) -> 52269 | Y30: =SUM(Y28:Y29) -> 8573 | Z30: =SUM(Z28:Z29) -> 40722 | AA30: =SUM(AA28:AA29) -> 49295 | AB30: =SUM(AB28:AB29) -> 0 | AC30: =SUM(AC28:AC29) -> 0 | ... AJ30: =SUM(AJ28:AJ29) -> 7035459
A31: Nem oktatási intézmények | K31: Nem oktatási intézmények | U31: Nem oktatási intézmények
A32: Kulturális intézmények | K32: Kulturális intézmények | U32: Kulturális intézmények
A33: Mesebolt Bábszínház | B33: ='[3]int.kiadások RM I'!D33 -> 195637 | D33: =SUM(B33:C33) -> 195637 | E33: ='[3]int.kiadások RM I'!G33 -> 23752 | G33: =SUM(E33:F33) -> 23752 | H33: ='[3]int.kiadások RM I'!J33 -> 85689 | J33: =SUM(H33:I33) -> 85689 | K33: Mesebolt Bábszínház | L33: ='[3]int.kiadások RM I'!N33 -> 0 | N33: =SUM(L33:M33) -> 0 | O33: ='[3]int.kiadások RM I'!Q33 -> 0 | Q33: =SUM(O33:P33) -> 0 | R33: =B33+E33+H33+L33+O33 -> 305078 | S33: =C33+F33+I33+M33+P33 -> 0 | T33: =D33+G33+J33+N33+Q33 -> 305078 | U33: Mesebolt Bábszínház | V33: ='[3]int.kiadások RM I'!X33 -> 500 | X33: =SUM(V33:W33) -> 500 | Y33: ='[3]int.kiadások RM I'!AA33 -> 0 | AA33: =SUM(Y33:Z33) -> 0 | AB33: ='[3]int.kiadások RM I'!AD33 -> 0 | AD33: =SUM(AB33:AC33) -> 0 | AE33: =V33+Y33+AB33 -> 500 | AF33: =W33+Z33+AC33 -> 0 | AG33: =X33+AA33+AD33 -> 500 | AH33: =R33+AE33 -> 305578 | AI33: =S33+AF33 -> 0 | AJ33: =T33+AG33 -> 305578
A34: Savaria Szimfonikus Zenekar | B34: ='[3]int.kiadások RM I'!D34 -> 807097 | C34: 333 | D34: =SUM(B34:C34) -> 807430 | E34: ='[3]int.kiadások RM I'!G34 -> 113755 | F34: 93 | G34: =SUM(E34:F34) -> 113848 | H34: ='[3]int.kiadások RM I'!J34 -> 323658 | J34: =SUM(H34:I34) -> 323658 | K34: Savaria Szimfonikus Zenekar | L34: ='[3]int.kiadások RM I'!N34 -> 0 | N34: =SUM(L34:M34) -> 0 | O34: ='[3]int.kiadások RM I'!Q34 -> 0 | Q34: =SUM(O34:P34) -> 0 | R34: =B34+E34+H34+L34+O34 -> 1244510 | S34: =C34+F34+I34+M34+P34 -> 426 | T34: =D34+G34+J34+N34+Q34 -> 1244936 | U34: Savaria Szimfonikus Zenekar | V34: ='[3]int.kiadások RM I'!X34 -> 57689 | X34: =SUM(V34:W34) -> 57689 | Y34: ='[3]int.kiadások RM I'!AA34 -> 0 | AA34: =SUM(Y34:Z34) -> 0 | AB34: ='[3]int.kiadások RM I'!AD34 -> 0 | AD34: =SUM(AB34:AC34) -> 0 | AE34: =V34+Y34+AB34 -> 57689 | AF34: =W34+Z34+AC34 -> 0 | AG34: =X34+AA34+AD34 -> 57689 | AH34: =R34+AE34 -> 1302199 | AI34: =S34+AF34 -> 426 | AJ34: =T34+AG34 -> 1302625
A35: Berzsenyi Dániel Könyvtár | B35: ='[3]int.kiadások RM I'!D35 -> 342643 | C35: 281 | D35: =SUM(B35:C35) -> 342924 | E35: ='[3]int.kiadások RM I'!G35 -> 48977 | G35: =SUM(E35:F35) -> 48977 | H35: ='[3]int.kiadások RM I'!J35 -> 202485 | I35: 5394 | J35: =SUM(H35:I35) -> 207879 | K35: Berzsenyi Dániel Könyvtár | L35: ='[3]int.kiadások RM I'!N35 -> 0 | N35: =SUM(L35:M35) -> 0 | O35: ='[3]int.kiadások RM I'!Q35 -> 0 | Q35: =SUM(O35:P35) -> 0 | R35: =B35+E35+H35+L35+O35 -> 594105 | S35: =C35+F35+I35+M35+P35 -> 5675 | T35: =D35+G35+J35+N35+Q35 -> 599780 | U35: Berzsenyi Dániel Könyvtár | V35: ='[3]int.kiadások RM I'!X35 -> 12000 | X35: =SUM(V35:W35) -> 12000 | Y35: ='[3]int.kiadások RM I'!AA35 -> 0 | AA35: =SUM(Y35:Z35) -> 0 | AB35: ='[3]int.kiadások RM I'!AD35 -> 0 | AD35: =SUM(AB35:AC35) -> 0 | AE35: =V35+Y35+AB35 -> 12000 | AF35: =W35+Z35+AC35 -> 0 | AG35: =X35+AA35+AD35 -> 12000 | AH35: =R35+AE35 -> 606105 | AI35: =S35+AF35 -> 5675 | AJ35: =T35+AG35 -> 611780
A36: Savaria Múzeum | B36: ='[3]int.kiadások RM I'!D36 -> 697935 | C36: =4423+500 -> 4923 | D36: =SUM(B36:C36) -> 702858 | E36: ='[3]int.kiadások RM I'!G36 -> 98143 | F36: =575+140 -> 715 | G36: =SUM(E36:F36) -> 98858 | H36: ='[3]int.kiadások RM I'!J36 -> 281339 | I36: 19964 | J36: =SUM(H36:I36) -> 301303 | K36: Savaria Múzeum | L36: ='[3]int.kiadások RM I'!N36 -> 0 | N36: =SUM(L36:M36) -> 0 | O36: ='[3]int.kiadások RM I'!Q36 -> 0 | Q36: =SUM(O36:P36) -> 0 | R36: =B36+E36+H36+L36+O36 -> 1077417 | S36: =C36+F36+I36+M36+P36 -> 25602 | T36: =D36+G36+J36+N36+Q36 -> 1103019 | U36: Savaria Múzeum | V36: ='[3]int.kiadások RM I'!X36 -> 9793 | X36: =SUM(V36:W36) -> 9793 | Y36: ='[3]int.kiadások RM I'!AA36 -> 0 | AA36: =SUM(Y36:Z36) -> 0 | AB36: ='[3]int.kiadások RM I'!AD36 -> 0 | AD36: =SUM(AB36:AC36) -> 0 | AE36: =V36+Y36+AB36 -> 9793 | AF36: =W36+Z36+AC36 -> 0 | AG36: =X36+AA36+AD36 -> 9793 | AH36: =R36+AE36 -> 1087210 | AI36: =S36+AF36 -> 25602 | AJ36: =T36+AG36 -> 1112812
A37: Összesen | B37: =SUM(B33:B36) -> 2043312 | C37: =SUM(C33:C36) -> 5537 | D37: =SUM(D33:D36) -> 2048849 | E37: =SUM(E33:E36) -> 284627 | F37: =SUM(F33:F36) -> 808 | G37: =SUM(G33:G36) -> 285435 | H37: =SUM(H33:H36) -> 893171 | I37: =SUM(I33:I36) -> 25358 | J37: =SUM(J33:J36) -> 918529 | K37: Összesen | L37: =SUM(L33:L36) -> 0 | M37: =SUM(M33:M36) -> 0 | N37: =SUM(N33:N36) -> 0 | O37: =SUM(O33:O36) -> 0 | P37: =SUM(P33:P36) -> 0 | Q37: =SUM(Q33:Q36) -> 0 | R37: =SUM(R33:R36) -> 3221110 | S37: =SUM(S33:S36) -> 31703 | T37: =SUM(T33:T36) -> 3252813 | U37: Összesen | V37: =SUM(V33:V36) -> 79982 | W37: =SUM(W33:W36) -> 0 | X37: =SUM(X33:X36) -> 79982 | Y37: =SUM(Y33:Y36) -> 0 | Z37: =SUM(Z33:Z36) -> 0 | AA37: =SUM(AA33:AA36) -> 0 | AB37: =SUM(AB33:AB36) -> 0 | AC37: =SUM(AC33:AC36) -> 0 | ... AJ37: =SUM(AJ33:AJ36) -> 3332795
A38: Szociális intézmény | K38: Szociális intézmények | U38: Szociális intézmények
A39: Pálos Károly Szociális Szolgáltató Központ és Gyermekjóléti Szolgálat | B39: ='[3]int.kiadások RM I'!D39 -> 1120645 | C39: =28980+95490 -> 124470 | D39: =SUM(B39:C39) -> 1245115 | E39: ='[3]int.kiadások RM I'!G39 -> 188052 | F39: =-8454+11071 -> 2617 | G39: =SUM(E39:F39) -> 190669 | H39: ='[3]int.kiadások RM I'!J39 -> 675966 | I39: =6318+4116 -> 10434 | J39: =SUM(H39:I39) -> 686400 | K39: Pálos Károly Szociális Szolgáltató Központ és Gyermekjóléti Szolgálat | L39: ='[3]int.kiadások RM I'!N39 -> 0 | N39: =SUM(L39:M39) -> 0 | O39: ='[3]int.kiadások RM I'!Q39 -> 90 | Q39: =SUM(O39:P39) -> 90 | R39: =B39+E39+H39+L39+O39 -> 1984753 | S39: =C39+F39+I39+M39+P39 -> 137521 | T39: =D39+G39+J39+N39+Q39 -> 2122274 | U39: Pálos Károly Szociális Szolgáltató Központ és Gyermekjóléti Szolgálat | V39: ='[3]int.kiadások RM I'!X39 -> 0 | W39: 13237 | X39: =SUM(V39:W39) -> 13237 | Y39: ='[3]int.kiadások RM I'!AA39 -> 26719 | Z39: -7045 | AA39: =SUM(Y39:Z39) -> 19674 | AB39: ='[3]int.kiadások RM I'!AD39 -> 0 | AD39: =SUM(AB39:AC39) -> 0 | AE39: =V39+Y39+AB39 -> 26719 | AF39: =W39+Z39+AC39 -> 6192 | AG39: =X39+AA39+AD39 -> 32911 | AH39: =R39+AE39 -> 2011472 | AI39: =S39+AF39 -> 143713 | AJ39: =T39+AG39 -> 2155185
A40: Egészségügyi intézmény | K40: Egészségügyi intézmény | U40: Egészségügyi intézmény
A41: Szombathelyi Egészségügyi és Kulturális GESZ | B41: ='[3]int.kiadások RM I'!D41 -> 647456 | C41: 1000 | D41: =SUM(B41:C41) -> 648456 | E41: ='[3]int.kiadások RM I'!G41 -> 99139 | F41: 280 | G41: =SUM(E41:F41) -> 99419 | H41: ='[3]int.kiadások RM I'!J41 -> 404241 | I41: 1273 | J41: =SUM(H41:I41) -> 405514 | K41: Szombathelyi Egészségügyi és Kulturális GESZ | L41: ='[3]int.kiadások RM I'!N41 -> 0 | N41: =SUM(L41:M41) -> 0 | O41: ='[3]int.kiadások RM I'!Q41 -> 0 | Q41: =SUM(O41:P41) -> 0 | R41: =B41+E41+H41+L41+O41 -> 1150836 | S41: =C41+F41+I41+M41+P41 -> 2553 | T41: =D41+G41+J41+N41+Q41 -> 1153389 | U41: Szombathelyi Egészségügyi és Kulturális GESZ | V41: ='[3]int.kiadások RM I'!X41 -> 8416 | X41: =SUM(V41:W41) -> 8416 | Y41: ='[3]int.kiadások RM I'!AA41 -> 0 | AA41: =SUM(Y41:Z41) -> 0 | AB41: ='[3]int.kiadások RM I'!AD41 -> 0 | AD41: =SUM(AB41:AC41) -> 0 | AE41: =V41+Y41+AB41 -> 8416 | AF41: =W41+Z41+AC41 -> 0 | AG41: =X41+AA41+AD41 -> 8416 | AH41: =R41+AE41 -> 1159252 | AI41: =S41+AF41 -> 2553 | AJ41: =T41+AG41 -> 1161805
A42: Gyermekvédelmi intézmény | K42: Gyermekvédelmi intézmény | U42: Gyermekvédelmi intézmény
A43: Szombathelyi Egyesített Bölcsődei Intézmény | B43: ='[3]int.kiadások RM I'!D43 -> 1756008 | C43: =1750+23352 -> 25102 | D43: =SUM(B43:C43) -> 1781110 | E43: ='[3]int.kiadások RM I'!G43 -> 273281 | F43: =232+3632 -> 3864 | G43: =SUM(E43:F43) -> 277145 | H43: ='[3]int.kiadások RM I'!J43 -> 233816 | I43: 4107 | J43: =SUM(H43:I43) -> 237923 | K43: Szombathelyi Egyesített Bölcsődei Intézmény | L43: ='[3]int.kiadások RM I'!N43 -> 0 | N43: =SUM(L43:M43) -> 0 | O43: ='[3]int.kiadások RM I'!Q43 -> 0 | Q43: =SUM(O43:P43) -> 0 | R43: =B43+E43+H43+L43+O43 -> 2263105 | S43: =C43+F43+I43+M43+P43 -> 33073 | T43: =D43+G43+J43+N43+Q43 -> 2296178 | U43: Szombathelyi Egyesített Bölcsődei Intézmény | V43: ='[3]int.kiadások RM I'!X43 -> 27792 | W43: =-595+11282 -> 10687 | X43: =SUM(V43:W43) -> 38479 | Y43: ='[3]int.kiadások RM I'!AA43 -> 31564 | Z43: 2488 | AA43: =SUM(Y43:Z43) -> 34052 | AB43: ='[3]int.kiadások RM I'!AD43 -> 0 | AD43: =SUM(AB43:AC43) -> 0 | AE43: =V43+Y43+AB43 -> 59356 | AF43: =W43+Z43+AC43 -> 13175 | AG43: =X43+AA43+AD43 -> 72531 | AH43: =R43+AE43 -> 2322461 | AI43: =S43+AF43 -> 46248 | AJ43: =T43+AG43 -> 2368709
A44: Egyéb intézmények | K44: Egyéb intézmény | U44: Egyéb intézmény
A45: Szombathely Városi Vásárcsarnok | B45: ='[3]int.kiadások RM I'!D45 -> 96676 | D45: =SUM(B45:C45) -> 96676 | E45: ='[3]int.kiadások RM I'!G45 -> 12708 | G45: =SUM(E45:F45) -> 12708 | H45: ='[3]int.kiadások RM I'!J45 -> 129050 | J45: =SUM(H45:I45) -> 129050 | K45: Szombathely Városi Vásárcsarnok | L45: ='[3]int.kiadások RM I'!N45 -> 0 | N45: =SUM(L45:M45) -> 0 | O45: ='[3]int.kiadások RM I'!Q45 -> 0 | Q45: =SUM(O45:P45) -> 0 | R45: =B45+E45+H45+L45+O45 -> 238434 | S45: =C45+F45+I45+M45+P45 -> 0 | T45: =D45+G45+J45+N45+Q45 -> 238434 | U45: Szombathely Városi Vásárcsarnok | V45: ='[3]int.kiadások RM I'!X45 -> 14571 | X45: =SUM(V45:W45) -> 14571 | Y45: ='[3]int.kiadások RM I'!AA45 -> 0 | AA45: =SUM(Y45:Z45) -> 0 | AB45: ='[3]int.kiadások RM I'!AD45 -> 0 | AD45: =SUM(AB45:AC45) -> 0 | AE45: =V45+Y45+AB45 -> 14571 | AF45: =W45+Z45+AC45 -> 0 | AG45: =X45+AA45+AD45 -> 14571 | AH45: =R45+AE45 -> 253005 | AI45: =S45+AF45 -> 0 | AJ45: =T45+AG45 -> 253005
A46: Szombathelyi Parkfenntartó Intézmény | B46: ='[3]int.kiadások RM I'!D46 -> 282909 | D46: =SUM(B46:C46) -> 282909 | E46: ='[3]int.kiadások RM I'!G46 -> 40347 | G46: =SUM(E46:F46) -> 40347 | H46: ='[3]int.kiadások RM I'!J46 -> 206663 | I46: 3134 | J46: =SUM(H46:I46) -> 209797 | K46: Szombathelyi Parkfenntartó Intézmény | L46: ='[3]int.kiadások RM I'!N46 -> 0 | N46: =SUM(L46:M46) -> 0 | O46: ='[3]int.kiadások RM I'!Q46 -> 0 | Q46: =SUM(O46:P46) -> 0 | R46: =B46+E46+H46+L46+O46 -> 529919 | S46: =C46+F46+I46+M46+P46 -> 3134 | T46: =D46+G46+J46+N46+Q46 -> 533053 | U46: Szombathelyi Parkfenntartó Intézmény | V46: ='[3]int.kiadások RM I'!X46 -> 1000 | W46: 1000 | X46: =SUM(V46:W46) -> 2000 | Y46: ='[3]int.kiadások RM I'!AA46 -> 0 | AA46: =SUM(Y46:Z46) -> 0 | AB46: ='[3]int.kiadások RM I'!AD46 -> 0 | AD46: =SUM(AB46:AC46) -> 0 | AE46: =V46+Y46+AB46 -> 1000 | AF46: =W46+Z46+AC46 -> 1000 | AG46: =X46+AA46+AD46 -> 2000 | AH46: =R46+AE46 -> 530919 | AI46: =S46+AF46 -> 4134 | AJ46: =T46+AG46 -> 535053
A47: Polgármesteri Hivatal | B47: ='[3]int.kiadások RM I'!D47 -> 2676512 | C47: =2398+15392 -> 17790 | D47: =SUM(B47:C47) -> 2694302 | E47: ='[3]int.kiadások RM I'!G47 -> 410593 | F47: =157+2311 -> 2468 | G47: =SUM(E47:F47) -> 413061 | H47: ='[3]int.kiadások RM I'!J47 -> 504212 | I47: =2319+1231 -> 3550 | J47: =SUM(H47:I47) -> 507762 | K47: Polgármesteri Hivatal | L47: ='[3]int.kiadások RM I'!N47 -> 0 | N47: =SUM(L47:M47) -> 0 | O47: ='[3]int.kiadások RM I'!Q47 -> 4500 | Q47: =SUM(O47:P47) -> 4500 | R47: =B47+E47+H47+L47+O47 -> 3595817 | S47: =C47+F47+I47+M47+P47 -> 23808 | T47: =D47+G47+J47+N47+Q47 -> 3619625 | U47: Polgármesteri Hivatal | V47: ='[3]int.kiadások RM I'!X47 -> 94775 | W47: 187 | X47: =SUM(V47:W47) -> 94962 | Y47: ='[3]int.kiadások RM I'!AA47 -> 8000 | AA47: =SUM(Y47:Z47) -> 8000 | AB47: ='[3]int.kiadások RM I'!AD47 -> 0 | AD47: =SUM(AB47:AC47) -> 0 | AE47: =V47+Y47+AB47 -> 102775 | AF47: =W47+Z47+AC47 -> 187 | AG47: =X47+AA47+AD47 -> 102962 | AH47: =R47+AE47 -> 3698592 | AI47: =S47+AF47 -> 23995 | AJ47: =T47+AG47 -> 3722587
A48: Összesen | B48: =SUM(B45:B47) -> 3056097 | C48: =SUM(C45:C47) -> 17790 | D48: =SUM(D45:D47) -> 3073887 | E48: =SUM(E45:E47) -> 463648 | F48: =SUM(F45:F47) -> 2468 | G48: =SUM(G45:G47) -> 466116 | H48: =SUM(H45:H47) -> 839925 | I48: =SUM(I45:I47) -> 6684 | J48: =SUM(J45:J47) -> 846609 | K48: Összesen | L48: =SUM(L45:L47) -> 0 | M48: =SUM(M45:M47) -> 0 | N48: =SUM(N45:N47) -> 0 | O48: =SUM(O45:O47) -> 4500 | P48: =SUM(P45:P47) -> 0 | Q48: =SUM(Q45:Q47) -> 4500 | R48: =SUM(R45:R47) -> 4364170 | S48: =SUM(S45:S47) -> 26942 | T48: =SUM(T45:T47) -> 4391112 | U48: Összesen | V48: =SUM(V45:V47) -> 110346 | W48: =SUM(W45:W47) -> 1187 | X48: =SUM(X45:X47) -> 111533 | Y48: =SUM(Y45:Y47) -> 8000 | Z48: =SUM(Z45:Z47) -> 0 | AA48: =SUM(AA45:AA47) -> 8000 | AB48: =SUM(AB45:AB47) -> 0 | AC48: =SUM(AC45:AC47) -> 0 | ... AJ48: =SUM(AJ45:AJ47) -> 4510645
A49: Nem oktatási intézmények összesen | B49: =B37+B39+B41+B43+B48 -> 8623518 | C49: =C37+C39+C41+C43+C48 -> 173899 | D49: =D37+D39+D41+D43+D48 -> 8797417 | E49: =E37+E39+E41+E43+E48 -> 1308747 | F49: =F37+F39+F41+F43+F48 -> 10037 | G49: =G37+G39+G41+G43+G48 -> 1318784 | H49: =H37+H39+H41+H43+H48 -> 3047119 | I49: =I37+I39+I41+I43+I48 -> 47856 | J49: =J37+J39+J41+J43+J48 -> 3094975 | K49: Nem oktatási intézmények összesen | L49: =L37+L39+L41+L43+L48 -> 0 | M49: =M37+M39+M41+M43+M48 -> 0 | N49: =N37+N39+N41+N43+N48 -> 0 | O49: =O37+O39+O41+O43+O48 -> 4590 | P49: =P37+P39+P41+P43+P48 -> 0 | Q49: =Q37+Q39+Q41+Q43+Q48 -> 4590 | R49: =R37+R39+R41+R43+R48 -> 12983974 | S49: =S37+S39+S41+S43+S48 -> 231792 | T49: =T37+T39+T41+T43+T48 -> 13215766 | U49: Nem oktatási intézmények összesen | V49: =V37+V39+V41+V43+V48 -> 226536 | W49: =W37+W39+W41+W43+W48 -> 25111 | X49: =X37+X39+X41+X43+X48 -> 251647 | Y49: =Y37+Y39+Y41+Y43+Y48 -> 66283 | Z49: =Z37+Z39+Z41+Z43+Z48 -> -4557 | AA49: =AA37+AA39+AA41+AA43+AA48 -> 61726 | AB49: =AB37+AB39+AB41+AB43+AB48 -> 0 | AC49: =AC37+AC39+AC41+AC43+AC48 -> 0 | ... AJ49: =AJ37+AJ39+AJ41+AJ43+AJ48 -> 13529139
A50: Intézmények mindösszesen | B50: =B30+B49 -> 12567010 | C50: =C30+C49 -> 168008 | D50: =D30+D49 -> 12735018 | E50: =E30+E49 -> 1874593 | F50: =F30+F49 -> 6789 | G50: =G30+G49 -> 1881382 | H50: =H30+H49 -> 5475202 | I50: =I30+I49 -> 53469 | J50: =J30+J49 -> 5528671 | K50: Intézmények mindösszesen | L50: =L30+L49 -> 0 | M50: =M30+M49 -> 0 | N50: =N30+N49 -> 0 | O50: =O30+O49 -> 4590 | P50: =P30+P49 -> 0 | Q50: =Q30+Q49 -> 4590 | R50: =R30+R49 -> 19921395 | S50: =S30+S49 -> 228266 | T50: =T30+T49 -> 20149661 | U50: Intézmények mindösszesen | V50: =V30+V49 -> 243249 | W50: =W30+W49 -> 60667 | X50: =X30+X49 -> 303916 | Y50: =Y30+Y49 -> 74856 | Z50: =Z30+Z49 -> 36165 | AA50: =AA30+AA49 -> 111021 | AB50: =AB30+AB49 -> 0 | AC50: =AC30+AC49 -> 0 | ... AJ50: =AJ30+AJ49 -> 20564598

Sheet 7 létszám
A1: Szombathely Megyei Jogú Város Önkormányzatának
A2: 2026. évi engedélyezett létszámelőirányzata
M3: fő
A4: Intézmény | D4: 2026. évi I. sz. módosított előirányzat | E4: Javasolt módosítás | F4: 2026. évi II. sz. módosított előirányzat | G4: 2026. évi II. sz. módosított előirányzat funkciócsoportokba sorolt létszám megoszlása bérrendszerek szerint
B5: 2025. évi záró előirányzat | C5: 2026. évi eredeti előirányzat | G5: Köztisztviselők | H5: Egészségügyi szolgálati jogviszonyban foglalkoztatottak | I5: Közalkalmazottak | J5: Pedagógus életpálya alapján foglalkoztatottak | K5: Munka Törvénykönyve hatálya alá tartozók | M5: Választott tisztségviselők
L6: ebből: közfoglalkoztatottak
A7: Ó v o d á k :
A8: Aréna Óvoda | B8: ='[5]2026 évi nyitó létszám KGY'!B8 -> 34 | C8: ='[6]létszám ei mód RM I. int. '!C8 -> 33 | D8: ='[6]létszám ei mód RM I. int. '!E8 -> 33 | F8: =D8+E8 -> 33 | J8: 33
A9: Barátság Óvoda | B9: ='[5]2026 évi nyitó létszám KGY'!B9 -> 24 | C9: ='[6]létszám ei mód RM I. int. '!C9 -> 23 | D9: ='[6]létszám ei mód RM I. int. '!E9 -> 23 | F9: =D9+E9 -> 23 | J9: 23
A10: Pipitér Óvoda | B10: ='[5]2026 évi nyitó létszám KGY'!B10 -> 24 | C10: ='[6]létszám ei mód RM I. int. '!C10 -> 23 | D10: ='[6]létszám ei mód RM I. int. '!E10 -> 23 | F10: =D10+E10 -> 23 | J10: 23
A11: Hétszínvirág Óvoda | B11: ='[5]2026 évi nyitó létszám KGY'!B11 -> 29 | C11: ='[6]létszám ei mód RM I. int. '!C11 -> 28 | D11: ='[6]létszám ei mód RM I. int. '!E11 -> 28 | F11: =D11+E11 -> 28 | J11: 28
A12: Szivárvány Óvoda | B12: ='[5]2026 évi nyitó létszám KGY'!B12 -> 28 | C12: ='[6]létszám ei mód RM I. int. '!C12 -> 26 | D12: ='[6]létszám ei mód RM I. int. '!E12 -> 26 | F12: =D12+E12 -> 26 | J12: 26
A13: Donászy Magda Óvoda | B13: ='[5]2026 évi nyitó létszám KGY'!B13 -> 24 | C13: ='[6]létszám ei mód RM I. int. '!C13 -> 23 | D13: ='[6]létszám ei mód RM I. int. '!E13 -> 23 | E13: -1 | F13: =D13+E13 -> 22 | J13: 22
A14: Mesevár Óvoda | B14: ='[5]2026 évi nyitó létszám KGY'!B14 -> 19 | C14: ='[6]létszám ei mód RM I. int. '!C14 -> 18 | D14: ='[6]létszám ei mód RM I. int. '!E14 -> 18 | F14: =D14+E14 -> 18 | J14: 18
A15: Játéksziget Óvoda | B15: ='[5]2026 évi nyitó létszám KGY'!B15 -> 19 | C15: ='[6]létszám ei mód RM I. int. '!C15 -> 18.5 | D15: ='[6]létszám ei mód RM I. int. '!E15 -> 18.5 | F15: =D15+E15 -> 18.5 | J15: 18 | K15: 0.5
A16: Kőrösi Csoma Sándor utcai Óvoda | B16: ='[5]2026 évi nyitó létszám KGY'!B16 -> 28 | C16: ='[6]létszám ei mód RM I. int. '!C16 -> 28.5 | D16: ='[6]létszám ei mód RM I. int. '!E16 -> 28.5 | F16: =D16+E16 -> 28.5 | J16: 28 | K16: 0.5
A17: Gazdag Erzsi Óvoda | B17: ='[5]2026 évi nyitó létszám KGY'!B17 -> 31 | C17: ='[6]létszám ei mód RM I. int. '!C17 -> 30.5 | D17: ='[6]létszám ei mód RM I. int. '!E17 -> 30.5 | F17: =D17+E17 -> 30.5 | J17: 30 | K17: 0.5
A18: Maros Óvoda | B18: ='[5]2026 évi nyitó létszám KGY'!B18 -> 16 | C18: ='[6]létszám ei mód RM I. int. '!C18 -> 15 | D18: ='[6]létszám ei mód RM I. int. '!E18 -> 15 | E18: 1 | F18: =D18+E18 -> 16 | J18: 16
A19: Vadvirág Óvoda | B19: ='[5]2026 évi nyitó létszám KGY'!B19 -> 15 | C19: ='[6]létszám ei mód RM I. int. '!C19 -> 14 | D19: ='[6]létszám ei mód RM I. int. '!E19 -> 14 | F19: =D19+E19 -> 14 | J19: 14
A20: Margaréta Óvoda | B20: ='[5]2026 évi nyitó létszám KGY'!B20 -> 20 | C20: ='[6]létszám ei mód RM I. int. '!C20 -> 19 | D20: ='[6]létszám ei mód RM I. int. '!E20 -> 19 | F20: =D20+E20 -> 19 | J20: 19
A21: Napsugár Óvoda | B21: ='[5]2026 évi nyitó létszám KGY'!B21 -> 21 | C21: ='[6]létszám ei mód RM I. int. '!C21 -> 20.5 | D21: ='[6]létszám ei mód RM I. int. '!E21 -> 20.5 | E21: 1 | F21: =D21+E21 -> 21.5 | J21: 21 | K21: 0.5
A22: Szűrcsapó Óvoda | B22: ='[5]2026 évi nyitó létszám KGY'!B22 -> 32 | C22: ='[6]létszám ei mód RM I. int. '!C22 -> 31.5 | D22: ='[6]létszám ei mód RM I. int. '!E22 -> 31.5 | F22: =D22+E22 -> 31.5 | J22: 31 | K22: 0.5
A23: Mocorgó Óvoda | B23: ='[5]2026 évi nyitó létszám KGY'!B23 -> 24 | C23: ='[6]létszám ei mód RM I. int. '!C23 -> 23 | D23: ='[6]létszám ei mód RM I. int. '!E23 -> 23 | F23: =D23+E23 -> 23 | J23: 23
A24: Benczúr Gyula Utcai Óvoda | B24: ='[5]2026 évi nyitó létszám KGY'!B24 -> 18 | C24: ='[6]létszám ei mód RM I. int. '!C24 -> 17 | D24: ='[6]létszám ei mód RM I. int. '!E24 -> 17 | F24: =D24+E24 -> 17 | J24: 17
A25: Weöres Sándor Óvoda | B25: ='[5]2026 évi nyitó létszám KGY'!B25 -> 13 | C25: ='[6]létszám ei mód RM I. int. '!C25 -> 11.5 | D25: ='[6]létszám ei mód RM I. int. '!E25 -> 11.5 | F25: =D25+E25 -> 11.5 | J25: 11.5
A26: Óvodák összesen: | B26: =SUM(B8:B25) -> 419 | C26: =SUM(C8:C25) -> 403 | D26: =SUM(D8:D25) -> 403 | E26: =SUM(E8:E25) -> 1 | F26: =SUM(F8:F25) -> 404 | G26: =SUM(G8:G25) -> 0 | H26: =SUM(H8:H25) -> 0 | I26: =SUM(I8:I25) -> 0 | ... M26: =SUM(M8:M25) -> 0
A27: Szombathelyi Köznevelési GAMESZ | B27: ='[5]2026 évi nyitó létszám KGY'!B27 -> 44 | C27: ='[6]létszám ei mód RM I. int. '!C27 -> 49 | D27: ='[6]létszám ei mód RM I. int. '!E27 -> 49 | F27: =D27+E27 -> 49 | I27: 49
A28: Oktatási intézmények összesen: | B28: =SUM(B26:B27) -> 463 | C28: =SUM(C26:C27) -> 452 | D28: =SUM(D26:D27) -> 452 | E28: =E27+E26 -> 1 | F28: =F27+F26 -> 453 | G28: =G27+G26 -> 0 | H28: =H27+H26 -> 0 | I28: =SUM(I26:I27) -> 49 | J28: =SUM(J26:J27) -> 401.5 | K28: =K27+K26 -> 2.5 | L28: =L27+L26 -> 0 | M28: =M27+M26 -> 0
A29: Nem oktatási intézmények:
A30: Kulturális intézmény
A31: Mesebolt Bábszínház | B31: ='[5]2026 évi nyitó létszám KGY'!B31 -> 19.75 | C31: ='[6]létszám ei mód RM I. int. '!C31 -> 19.75 | D31: ='[6]létszám ei mód RM I. int. '!E31 -> 19.75 | F31: =D31+E31 -> 19.75 | K31: 19.75
A32: Savaria Szimfonikus Zenekar | B32: ='[5]2026 évi nyitó létszám KGY'!B32 -> 84.5 | C32: ='[6]létszám ei mód RM I. int. '!C32 -> 84.5 | D32: ='[6]létszám ei mód RM I. int. '!E32 -> 84.5 | F32: =D32+E32 -> 84.5 | K32: 84.5
A33: Berzsenyi Dániel Könyvtár | B33: ='[5]2026 évi nyitó létszám KGY'!B33 -> 46 | C33: ='[6]létszám ei mód RM I. int. '!C33 -> 46 | D33: ='[6]létszám ei mód RM I. int. '!E33 -> 46 | F33: =D33+E33 -> 46 | K33: 46
A34: Savaria Múzeum | B34: ='[5]2026 évi nyitó létszám KGY'!B34 -> 100.75 | C34: ='[6]létszám ei mód RM I. int. '!C34 -> 100.75 | D34: ='[6]létszám ei mód RM I. int. '!E34 -> 100.75 | F34: =D34+E34 -> 100.75 | K34: 100.75
A35: Összesen: | B35: =SUM(B31:B34) -> 251 | C35: =SUM(C31:C34) -> 251 | D35: =SUM(D31:D34) -> 251 | E35: =SUM(E31:E34) -> 0 | F35: =SUM(F31:F34) -> 251 | G35: =SUM(G31:G34) -> 0 | H35: =SUM(H31:H34) -> 0 | I35: =SUM(I31:I34) -> 0 | ... M35: =SUM(M31:M34) -> 0
A36: Szociális intézmény
A37: Pálos Károly Szociális Szolgáltató Központ és Gyermekjóléti Szolgálat | B37: ='[5]2026 évi nyitó létszám KGY'!B37 -> 182.75 | C37: ='[6]létszám ei mód RM I. int. '!C37 -> 181.75 | D37: ='[6]létszám ei mód RM I. int. '!E37 -> 181.75 | F37: =D37+E37 -> 181.75 | I37: 181.75
A38: Egészségügyi intézmény
A39: Szombathelyi Egészségügyi és Kulturális GESZ | B39: ='[5]2026 évi nyitó létszám KGY'!B39 -> 72 | C39: ='[6]létszám ei mód RM I. int. '!C39 -> 77 | D39: ='[6]létszám ei mód RM I. int. '!E39 -> 77 | F39: =D39+E39 -> 77 | H39: 58 | I39: 19
A40: Gyermekvédelmi intézmény
A41: Szombathelyi Egyesített Bölcsődei Intézmény | B41: ='[5]2026 évi nyitó létszám KGY'!B41 -> 201.755 | C41: ='[6]létszám ei mód RM I. int. '!C41 -> 201.755 | D41: ='[6]létszám ei mód RM I. int. '!E41 -> 201.755 | F41: =D41+E41 -> 201.755 | I41: 134.76 | J41: 67
A42: Egyéb intézmények
A43: Szombathely Városi Vásárcsarnok | B43: ='[5]2026 évi nyitó létszám KGY'!B43 -> 14.5 | C43: ='[6]létszám ei mód RM I. int. '!C43 -> 14.5 | D43: ='[6]létszám ei mód RM I. int. '!E43 -> 14.5 | F43: =D43+E43 -> 14.5 | I43: 14.5
A44: Szombathelyi Parkfenntartó Intézmény | B44: ='[5]2026 évi nyitó létszám KGY'!B44 -> 0 | C44: ='[6]létszám ei mód RM I. int. '!C44 -> 43 | D44: ='[6]létszám ei mód RM I. int. '!E44 -> 43 | F44: =D44+E44 -> 43 | I44: 43
A45: Polgármesteri Hivatal | B45: ='[5]2026 évi nyitó létszám KGY'!B45 -> 301.5 | C45: ='[6]létszám ei mód RM I. int. '!C45 -> 289.75 | D45: ='[6]létszám ei mód RM I. int. '!E45 -> 289.75 | F45: =D45+E45 -> 289.75 | G45: 247 | K45: 42.75
A46: Összesen | B46: =SUM(B43:B45) -> 316 | C46: =SUM(C43:C45) -> 347.25 | D46: =SUM(D43:D45) -> 347.25 | E46: =SUM(E43:E45) -> 0 | F46: =SUM(F43:F45) -> 347.25 | G46: =SUM(G43:G45) -> 247 | H46: =SUM(H43:H45) -> 0 | I46: =SUM(I43:I45) -> 57.5 | ... M46: =SUM(M43:M45) -> 0
A47: Nem oktatási intézmények összesen | B47: =B35+B37+B39+B41+B46 -> 1023.505 | C47: =C35+C37+C39+C41+C46 -> 1058.755 | D47: =D35+D37+D39+D41+D46 -> 1058.755 | E47: =E35+E37+E39+E41+E46 -> 0 | F47: =F35+F37+F39+F41+F46 -> 1058.755 | G47: =G35+G37+G39+G41+G46 -> 247 | H47: =H35+H37+H39+H41+H46 -> 58 | I47: =I35+I37+I39+I41+I46 -> 393.01 | ... M47: =M35+M37+M39+M41+M46 -> 0
A48: Intézmények mindösszesen | B48: =B28+B47 -> 1486.505 | C48: =C28+C47 -> 1510.755 | D48: =D28+D47 -> 1510.755 | E48: =E28+E47 -> 1 | F48: =F28+F47 -> 1511.755 | G48: =G28+G47 -> 247 | H48: =H28+H47 -> 58 | I48: =I28+I47 -> 442.01 | ... M48: =M28+M47 -> 0
A49: Önkormányzat | B49: ='[5]2026 évi nyitó létszám KGY'!B49 -> 18 | C49: ='[6]létszám ei mód RM I. int. '!C49 -> 18 | D49: ='[6]létszám ei mód RM I. int. '!E49 -> 18 | F49: =D49+E49 -> 18 | M49: 18
A50: Mindösszesen | B50: =B48+B49 -> 1504.505 | C50: =C48+C49 -> 1528.755 | D50: =D48+D49 -> 1528.755 | E50: =E48+E49 -> 1 | F50: =F48+F49 -> 1529.755 | G50: =G48+G49 -> 247 | H50: =H48+H49 -> 58 | I50: =I48+I49 -> 442.01 | ... M50: =M48+M49 -> 18

Sheet 8 oktatás
A2: Oktatási ágazat kiadásai
A4: Működési kiadások | F4: ezer forintban
A5: Megnevezés | B5: 2025. évi | C5: 2026. évi | D5: 2026. évi I.sz. | E5: Javasolt | F5: 2026. évi II.sz.
B6: teljesítés | C6: eredeti előirányzat | D6: módosított előirányzat | E6: módosítás | F6: módosított előirányzat
A7: Óvodák | B7: 3462845 | C7: =3540900+324611 -> 3865511 | D7: 4161247 | E7: =7780+8863+100-12466 -> 4277 | F7: =SUM(D7:E7) -> 4165524
A8: Szombathelyi Köznevelési GAMESZ | B8: 2512740 | C8: =2495269+201945 -> 2697214 | D8: 2776174 | E8: =2700-10503 -> -7803 | F8: =SUM(D8:E8) -> 2768371
A9: Oktatási intézmények összesen: | B9: =SUM(B7:B8) -> 5975585 | C9: =SUM(C7:C8) -> 6562725 | D9: =SUM(D7:D8) -> 6937421 | E9: =SUM(E7:E8) -> -3526 | F9: =SUM(F7:F8) -> 6933895
A10: Óvoda intézményi karbantartás | B10: 144 | C10: 0 | D10: 1750 | F10: =SUM(D10:E10) -> 1750
A11: Vas megyei Szakképzési Centrum működési hozzájárulás | B11: 7152 | C11: 0 | D11: 0 | F11: =SUM(D11:E11) -> 0
A12: Versenyek, rendezvények, támogatások | B12: 100 | C12: 500 | D12: 1000 | F12: =SUM(D12:E12) -> 1000
A13: Országos tanulmányi versenyeken eredményesen szereplő diákok és tanáraik jutalmazása | B13: 1538 | C13: 1800 | D13: 2540 | E13: 500 | F13: =SUM(D13:E13) -> 3040
A14: Önkormányzati napközis tábor megszervezése | C14: 10000 | D14: 0 | F14: =SUM(D14:E14) -> 0
A15: Fonyódi gyermektábor | B15: 6755 | C15: =6000+1000 -> 7000 | D15: 7045 | E15: 350 | F15: =SUM(D15:E15) -> 7395
A16: Pedagógus kitüntetések | B16: 4452 | C16: 4842 | D16: 5622 | F16: =SUM(D16:E16) -> 5622
A17: Petz ösztöndíj | B17: 94 | C17: =1250-1000 -> 250 | D17: 625 | F17: =SUM(D17:E17) -> 625
A18: " Szombathely visszavár" ösztöndíjrendszer | B18: 2709 | C18: 3000 | D18: 3511 | F18: =SUM(D18:E18) -> 3511
A19: Arany János ösztöndíj | B19: 100 | C19: 300 | D19: 300 | F19: =SUM(D19:E19) -> 300
A20: Városi pedagógus nap, tanévnyitó ünnepség | B20: 907 | C20: 1500 | D20: 2366 | E20: -100 | F20: =SUM(D20:E20) -> 2266
A21: SZMJV Diákönkormányzat - rendezvények, programok, támogatások, egyéb kiadások | B21: 746 | C21: 1000 | D21: 1880 | F21: =SUM(D21:E21) -> 1880
A22: Óvodai ellátó rendszerben prognosztizált munkaerő-hiány kezelése | B22: 600 | C22: 800 | D22: 2319 | F22: =SUM(D22:E22) -> 2319
A23: Energiaügyi Minisztérium "Zöld óvoda" program támogatás (Mocorgó Óvoda) | B23: 1000 | D23: 1000 | F23: =SUM(D23:E23) -> 1000
A24: Önkormányzati oktatási kiadások összesen | B24: =SUM(B10:B23) -> 26297 | C24: =SUM(C10:C23) -> 30992 | D24: =SUM(D10:D23) -> 29958 | E24: =SUM(E10:E23) -> 750 | F24: =SUM(F10:F23) -> 30708
A25: OKTATÁSI MŰKÖDÉSI CÉLÚ KIADÁSOK ÖSSZESEN | B25: =+B24+B9 -> 6001882 | C25: =+C24+C9 -> 6593717 | D25: =+D24+D9 -> 6967379 | E25: =+E24+E9 -> -2776 | F25: =+F24+F9 -> 6964603
A27: Felhalmozási kiadások
A28: Megnevezés | B28: 2025. évi | C28: 2026. évi | D28: 2026. évi I.sz. | E28: Javasolt | F28: 2026. évi II.sz.
B29: teljesítés | C29: eredeti előirányzat | D29: módosított előirányzat | E29: módosítás | F29: módosított előirányzat
A30: Óvodák | B30: 27648 | D30: 13801 | E30: =37522+15139 -> 52661 | F30: =SUM(D30:E30) -> 66462
A31: Szombathelyi Köznevelési GAMESZ | B31: 63645 | D31: 11485 | E31: =10000+13617 -> 23617 | F31: =SUM(D31:E31) -> 35102
A32: OKTATÁSI FELHALMOZÁSI CÉLÚ KIADÁSOK ÖSSZESEN | B32: =SUM(B30:B31) -> 91293 | C32: =SUM(C30:C31) -> 0 | D32: =SUM(D30:D31) -> 25286 | E32: =SUM(E30:E31) -> 76278 | F32: =SUM(F30:F31) -> 101564
A34: OKTATÁSI ÁGAZAT KIADÁSAI MINDÖSSZESEN | B34: =+B32+B24+B9 -> 6093175 | C34: =+C32+C24+C9 -> 6593717 | D34: =+D32+D24+D9 -> 6992665 | E34: =+E32+E24+E9 -> 73502 | F34: =+F32+F24+F9 -> 7066167
A36: Kötelező feladat
A37: Nem kötelező feladat

Sheet 9 kultúra
A2: Kulturális ágazat, média kiadásai
A4: Működési kiadások | F4: ezer forintban
A5: Megnevezés | B5: 2025. évi | C5: 2026. évi | D5: 2026. évi I.sz. | E5: Javasolt | F5: 2026. évi II.sz.
B6: teljesítés | C6: eredeti előirányzat | D6: módosított előirányzat | E6: módosítás | F6: módosított előirányzat
A7: 1. Városi kulturális intézmények
A8: Mesebolt Bábszínház | B8: 251831 | C8: =162526+28055+51993 -> 242574 | D8: 305078 | F8: =SUM(D8:E8) -> 305078
A9: Savaria Szimfonikus Zenekar | B9: 829196 | C9: =581360+175940 -> 757300 | D9: 1244510 | E9: 426 | F9: =SUM(D9:E9) -> 1244936
A10: Berzsenyi Dániel Könyvtár | B10: 512344 | C10: =324895+94462 -> 419357 | D10: 594105 | E10: 5675 | F10: =SUM(D10:E10) -> 599780
A11: Savaria Múzeum | B11: 872382 | C11: =756427+199180+4000-20000 -> 939607 | D11: 1077417 | E11: =640+24962 -> 25602 | F11: =SUM(D11:E11) -> 1103019
A12: 1. Városi kulturális intézmények működési kiadásai össezesen | B12: =SUM(B8:B11) -> 2465753 | C12: =SUM(C8:C11) -> 2358838 | D12: =SUM(D8:D11) -> 3221110 | E12: =SUM(E8:E11) -> 31703 | F12: =SUM(F8:F11) -> 3252813
A13: 2. Önkormányzati gazdasági társaságok
A14: Weöres Sándor Színház Nkft. önkormányzati támogatása | B14: 347387 | C14: =307387+34690+3000+3000+9731 -> 357808 | D14: 357808 | F14: =SUM(D14:E14) -> 357808
A15: Önkormányzati fenntartású Weöres Sándor Színház Nkft. közös működtetési támogatása | B15: 75519 | C15: =373897-71822+55733 -> 357808 | D15: 0 | F15: =SUM(D15:E15) -> 0
A16: Települési önkormányzatok kulturális feladatainak bérjellegű támogatása a 682/2021. (XII.6.) korm.rend.-hez kapcsolódó 20% - központi támogatás | B16: 71822 | C16: 71822 | D16: 71822 | F16: =SUM(D16:E16) -> 71822
A17: Kulturális gazdasági társaságokban foglalkoztatottak 15%-os béremelésének központi támogatása | D17: 77204 | F17: =SUM(D17:E17) -> 77204
A18: Weöres Sándor Színház Nkft. összesen | B18: =SUM(B14:B17) -> 494728 | C18: =SUM(C14:C17) -> 787438 | D18: =SUM(D14:D17) -> 506834 | E18: =SUM(E14:E17) -> 0 | F18: =SUM(F14:F17) -> 506834
A19: Savaria Turizmus Nkft támogatása | B19: 55405 | C19: 48651 | D19: 48651 | F19: =SUM(D19:E19) -> 48651
A20: AGORA Savaria Kulturális és Médiaközpont Nkft. önkormányzai támogatása | B20: 429570 | C20: =384000-15000 -> 369000 | D20: 372228 | F20: =SUM(D20:E20) -> 372228
A21: Települési önkormányzatok kulturális feladatainak bérjellegű támogatása a 682/2021. (XII.6.) korm.rend.-hez kapcsolódó 20% - központi támogatás | D21: 24570 | F21: =SUM(D21:E21) -> 24570
A22: Kulturális gazdasági társaságokban foglalkoztatottak 15%-os béremelésének központi támogatása | D22: 62625 | F22: =SUM(D22:E22) -> 62625
A23: AGORA Savaria Kulturális és Médiaközpont Nkft. Támogatása összesen | B23: =SUM(B20:B22) -> 429570 | C23: =SUM(C20:C22) -> 369000 | D23: =SUM(D20:D22) -> 459423 | E23: =SUM(E20:E22) -> 0 | F23: =SUM(F20:F22) -> 459423
A24: 2. Önkormányzati gazdasági társaságok összesen | B24: =B18+B19+B23 -> 979703 | C24: =C18+C19+C23 -> 1205089 | D24: =D18+D19+D23 -> 1014908 | E24: =E18+E19+E23 -> 0 | F24: =F18+F19+F23 -> 1014908
A25: I. VÁROSI KULTURÁLIS INTÉZMÉNYEK ÉS ÖNKORMÁNYZATI GAZDASÁGI TÁRSASÁGOK MINDÖSSZESEN (1+2) | B25: =B12+B24 -> 3445456 | C25: =C12+C24 -> 3563927 | D25: =D12+D24 -> 4236018 | E25: =E12+E24 -> 31703 | F25: =F12+F24 -> 4267721
A26: ÖNKORMÁNYZATI KULTURÁLIS KIADÁSOK
A27: 3. Kulturális és civil szervezetek támogatása
A28: Ungaresca Táncegyüttes | B28: 3000 | C28: 3000 | D28: 3000 | F28: =SUM(D28:E28) -> 3000
A29: Capella Savaria | B29: 1200 | C29: 1200 | D29: 1200 | F29: =SUM(D29:E29) -> 1200
A30: Zanati Kulturális Egyesület | B30: 3000 | C30: =3000+500 -> 3500 | D30: 3500 | F30: =SUM(D30:E30) -> 3500
A31: Gyöngyöshermán-Szentkirályi Polgári Kör | B31: 4000 | C31: =4000+2000 -> 6000 | D31: 6000 | F31: =SUM(D31:E31) -> 6000
A32: Herényi Kulturális és Sportegyesület | B32: 13000 | C32: =13000+3000-1000 -> 15000 | D32: 15000 | F32: =SUM(D32:E32) -> 15000
A33: Herényi Kulturális és Sportegyesület - Alkotótábor megrendezése | C33: 1000 | D33: 1000 | F33: =SUM(D33:E33) -> 1000
A34: Petőfi Telepért Egyesület | B34: 1000 | C34: =1000+500 -> 1500 | D34: 1500 | F34: =SUM(D34:E34) -> 1500
A35: Derkovits Városrészért Kulturális és Szociális Egyesület | B35: 3000 | C35: 3000 | D35: 3000 | F35: =SUM(D35:E35) -> 3000
A36: Olad Városrészért Egyesület | B36: 2000 | C36: =2000 -> 2000 | D36: 2000 | F36: =SUM(D36:E36) -> 2000
A37: Ferrum Színházi Társulat | B37: 650 | C37: =650+350 -> 1000 | D37: 1000 | F37: =SUM(D37:E37) -> 1000
A38: Szombathely Város Fúvószenekar támogatása | B38: 2000 | C38: =2000+500 -> 2500 | D38: 2500 | F38: =SUM(D38:E38) -> 2500
A39: Joskar-Ola Alapítvány | B39: 6000 | C39: =6000+1000 -> 7000 | D39: 7000 | F39: =SUM(D39:E39) -> 7000
A40: KISZ Lakótelepért Egyesület | B40: 2000 | C40: =2000 -> 2000 | D40: 2000 | F40: =SUM(D40:E40) -> 2000
A41: ISIS Big Band támogatása | B41: 2000 | C41: 2000 | D41: 2000 | F41: =SUM(D41:E41) -> 2000
A42: Vas Vármegye és Szombathely Megyei Jogú Város Nyugdíjas Szövetsége támogatása | B42: 3500 | C42: =3500+700 -> 4200 | D42: 4200 | F42: =SUM(D42:E42) -> 4200
A43: Hátrányos Helyzetű Roma Fiatalokat Támogató Közhasznú Egyesület támogatása | B43: 1200 | C43: 1200 | D43: 1200 | F43: =SUM(D43:E43) -> 1200
A44: Vas Megyei Tudományos Ismeretterjesztő Egyesület támogatása - közművelődési megállapodás | B44: 1500 | C44: 1500 | D44: 1500 | F44: =SUM(D44:E44) -> 1500
A45: Vasi Honvéd Bajtársi Egyesület támogatása | B45: 1000 | C45: 1000 | D45: 1000 | F45: =SUM(D45:E45) -> 1000
A46: Szombathelyi Szépítő Egyesület támogatása | B46: 1000 | C46: 1000 | D46: 1000 | F46: =SUM(D46:E46) -> 1000
A47: Japán nap támogatása | B47: 1000 | C47: 1000 | D47: 1000 | F47: =SUM(D47:E47) -> 1000
A48: Fáklyavívők Egyesülete támogatás - Szombathelyi Alkotótábor megrendezése | B48: 1000 | C48: =1000-1000 -> 0 | D48: 0 | F48: =SUM(D48:E48) -> 0
A49: Savaria Történelmi Karnevál Közhasznú Közalapítvány működési támogatása | B49: 300 | C49: =300+200 -> 500 | D49: 500 | F49: =SUM(D49:E49) -> 500
A50: 3. Kulturális és civil szervezetek támogatása összesen | B50: =SUM(B28:B49) -> 53350 | C50: =SUM(C28:C49) -> 61100 | D50: =SUM(D28:D49) -> 61100 | E50: =SUM(E28:E49) -> 0 | F50: =SUM(F28:F49) -> 61100
A51: 4. Kulturális és civil alap | B51: 2050 | C51: 0 | D51: 24814 | F51: =SUM(D51:E51) -> 24814
A52: II. KULTURÁLIS ÉS CIVIL SZERVEZETEK TÁMOGATÁSA ÉS KULTURÁLIS ÉS CIVIL ALAP MINDÖSSZESEN (3+4) | B52: =B50+B51 -> 55400 | C52: =C50+C51 -> 61100 | D52: =D50+D51 -> 85914 | E52: =E50+E51 -> 0 | F52: =F50+F51 -> 85914
A53: 5. Városi nagyrendezvények | C53: 0 | D53: 0 | E53: =SUM(B53:D53) -> 0 | F53: =SUM(D53:E53) -> 0
A54: 6. Egyéb kulturális rendezvények, programok
A55: Egyéb kulturális rendezvények | B55: 5324 | C55: =8269+18000+300 -> 26569 | D55: 26779 | E55: -509 | F55: =SUM(D55:E55) -> 26270
A56: Identitás program | B56: 22297 | C56: 27000 | D56: 39489 | F56: =SUM(D56:E56) -> 39489
A57: Aktív időskor Szombathelyen program | B57: 11095 | C57: 7500 | D57: 17500 | F57: =SUM(D57:E57) -> 17500
A58: 6. Egyéb kulturális rendezvények, programok összesen | B58: =SUM(B55:B57) -> 38716 | C58: =SUM(C55:C57) -> 61069 | D58: =SUM(D55:D57) -> 83768 | E58: =SUM(E55:E57) -> -509 | F58: =SUM(F55:F57) -> 83259
A59: III. KULTURÁLIS RENDEZVÉNYEK MINDÖSSZESEN (5+6) | B59: =B53+B58 -> 38716 | C59: =C53+C58 -> 61069 | D59: =D53+D58 -> 83768 | E59: =E53+E58 -> -509 | F59: =F53+F58 -> 83259
A60: EGYÉB KULTURÁLIS KIADÁSOK
A61: Kulturális kitüntetés díja, Év Civil Szervezete díja …. | B61: 1607 | C61: 2023 | D61: 2920 | F61: =SUM(D61:E61) -> 2920
A62: Hatósági díjak, egyéb kiadások, szakértői feladatok | B62: 5031 | C62: 5000 | D62: 5829 | F62: =SUM(D62:E62) -> 5829
A63: Könyvkiadás | B63: 664 | C63: 1000 | D63: 900 | F63: =SUM(D63:E63) -> 900
A64: IV. EGYÉB KULTURÁLIS KIADÁSOK MINDÖSSSZESEN | B64: =SUM(B61:B63) -> 7302 | C64: =SUM(C61:C63) -> 8023 | D64: =SUM(D61:D63) -> 9649 | E64: =SUM(E61:E63) -> 0 | F64: =SUM(F61:F63) -> 9649
A65: V. ÖNKORMÁNYZATI KULTURÁLIS KIADÁSOK MINDÖSSZESEN (II+III+IV) | B65: =B52+B59+B64 -> 101418 | C65: =C52+C59+C64 -> 130192 | D65: =D52+D59+D64 -> 179331 | E65: =E52+E59+E64 -> -509 | F65: =F52+F59+F64 -> 178822
A66: VI. KULTURÁLIS ÁGAZAT MŰKÖDÉSI CÉLÚ KIADÁSOK MINDÖSSZESEN (I+V) | B66: =B25+B65 -> 3546874 | C66: =C25+C65 -> 3694119 | D66: =D25+D65 -> 4415349 | E66: =E25+E65 -> 31194 | F66: =F25+F65 -> 4446543
A68: Felhalmozási kiadások
A69: Megnevezés | B69: 2025. évi | C69: 2026. évi | D69: 2026. évi I.sz. | E69: Javasolt | F69: 2026. évi II.sz.
B70: teljesítés | C70: eredeti előirányzat | D70: módosított előirányzat | E70: módosítás | F70: módosított előirányzat
A71: Mesebolt Bábszínház összesen | B71: 1877 | D71: 500 | F71: =SUM(C71:E71) -> 500
A72: Savaria Szimfonikus Zenekar összesen | B72: 49434 | D72: 57689 | F72: =SUM(D72:E72) -> 57689
A73: Berzsenyi Dániel Könyvtár összesen | B73: 12781 | D73: 12000 | F73: =SUM(D73:E73) -> 12000
A74: Savaria Múzeum összesen | B74: 44391 | D74: 9793 | F74: =SUM(D74:E74) -> 9793
A75: KULTURÁLIS INTÉZMÉNYEK FELHALMOZÁSI KIADÁSAI ÖSSZESEN | B75: =B71+B72+B73+B74 -> 108483 | C75: =C71+C72+C73+C74 -> 0 | D75: =D71+D72+D73+D74 -> 79982 | E75: =E71+E72+E73+E74 -> 0 | F75: =F71+F72+F73+F74 -> 79982
A77: KULTURÁLIS ÁGAZAT, MÉDAI KIADÁSAI MINDÖSSZESEN | B77: =B66+B75 -> 3655357 | C77: =C66+C75 -> 3694119 | D77: =D66+D75 -> 4495331 | E77: =E66+E75 -> 31194 | F77: =F66+F75 -> 4526525
A79: Kötelező feladat
A80: Nem kötelező feladat

Sheet 10 szociális
A2: Szociális ágazat kiadásai
A4: Működési kiadások | F4: ezer forintban
A5: Megnevezés | B5: 2025. évi | C5: 2026. évi | D5: 2026. évi I.sz. | E5: Javasolt | F5: 2026. évi II.sz.
B6: teljesítés | C6: eredeti előirányzat | D6: módosított előirányzat | E6: módosítás | F6: módosított előirányzat
A7: Pálos Károly Szociális Szolgáltató Központ és Gyermekjóléti Szolgálat | B7: 1939023 | C7: =1717664+71309 -> 1788973 | D7: 1984753 | E7: =73552+31089+451+1920+3665+26844 -> 137521 | F7: =SUM(D7:E7) -> 2122274
A8: Önkormányzati szociális ágazati kiadások
A9: Segély önkormányzati támogatásból | B9: 192786 | C9: 204000 | D9: 225116 | E9: =4974+3996-240-400-120-400 -> 7810 | F9: =SUM(D9:E9) -> 232926
A10: Fogyatékossággal Élőket és Hajléktalanokat Ellátó Közhasznú Nkft. támogatása | B10: 167272 | C10: 167272 | D10: 167272 | F10: =SUM(D10:E10) -> 167272
A11: Fogyatékossággal Élőket és Hajléktalanokat Ellátó Közhasznú Nkft. támogatása (célja: tüzifa vásárlás) | B11: 8000 | C11: 8000 | D11: 8000 | F11: =SUM(D11:E11) -> 8000
A12: Bursa Hungarica felsőoktatási ösztöndíj | B12: 250 | C12: 2000 | D12: 2000 | F12: =SUM(D12:E12) -> 2000
A13: Szociális önkormányzati kitüntetések | B13: 2119 | C13: 2055 | D13: 2190 | F13: =SUM(D13:E13) -> 2190
A14: Posta költség | B14: 4 | C14: 2500 | D14: 2500 | F14: =SUM(D14:E14) -> 2500
A15: Szociális hét | B15: 1000 | C15: 1000 | D15: 1000 | F15: =SUM(D15:E15) -> 1000
A16: Esőemberke Alapítvány támogatása | B16: 11000 | C16: 11000 | D16: 11000 | F16: =SUM(D16:E16) -> 11000
A17: "Szombathely Szent Márton városa " Gyebrovszki János Alapítvány támogatása | B17: 8000 | C17: 8000 | D17: 8000 | F17: =SUM(D17:E17) -> 8000
A18: Kariatida tanulmányi támogatás rendszerének működtetése - "Szombathely Szent Márton városa" Gyebrovszki János Alapítvány | B18: 2200 | C18: 3300 | D18: 3300 | F18: =SUM(D18:E18) -> 3300
A19: Lakás bérleti díj támogatás | B19: 76343 | C19: 50000 | D19: 81297 | F19: =SUM(D19:E19) -> 81297
A20: Közösségi Bérlakás Rendszer | B20: 54998 | C20: =3000+1000 -> 4000 | D20: 24231 | E20: 21764 | F20: =SUM(D20:E20) -> 45995
A21: Közösségi Bérlakás Rendszert népszerűsítő kampány | D21: 1000 | F21: =SUM(D21:E21) -> 1000
A22: Egyéb lakásgazdálkodási és szociális kiadások | B22: 86 | D22: 114 | F22: =SUM(D22:E22) -> 114
A23: Szünidei gyermekétkeztetés | C23: =5000+3500 -> 8500 | D23: 7987 | E23: -3665 | F23: =SUM(D23:E23) -> 4322
A24: Érzékenyítő programok - Helyi esélyegyenlőségi program keretében | C24: 0 | D24: 660 | F24: =SUM(D24:E24) -> 660
A25: Szombathelyi Egyházmegyei Karitász - Hársfa-ház Pszichiátriai- és Szenvedélybetegek Nappali Ellátója és Átmeneti Otthona, RÉV Szenvedélybeteg-segítő Szolgálat és Közösségi Gondozó | B25: 7000 | C25: 7000 | D25: 7000 | F25: =SUM(D25:E25) -> 7000
A26: Szent Márton Esélyegyenlőségi Támogatási Program | B26: 11610 | C26: =8263+5329 -> 13592 | D26: 14092 | F26: =SUM(D26:E26) -> 14092
A27: Szociális térkép | B27: 9842 | C27: 0 | D27: 0 | F27: =SUM(D27:E27) -> 0
A28: HÁROFIT Közhasznú Egyesület - közfoglalkoztatás támogatása | B28: 3000 | C28: 3000 | D28: 3000 | F28: =SUM(D28:E28) -> 3000
A29: HÁROFIT Közhasznú Egyesület -Rászoruló családoknak nyújtott tanévkezdési támogatás | B29: 450 | D29: 0 | F29: =SUM(D29:E29) -> 0
A30: HÁROFIT Közhasznú Egyesület - kirándulás költségeinek támogatása | E30: 240 | F30: =SUM(D30:E30) -> 240
A31: HÁROFIT Közhasznú Egyesület - iskolakezdési támogatás nyújtása | E31: 400 | F31: =SUM(D31:E31) -> 400
A32: Szociális és köznevelési intézmények év végi karácsonyi ajándékozás és rászoruló kiskorú gyermekeket nevelő családok év végi karácsonyi ajándékozása | B32: 1200 | D32: 300 | F32: =SUM(D32:E32) -> 300
A33: Szociális Szolgáltatók Közhasznú Egyesület részére támogatás (rászorulók karácsonyi ajándékozása) | B33: 2000 | D33: 0 | F33: =SUM(D33:E33) -> 0
A34: Szalézi Rendház Szombathely támogatása (nyári napközis, ifjúsági tábor) | B34: 400 | D34: 0 | E34: 400 | F34: =SUM(D34:E34) -> 400
A35: Szent Kvirin Szalézi Plébánia nyári ifjúsági napközis tábor - étkeztetési költségének támogatása | E35: 120 | F35: =SUM(D35:E35) -> 120
A36: Alpokalja Nagycsaládos Egyesület Szombathely részére támogatás | B36: 700 | D36: 0 | F36: =SUM(D36:E36) -> 0
A37: Veszélyhelyzet ideje alatt a szomszédos országban fennálló humanitárius katasztrófára tekintettel érkező személyek elhelyezésének támogatása (központi támogatásból) | B37: 5858 | D37: 1851 | E37: 1369 | F37: =SUM(D37:E37) -> 3220
A38: Önkormányzati szociális ágazati kiadások összesen | B38: =SUM(B9:B37) -> 566118 | C38: =SUM(C9:C37) -> 495219 | D38: =SUM(D9:D37) -> 571910 | E38: =SUM(E9:E37) -> 28438 | F38: =SUM(F9:F37) -> 600348
A39: SZOCIÁLIS MŰKÖDÉSI CÉLÚ KIADÁSOK ÖSSZESEN | B39: =B7+B38 -> 2505141 | C39: =C7+C38 -> 2284192 | D39: =D7+D38 -> 2556663 | E39: =E7+E38 -> 165959 | F39: =F7+F38 -> 2722622
A41: Felhalmozási kiadások
A42: Megnevezés | B42: 2025. évi | C42: 2026. évi | D42: 2026. évi I.sz. | E42: Javasolt | F42: 2026. évi II.sz.
B43: teljesítés | C43: eredeti előirányzat | D43: módosított előirányzat | E43: módosítás | F43: módosított előirányzat
A44: Pálos Károly Szociális Szolgáltató Központ és Gyermekjóléti Szolgálat | B44: 27472 | C44: 14967 | D44: 26719 | E44: 6192 | F44: =SUM(D44:E44) -> 32911
A46: SZOCIÁLIS ÁGAZAT KIADÁSAI MINDÖSSZESEN | B46: =+B44+B39 -> 2532613 | C46: =+C44+C39 -> 2299159 | D46: =+D44+D39 -> 2583382 | E46: =+E44+E39 -> 172151 | F46: =+F44+F39 -> 2755533
A48: Kötelező feladat
A49: Nem kötelező feladat

Sheet 11 egészségügy
A2: Egészségügyi ágazat kiadásai
A4: Működési kiadások | F4: ezer forintban
A5: Megnevezés | B5: 2025. évi | C5: 2026. évi | D5: 2026. évi I.sz. | E5: Javasolt | F5: 2026. évi II.sz.
B6: teljesítés | C6: eredeti előirányzat | D6: módosított előirányzat | E6: módosítás | F6: módosított előirányzat
A7: Szombathelyi Egészségügyi és Kulturális Intézmények GESZ | B7: 892043 | C7: =844822+114357 -> 959179 | D7: 1150836 | E7: =1280+1273 -> 2553 | F7: =SUM(D7:E7) -> 1153389
A8: Önkormányzati egyészségügyi ágazati kiadásai
A9: Háziorvosi rendelők karbantartása | C9: 12000 | D9: 0 | F9: =SUM(D9:E9) -> 0
A10: Egészség-hét | C10: 500 | D10: 0 | F10: =SUM(D10:E10) -> 0
A11: Egyéb rendezvények | C11: 0 | D11: 589 | F11: =SUM(D11:E11) -> 589
A12: Egészségügyi dolgozók kitüntetése | B12: 2440 | C12: 2485 | D12: 2519 | F12: =SUM(D12:E12) -> 2519
A13: Szombathelyi Hospice Alapítvány | B13: 2500 | C13: 2500 | D13: 2500 | F13: =SUM(D13:E13) -> 2500
A14: Lelkisegély szolgálat támogatása (szerződés) - Telehumanitas Szombathelyi Mentálhigiénés Egyesület | B14: 2500 | C14: 2500 | D14: 2500 | F14: =SUM(D14:E14) -> 2500
A15: Egészségügyi civil szervezetek támogatása | B15: 1244 | C15: =1500-500 -> 1000 | D15: 1342 | F15: =SUM(D15:E15) -> 1342
A16: Háziorvosi életpálya modell | B16: 32770 | C16: =44070+13560 -> 57630 | D16: 68930 | F16: =SUM(D16:E16) -> 68930
A17: Szombathely, a segítés városa program | B17: 1270 | C17: =1500-700+200 -> 1000 | D17: 1834 | F17: =SUM(D17:E17) -> 1834
A18: Önkormányzati egészségügyi ágazati kiadások összesen | B18: =SUM(B9:B17) -> 42724 | C18: =SUM(C9:C17) -> 79615 | D18: =SUM(D9:D17) -> 80214 | E18: =SUM(E9:E17) -> 0 | F18: =SUM(F9:F17) -> 80214
A19: EGÉSZSÉGÜGYI MŰKÖDÉSI CÉLÚ KIADÁSOK ÖSSZESEN | B19: =B7+B18 -> 934767 | C19: =C7+C18 -> 1038794 | D19: =D7+D18 -> 1231050 | E19: =E7+E18 -> 2553 | F19: =F7+F18 -> 1233603
A22: Felhalmozási kiadások
A23: Megnevezés | B23: 2025. évi | C23: 2026. évi | D23: 2026. évi I.sz. | E23: Javasolt | F23: 2026. évi II.sz.
B24: teljesítés | C24: eredeti előirányzat | D24: módosított előirányzat | E24: módosítás | F24: módosított előirányzat
A25: Szombathelyi Egészségügyi és Kulturális Intézmények GESZ | B25: 16562 | D25: 8416 | F25: =SUM(D25:E25) -> 8416
A27: EGÉSZSÉGÜGYI ÁGAZAT KIADÁSAI MINDÖSSZESEN | B27: =+B19+B25 -> 951329 | C27: =+C19+C25 -> 1038794 | D27: =+D19+D25 -> 1239466 | E27: =+E19+E25 -> 2553 | F27: =+F19+F25 -> 1242019
A29: Kötelező feladat
A30: Nem kötelező feladat

Sheet 12 gyermekvédelm
A2: Gyermekvédelmi ágazat kiadásai
A4: Működési kiadások | F4: ezer forintban
A5: Megnevezés | B5: 2025. évi | C5: 2026. évi | D5: 2026. évi I.sz. | E5: Javasolt | F5: 2026. évi II.sz.
B6: teljesítés | C6: eredeti előirányzat | D6: módosított előirányzat | E6: módosítás | F6: módosított előirányzat
A7: Szombathelyi Egyesített Bölcsődei Intézmény | B7: 1998232 | C7: =1979865+160475 -> 2140340 | D7: 2263105 | E7: =11779+7097+5440+2668+6089 -> 33073 | F7: =SUM(D7:E7) -> 2296178
A8: Önkormányzati gyermekvédelmi ágazati kiadások
A9: Gyermek és ifjúsági kitüntetések | B9: 226 | C9: 241 | D9: 241 | F9: =SUM(D9:E9) -> 241
A10: Bölcsődék karbantartási kiadásai, játszótéri eszközök beszerzése, cseréje | C10: =10000-3000 -> 7000 | D10: 7000 | E10: -7000 | F10: =SUM(D10:E10) -> 0
A11: Önkormányzati gyermekvédelmi ágazati kiadások összesen | B11: =SUM(B9:B10) -> 226 | C11: =SUM(C9:C10) -> 7241 | D11: =SUM(D9:D10) -> 7241 | E11: =SUM(E9:E10) -> -7000 | F11: =SUM(F9:F10) -> 241
A12: GYERMEKVÉDELMI MŰKÖDÉSI CÉLÚ KIADÁSOK ÖSSZESEN | B12: =B7+B11 -> 1998458 | C12: =C7+C11 -> 2147581 | D12: =D7+D11 -> 2270346 | E12: =E7+E11 -> 26073 | F12: =F7+F11 -> 2296419
A14: Felhalmozási kiadások
A15: Megnevezés | B15: 2025. évi | C15: 2026. évi | D15: 2026. évi I.sz. | E15: Javasolt | F15: 2026. évi II.sz.
B16: teljesítés | C16: eredeti előirányzat | D16: módosított előirányzat | E16: módosítás | F16: módosított előirányzat
A17: Szombathelyi Egyesített Bölcsődei Intézmény | B17: 27208 | C17: =26670+24990 -> 51660 | D17: 59356 | E17: =4282+7000+1893 -> 13175 | F17: =SUM(D17:E17) -> 72531
A19: GYERMEKVÉDELMI ÁGAZAT KIADÁSAI MINDÖSSZESEN | B19: =B12+B17 -> 2025666 | C19: =C12+C17 -> 2199241 | D19: =D12+D17 -> 2329702 | E19: =E12+E17 -> 39248 | F19: =F12+F17 -> 2368950
A21: Kötelező feladat
A22: Nem kötelező feladat

Sheet 13 egyéb
A2: Egyéb, más ágazathoz nem sorolható intézmények és feladatok kiadásai
A3: Működési kiadások | F3: ezer forintban
A4: Megnevezés | B4: 2025. évi | C4: 2026. évi | D4: 2026. évi I.sz. | E4: Javasolt | F4: 2026. évi II.sz.
B5: teljesítés | C5: eredeti előirányzat | D5: módosított előirányzat | E5: módosítás | F5: módosított előirányzat
A6: Szombathely Városi Vásárcsarnok | B6: 204261 | C6: =209018+9556 -> 218574 | D6: 238434 | F6: =SUM(D6:E6) -> 238434
A7: Polgármesteri Hivatal | B7: 3128108 | C7: =3134054+26149+24808+500+2260 -> 3187771 | D7: 3595817 | E7: =2652+3951+1231+4874+11100 -> 23808 | F7: =SUM(D7:E7) -> 3619625
A8: Egyéb, más ágazathoz nem sorolható intézmények összesen | B8: =SUM(B6:B7) -> 3332369 | C8: =SUM(C6:C7) -> 3406345 | D8: =SUM(D6:D7) -> 3834251 | E8: =SUM(E6:E7) -> 23808 | F8: =SUM(F6:F7) -> 3858059
A9: Technikai, bevétellel 100%-ig fedezett tételek
A10: Áfa befizetés (saját bevételből) | B10: 278996 | C10: 400000 | D10: 536972 | F10: =SUM(D10:E10) -> 536972
A11: Lakás és helyiségüzemeltetés (bevétellel) | B11: 1007376 | C11: 700000 | D11: 700322 | F11: =SUM(D11:E11) -> 700322
A12: Lakás és helyiségüzemeltetés veszteségpótlás | C12: 160000 | D12: 160000 | F12: =SUM(D12:E12) -> 160000
A13: Parkolásgazdálkodási kiadás | B13: 554736 | C13: 554736 | D13: 554736 | F13: =SUM(D13:E13) -> 554736
A14: összesen | B14: =SUM(B9:B13) -> 1841108 | C14: =SUM(C9:C13) -> 1814736 | D14: =SUM(D9:D13) -> 1952030 | E14: =SUM(E9:E13) -> 0 | F14: =SUM(F9:F13) -> 1952030
A15: Önkormányzat egyéb kiadásai
A16: Bankköltség | B16: 88044 | C16: 80000 | D16: 80000 | F16: =SUM(D16:E16) -> 80000
A17: Közvilágítás pénzügyi lízing - kamat | B17: 60330 | C17: =63000-10000 -> 53000 | D17: 53000 | F17: =SUM(D17:E17) -> 53000
A18: Egyéb kiadások | B18: 17001 | C18: 17500 | D18: 28078 | F18: =SUM(D18:E18) -> 28078
A19: Intézményi vagyonbiztosítások | B19: 14877 | C19: 15000 | D19: 16955 | F19: =SUM(D19:E19) -> 16955
A20: Önkormányzat működéséhez kapcsolódó, jogszabályon alapuló kiadások, egyéb kiadások | B20: 466527 | C20: =472625+5921+7890-7890 -> 478546 | D20: 503347 | F20: =SUM(D20:E20) -> 503347
A21: Választási kiadások | C21: 20000 | D21: 0 | F21: =SUM(D21:E21) -> 0
A22: Polgármesteri keret | B22: 13753 | C22: 10000 | D22: 16158 | F22: =SUM(D22:E22) -> 16158
A23: Önkormányzati konferenciák, rendezvények, fogadások | C23: 0 | D23: 453 | F23: =SUM(D23:E23) -> 453
A24: Nemzetközi kapcsolatok | B24: 660 | C24: 1000 | D24: 3036 | F24: =SUM(D24:E24) -> 3036
A25: Nemzetiségi Önkormányzatok támogatása | B25: 13040 | C25: 13040 | D25: 13040 | F25: =SUM(D25:E25) -> 13040
A26: Horvát nemzetiségi nap támogatás | B26: 1200 | C26: 1200 | D26: 1200 | F26: =SUM(D26:E26) -> 1200
A27: Szombathelyi Nemzetiségi nap | B27: 1500 | C27: 0 | D27: 1500 | F27: =SUM(D27:E27) -> 1500
A28: Pécsi Tudományegyetem támogatás | B28: 3000 | C28: 0 | D28: 0 | F28: =SUM(D28:E28) -> 0
A29: Nemzeti Tudósképző Akadémia támogatása | E29: 5000 | F29: =SUM(D29:E29) -> 5000
A30: Egyéb önkormányzati kitüntetések | B30: 3401 | C30: 3154 | D30: 3154 | E30: , | F30: =SUM(D30:E30) -> 3154
A31: Egyéb tagdijak | B31: 3764 | C31: 4200 | D31: 4636 | F31: =SUM(D31:E31) -> 4636
A32: Közszolgáltatási szerződés helyi közlekedés | B32: 1520804 | D32: 0 | F32: =SUM(D32:E32) -> 0
A33: Megállapodás alapján helyközi autóbuszjáratok helyi tarifával történő igénybevétele-Szombathely, Petőfi telep | B33: 2100 | C33: 0 | D33: 400 | E33: 2500 | F33: =SUM(D33:E33) -> 2900
A34: Pénzügyi megállapodás a MÁV Személyszállítási Zrt-vel - törlesztő részlet | B34: 50000 | C34: 100000 | D34: 100000 | F34: =SUM(D34:E34) -> 100000
A35: Pénzügyi megállapodás a MÁV Személyszállítási Zrt-vel - járulékos kiadások | B35: 10516 | C35: 0 | D35: 0 | F35: =SUM(D35:E35) -> 0
A36: Vas Vármegyei Markusovszky Egyetemi Oktatókórház (parkoló bérlet díj támogatás) | B36: 3810 | C36: 3810 | D36: 3810 | F36: =SUM(D36:E36) -> 3810
A37: VOLÁNBUSZ Zrt. - megállapodás alapján helyközi autóbuszjáratok helyi tarifával történő igénybevétele-Szombathely, Petőfi telep | C37: 2500 | D37: 2500 | E37: -2500 | F37: =SUM(D37:E37) -> 0
A38: Szolidarítási hozzájárulás | B38: 3833106 | C38: =3833106+355177 -> 4188283 | D38: 4188283 | F38: =SUM(D38:E38) -> 4188283
A39: Helyi iparűzési adóbevétel többlete alapján meghatározott fizetési kötelezettség | B39: 1556901 | D39: 0 | F39: =SUM(D39:E39) -> 0
A40: Megyei Jogú Városok Szövetsége támogatás | C40: 0 | D40: 5000 | F40: =SUM(D40:E40) -> 5000
A41: Nyugdíjas Bérlők Háza - használatba vételi díj visszafizetése | B41: 2500 | C41: 0 | D41: 2100 | F41: =SUM(D41:E41) -> 2100
A42: Önkormányzati Magyar Államkötvény vásárlása - névértéken kívüli felhalmozott kamat | B42: 11916 | C42: 0 | D42: 17332 | E42: 30000 | F42: =SUM(D42:E42) -> 47332
A43: Aranyhíd EGYMI fejlesztő játszótéri eszközök felújításához adott támogatás | E43: 600 | F43: =SUM(D43:E43) -> 600
A44: Önkormányzati nagyrendezvények
A45: Sport nagyrendezvények | B45: 184000 | C45: 127000 | D45: 127000 | F45: =SUM(D45:E45) -> 127000
A46: Savaria Karnevál megrendezése, kulturális rendezvények, fesztiválok megrendezése (Savaria Turizmus Nkft., egyéb kiadások, stb.) | B46: 84998 | C46: =67000+63000 -> 130000 | D46: 133259 | E46: 509 | F46: =SUM(D46:E46) -> 133768
A47: Bűnmegelőzési és katasztrófavédelmi kiadások
A48: Bűnmegelőzési és katasztrófavédelmi kiadások; egyéb kiadások, támogatások | B48: 1000 | C48: 1000 | D48: 1000 | F48: =SUM(D48:E48) -> 1000
A49: Rendőrség támogatása | B49: 8000 | C49: 8000 | D49: 8000 | F49: =SUM(D49:E49) -> 8000
A50: Polgárőr szervezetek támogatása | B50: 2000 | C50: 2000 | D50: 2000 | F50: =SUM(D50:E50) -> 2000
A51: Vas Vármegyei Katasztrófavédelmi Igazgatóság - Tűzoltóság támogatása | B51: 2000 | C51: 2000 | D51: 2000 | F51: =SUM(D51:E51) -> 2000
A52: ELTE támogatás és gazdaságfejlesztés | F52: =SUM(D52:E52) -> 0
A53: ELTE támogatás | C53: 70000 | D53: 70000 | F53: =SUM(D53:E53) -> 70000
A54: Önkormányzat egyéb kiadásai (Városüzemeltetési, vagyongazdálkodási kiadások)
A55: Erdő és vadgazdálkodási költség | B55: 5685 | C55: =6000+3000 -> 9000 | D55: 13574 | F55: =SUM(D55:E55) -> 13574
A56: Cserkészház - bérleti díj támogatás - Boldogulás Ösvényein Alapítvány részére | B56: 2241 | C56: =2241-1120 -> 1121 | D56: 1121 | F56: =SUM(D56:E56) -> 1121
A57: Tervezések hatósági díja lejáró engedélyekhez, egyéb díjak | B57: 2631 | C57: 5500 | D57: 9204 | F57: =SUM(D57:E57) -> 9204
A58: Akadálymentesítési koncepció - szakmérnöki vélemények | C58: 0 | D58: 3300 | F58: =SUM(D58:E58) -> 3300
A59: VASIVÍZ ZRt.- Szombathelyi Fedett Uszoda és Termálfürdő működési támogatása | B59: 200000 | C59: =100000+100000-200000 -> 0 | D59: 0 | F59: =SUM(D59:E59) -> 0
A60: SZOVA, Szompark, AGORA, Turizmus Kft, Sportközpont Kft közös raktározás | B60: 18288 | C60: 18500 | D60: 21336 | F60: =SUM(D60:E60) -> 21336
A61: Savaria Városfejlesztési Nonprofit Kft. támogatása | B61: 50000 | C61: 50000 | D61: 50000 | F61: =SUM(D61:E61) -> 50000
A62: Savaria Városfejlesztési Nonprofit Kft. - pótbefizetés | E62: 3079 | F62: =SUM(D62:E62) -> 3079
A63: Prenor Kft.tagi kölcsön nyújtása | B63: 60021 | D63: 0 | E63: 47719 | F63: =SUM(D63:E63) -> 47719
A64: Apáczai Csere János Alapítvány támogatása | D64: 10000 | F64: =SUM(D64:E64) -> 10000
A65: Pénzeszköz átadás a Nyugat-dunántúli Vízügyi Igazgatóság részére - Pap árok mederrendezés | B65: 40000 | D65: 0 | F65: =SUM(D65:E65) -> 0
A66: Önkormányzat egyéb kiadásai (informatikai kiadások)
A67: Állami és önkormányzati adatbázisok használati, továbbvezetési, karbantartási és szolgáltatási díja | B67: 7849 | C67: 8000 | D67: 8000 | E67: -63 | F67: =SUM(D67:E67) -> 7937
A68: Állami és önkormányzati adatbázisok használati, továbbvezetési, karbantartási és szolgáltatási díja - fordított áfa kiadás | E68: 63 | F68: =SUM(D68:E68) -> 63
A69: Internet alapú városi hálózat | B69: 25421 | C69: =25500+4500 -> 30000 | D69: 30000 | F69: =SUM(D69:E69) -> 30000
A70: Office 365 rendszer működtetése | B70: 6560 | C70: 7000 | D70: 7338 | F70: =SUM(D70:E70) -> 7338
A71: Térfigyelő kamerarendszer üzemeltetése és adatátviteli hálózat üzemeltetése | B71: 30504 | C71: =30000+5000 -> 35000 | D71: 36268 | F71: =SUM(D71:E71) -> 36268
A72: Közterület-felügyelet átjátszó bérleti díj | B72: 300 | C72: 300 | D72: 300 | F72: =SUM(D72:E72) -> 300
A73: Integrált pénzügyi rendszer üzemeltetés az intézményekben | B73: 7407 | C73: 8300 | D73: 10675 | F73: =SUM(D73:E73) -> 10675
A74: Egységes ügyiratkezelő szoftver az önkormányzat által müködtetett intézményekben | B74: 3426 | C74: 3500 | D74: 3500 | F74: =SUM(D74:E74) -> 3500
A75: Szent Márton Smartcity városkártya és portálrendszer üzemeltetése | B75: 3810 | C75: 3810 | D75: 4160 | F75: =SUM(D75:E75) -> 4160
A76: Szent Márton plasztik kártya készítés | B76: 175 | C76: 500 | D76: 825 | F76: =SUM(D76:E76) -> 825
A77: Ekata rendszer havi díj | B77: 7315 | C77: 7500 | D77: 8719 | F77: =SUM(D77:E77) -> 8719
A78: VDKSZ működtetés | B78: 2779 | C78: 2500 | D78: 2820 | F78: =SUM(D78:E78) -> 2820
A79: Szombathelypont működtetés | B79: 2779 | C79: 2500 | D79: 2820 | F79: =SUM(D79:E79) -> 2820
A80: Forgalomszámláló szenzorok üzemeltetése | C80: 1000 | D80: 3600 | F80: =SUM(D80:E80) -> 3600
A81: Önkormányzat egyéb kiadásai (Hatósági kiadások)
A82: Vásárok, rendezvények, karácsonyi díszkivilágítás | B82: 46555 | C82: =15000+10000 -> 25000 | D82: 74172 | E82: 2187 | F82: =SUM(D82:E82) -> 76359
A83: Önkormányzati pavilonok tárolása, felújítása | C83: 1500 | D83: 1500 | F83: =SUM(D83:E83) -> 1500
A84: Fekete István Állatvédő Egyesület támogatása | B84: 350 | C84: 1000 | D84: 1000 | F84: =SUM(D84:E84) -> 1000
A85: Állatvédők Vasi Egyesülete működési támogatás | B85: 350 | C85: 1000 | D85: 1000 | F85: =SUM(D85:E85) -> 1000
A86: Állatvédők Vasi Egyesülete és a Kutyamenhely Alapítvány által közösen működtetett állatmenhely fenntartási költségei, 1 fő alkalmazott bér és járulékainak költsége a Kutyamenhely Alapítvány részére | B86: 4500 | C86: 4500 | D86: 4500 | F86: =SUM(D86:E86) -> 4500
A87: Önkormányzat egyéb kiadásai (Főépítészi kiadások)
A88: Településrendezési terv felülvizsgálata | B88: 12091 | C88: 0 | D88: 3022 | F88: =SUM(D88:E88) -> 3022
A89: összesen | B89: =SUM(B16:B88) -> 8501785 | C89: =SUM(C16:C88) -> 5558264 | D89: =SUM(D16:D88) -> 5699995 | E89: =SUM(E16:E88) -> 89094 | F89: =SUM(D89:E89) -> 5789089
A90: Működési célú nagyprojektek, projektek
A91: Előző évi maradvány terhére teljesíthető működési célú projekt kiadások | C91: =76672-76672+1940747 -> 1940747 | D91: 0 | F91: =SUM(D91:E91) -> 0
A92: Interreg CE Program - Green LaMiS projekt támogatás és hozzájárulás | B92: 13613 | D92: 8088 | E92: 2313 | F92: =SUM(D92:E92) -> 10401
A93: Interreg CE Program - Green LaMiS projekt - hozzájárulás | D93: 2313 | E93: -2313 | F93: =SUM(D93:E93) -> 0
A94: JustClimate projekt | B94: 9278 | D94: 0 | F94: =SUM(D94:E94) -> 0
A95: INTERREG Europe OD4GROWTH pályázat | B95: 1687 | D95: 13530 | E95: -3951 | F95: =SUM(D95:E95) -> 9579
A96: Magyar - magyar közösségi tevékenységek támogatása - Közös értékek találkozása Vajdahunyadon projekt | B96: 1999 | D96: 0 | F96: =SUM(D96:E96) -> 0
A97: CERV-2023-CITIZENS-TOWN-TT projekt - Testre szabott energia | B97: 2143 | D97: 0 | F97: =SUM(D97:E97) -> 0
A98: Horizon Europe WeGenerate ("Társ város") projekt | B98: 562 | D98: 4440 | F98: =SUM(D98:E98) -> 4440
A99: TOP Plusz 1.3.1.-00001 Fenntartható városfejlesztés | B99: 13856 | D99: 6972 | F99: =SUM(D99:E99) -> 6972
A100: TOP Plusz 1.3.1.-00001 Fenntartható városfejlesztés - hozzájárulás | D100: 6681 | F100: =SUM(D100:E100) -> 6681
A101: INTERREG VI-A AT-HU-0200224 program - Közös drogprevenciós képzési program kialakítása és megvalósítása az osztrák-magyar határtérségben - támogatás és hozzájárulás | D101: 37585 | F101: =SUM(D101:E101) -> 37585
...

Sheet 14 sport
A2: Sport ágazat kiadásai
F4: ezer forintban
A5: Megnevezés | B5: 2025. évi | C5: 2026. évi | D5: 2026. évi I.sz. | E5: Javasolt | F5: 2026. évi II.sz.
B6: teljesítés | C6: eredeti előirányzat | D6: módosított előirányzat | E6: módosítás | F6: módosított előirányzat
A7: Gyermek és ifjúsági sport támogatása | B7: 18263 | C7: =18500+2000 -> 20500 | D7: 28118 | F7: =SUM(D7:E7) -> 28118
A8: Szombathelyi Szabadidősport rendezvények | B8: 4000 | C8: =4000+2000 -> 6000 | D8: 6000 | F8: =SUM(D8:E8) -> 6000
A9: Szombathelyi Szabadidősport Szövetség támogatása | B9: 15700 | C9: 9200 | D9: 9200 | E9: 6500 | F9: =SUM(D9:E9) -> 15700
A10: FALCO KC Kft. támogatása | B10: 560000 | C10: 420000 | D10: 420000 | E10: 118030 | F10: =SUM(D10:E10) -> 538030
A11: Szombathelyi Sportközpont és Sportiskola Nonprofit Kft. támogatása | B11: 297000 | C11: =297000-15000 -> 282000 | D11: 282000 | E11: 21560 | F11: =SUM(D11:E11) -> 303560
A12: Szombathelyi Kézilabda Klub és Akadémia támogatása | B12: 40000 | C12: =40000-20000 -> 20000 | D12: 20000 | F12: =SUM(D12:E12) -> 20000
A13: Egyéb sportcélú kiadások, támogatások | B13: 55500 | C13: 55500 | D13: 57500 | F13: =SUM(D13:E13) -> 57500
A14: Haladás 1919 Labdarúgó Kft. támogatása | B14: 98000 | C14: =50000+50000 -> 100000 | D14: 100000 | F14: =SUM(D14:E14) -> 100000
A15: Szombathelyi Vívó Akadémia Egyesület támogatása - vívócsarnok éves bérleti díj finanszírozására | B15: 8268 | C15: 8268 | D15: 8268 | F15: =SUM(D15:E15) -> 8268
A16: Szombathelyi Asztalitenisz Klub támogatása - asztalitenisz csarnok éves bérleti díj finanszírozására | B16: 8220 | C16: 8220 | D16: 8220 | F16: =SUM(D16:E16) -> 8220
A17: Szombathelyi Neumann J.Ált.Isk.területén 3 db műfüves labdarúgó pálya éves karbantartás | B17: 1307 | C17: 200 | D17: 612 | E17: 695 | F17: =SUM(D17:E17) -> 1307
A18: Szombathelyi Pingvinek Jégkorong Klub támogatása | B18: 5000 | C18: =5000+5000 -> 10000 | D18: 10000 | F18: =SUM(D18:E18) -> 10000
A19: Önkormányzati sport kitüntetések | B19: 1138 | C19: 1089 | D19: 1141 | F19: =SUM(D19:E19) -> 1141
A20: Viktória FC támogatása | B20: 7000 | C20: 0 | D20: 0 | F20: =SUM(D20:E20) -> 0
A21: HVSE támogatása | B21: 83000 | C21: 20000 | D21: 20000 | F21: =SUM(D21:E21) -> 20000
A22: Vasi Tekesportért Alapítvány | B22: 1000 | C22: =1000-1000+1000 -> 1000 | D22: 1000 | F22: =SUM(D22:E22) -> 1000
A23: Táncverseny | C23: 4000 | D23: 4000 | F23: =SUM(D23:E23) -> 4000
A24: Újperint SE támogatás | D24: 500 | F24: =SUM(D24:E24) -> 500
A25: Dobó SE támogatása | B25: 19000 | C25: 19000 | D25: 19000 | F25: =SUM(D25:E25) -> 19000
A26: SPORT ÁGAZAT KIADÁSAI MINDÖSSZESEN | B26: =SUM(B7:B25) -> 1222396 | C26: =SUM(C7:C25) -> 984977 | D26: =SUM(D7:D25) -> 995559 | E26: =SUM(E7:E25) -> 146785 | F26: =SUM(F7:F25) -> 1142344
A28: Kötelező feladat
A29: Nem kötelező feladat

Sheet 15 város.ü.
A2: Kommunális, városüzemeltetési és környezetvédelmi kiadások
F4: ezer forintban
A5: Megnevezés | B5: 2025. évi | C5: 2026. évi | D5: 2026. évi I.sz. | E5: Javasolt | F5: 2026. évi II.sz.
B6: teljesítés | C6: eredeti előirányzat | D6: módosított előirányzat | E6: módosítás | F6: módosított előirányzat
A7: Szombathelyi Parkfenntartó Intézmény | C7: 513503 | D7: 529919 | E7: 3134 | F7: =SUM(D7:E7) -> 533053
A8: Közvilágítás díja | B8: 318345 | C8: =300000+40000 -> 340000 | D8: 396566 | F8: =SUM(D8:E8) -> 396566
A9: Közszolgáltatási szerződés helyi közlekedés | C9: =1414000+100000+73651 -> 1587651 | D9: 1599940 | F9: =SUM(D9:E9) -> 1599940
A10: Települési hulladékkezelés és köztisztasági tevékenység, síkosság mentesítés | B10: 555565 | C10: 500000 | D10: 517000 | F10: =SUM(D10:E10) -> 517000
A11: Illegális hulladéklerakás | B11: 8782 | C11: 5000 | D11: 6203 | F11: =SUM(D11:E11) -> 6203
A12: Csaba úti felüljáró fenntartása, karbantartása | C12: 0 | D12: 3933 | F12: =SUM(D12:E12) -> 3933
A13: Parkfenntartás - SZOMPARK Kft. | B13: 609162 | C13: =550000-550000 -> 0 | D13: 0 | F13: =SUM(D13:E13) -> 0
A14: 1000 fa program | B14: 5998 | C14: 11000 | D14: 12982 | E14: 1000 | F14: =SUM(D14:E14) -> 13982
A15: Vízkészlet használati járulék | B15: 877 | C15: =1200+2800 -> 4000 | D15: 5842 | F15: =SUM(D15:E15) -> 5842
A16: Folyékony hulladékgyűjtés | B16: 6135 | C16: 2600 | D16: 3601 | F16: =SUM(D16:E16) -> 3601
A17: Szolgalmi joggal terhelt épületrész karbantartása | B17: 2424 | C17: 3000 | D17: 5000 | F17: =SUM(D17:E17) -> 5000
A18: Önkormányzati tulajdonú területek kaszálása | B18: 8691 | C18: 6500 | D18: 6746 | F18: =SUM(D18:E18) -> 6746
A19: Szökőkutak előre nem látható hibaelhárítása | B19: 349 | C19: 4000 | D19: 4000 | F19: =SUM(D19:E19) -> 4000
A20: Szombathelyi Fő tér - fásítási tervek készítése | D20: 800 | F20: =SUM(D20:E20) -> 800
A21: Egyéb feladatok | B21: 73051 | C21: 66000 | D21: 90754 | F21: =SUM(D21:E21) -> 90754
A22: Hulladékkezelési díj | B22: 109244 | D22: 12803 | E22: 16463 | F22: =SUM(D22:E22) -> 29266
A23: Nyugat-dunántúli Regionális Hulladékgazdálkodási Önkormányzati Társulás működési hozzájárulás | B23: 28632 | C23: 28632 | D23: 28632 | F23: =SUM(D23:E23) -> 28632
A24: Elektromos gépjármű töltőberendezések üzemeltetése | D24: 209 | F24: =SUM(D24:E24) -> 209
A25: Kommunális és városüzemeltetési kiadások összesen | B25: =SUM(B8:B24) -> 1727255 | C25: =SUM(C8:C24) -> 2558383 | D25: =SUM(D8:D24) -> 2695011 | E25: =SUM(E8:E24) -> 17463 | F25: =SUM(F8:F24) -> 2712474
A26: Környezetvédelmi kiadások | B26: 1217 | C26: 1000 | D26: 1113 | F26: =SUM(D26:E26) -> 1113
A27: Fenntarthatósági és klímapolitikai célok megvalósulása | B27: 5283 | C27: 5000 | D27: 10409 | F27: =SUM(D27:E27) -> 10409
A28: Környezetállapot értékelés (talaj, víz, levegő) | C28: 1900 | D28: 1900 | F28: =SUM(D28:E28) -> 1900
A29: Fenntartható Energia és Klímavédelmi Cselekvési Terv felülvizsgálata (SECAP) | B29: 2915 | D29: 0 | F29: =SUM(D29:E29) -> 0
A30: Környezetvédelmi kiadások összesen | B30: =SUM(B26:B29) -> 9415 | C30: =SUM(C26:C29) -> 7900 | D30: =SUM(D26:D29) -> 13422 | E30: =SUM(E26:E29) -> 0 | F30: =SUM(F26:F29) -> 13422
A31: KOMMUNÁLIS, VÁROSÜZEMELTETÉSI ÉS KÖRNYEZETVÉDELMI MŰKÖDÉSI KIADÁSOK MINDÖSSZESEN | B31: =B7+B25+B30 -> 1736670 | C31: =C7+C25+C30 -> 3079786 | D31: =D7+D25+D30 -> 3238352 | E31: =E7+E25+E30 -> 20597 | F31: =F7+F25+F30 -> 3258949
A33: Felhalmozási kiadások
A34: Megnevezés | B34: 2025. évi | C34: 2026. évi | D34: 2026. évi I.sz. | E34: Javasolt | F34: 2026. évi II.sz.
B35: teljesítés | C35: eredeti előirányzat | D35: módosított előirányzat | E35: módosítás | F35: módosított előirányzat
A36: Szombathelyi Parkfenntartó Intézmény | D36: 1000 | E36: 1000 | F36: =SUM(D36:E36) -> 2000
A38: KOMMUNÁLIS, VÁROSÜZEMELTETÉSI ÉS KÖRNYEZETVÉDELMI KIADÁSOK MINDÖSSZESEN | B38: =B31+B36 -> 1736670 | C38: =C31+C36 -> 3079786 | D38: =D31+D36 -> 3239352 | E38: =E31+E36 -> 21597 | F38: =F31+F36 -> 3260949
A40: Kötelező feladat
A41: Nem kötelező feladat

Sheet 16 út-híd
A2: Út-híd fenntartási kiadások
F4: ezer forintban
A5: Megnevezés | B5: 2025. évi | C5: 2026. évi | D5: 2026. évi I.sz. | E5: Javasolt | F5: 2026. évi II.sz.
B6: teljesítés | C6: eredeti előirányzat | D6: módosított előirányzat | E6: módosítás | F6: módosított előirányzat
A7: Burkolati jelek festése | B7: 8720 | C7: 40000 | D7: 40313 | F7: =SUM(D7:E7) -> 40313
A8: Helyreállítások (teljes pályaszerkezet csere) | B8: 26922 | C8: 15000 | D8: 15227 | F8: =SUM(D8:E8) -> 15227
A9: Hézagkiöntés | C9: 5000 | D9: 5000 | F9: =SUM(D9:E9) -> 5000
A10: Kátyúzás | B10: 69451 | C10: 100000 | D10: 105596 | E10: 25000 | F10: =SUM(D10:E10) -> 130596
A11: Kerékpárút fenntartás | B11: 12208 | C11: 20000 | D11: 20000 | F11: =SUM(D11:E11) -> 20000
A12: Padkarendezés | B12: 10312 | C12: 6000 | D12: 10024 | F12: =SUM(D12:E12) -> 10024
A13: Szegélyek javítása, akadálymentesítés | C13: 5000 | D13: 5000 | F13: =SUM(D13:E13) -> 5000
A14: Kátyúkár - önerő biztosítása | B14: 2178 | C14: 800 | D14: 2833 | F14: =SUM(D14:E14) -> 2833
A15: Hídfenntartás | B15: 7490 | C15: 6000 | D15: 6000 | F15: =SUM(D15:E15) -> 6000
A16: Éves hídvizsgálat | B16: 6783 | C16: 0 | D16: 0 | F16: =SUM(D16:E16) -> 0
A17: Járdafenntartás | B17: 16300 | C17: 0 | D17: 2368 | E17: 75000 | F17: =SUM(D17:E17) -> 77368
A18: Jelzőlámpák üzemeltetése és cseréje | B18: 30327 | C18: 35000 | D18: 50709 | F18: =SUM(D18:E18) -> 50709
A19: Jelzőtáblák (forgalmi rend változás) | B19: 23612 | C19: 21000 | D19: 23388 | E19: 14000 | F19: =SUM(D19:E19) -> 37388
A20: Közösségi közlekedés (buszmegállók kialakítása, leszálló szigetek helyreállítása, kialakítás) | B20: 6185 | C20: 6000 | D20: 8374 | E20: 6000 | F20: =SUM(D20:E20) -> 14374
A21: Közvilágítási elemek karbantartása, kiegészítése | B21: 6575 | C21: =4000+12700+5000 -> 21700 | D21: 27694 | E21: 736 | F21: =SUM(D21:E21) -> 28430
A22: Nyílt árok tisztítás, árokrendezés (árvízvédelmi művek, berendezések, karbantartása) | C22: 3000 | D22: 3000 | F22: =SUM(D22:E22) -> 3000
A23: Zárt csapadék csatorna fenntartása, mosatása | B23: 27306 | C23: 0 | D23: 31969 | F23: =SUM(D23:E23) -> 31969
A24: Víznyelők tisztítása | C24: 1500 | D24: 1500 | F24: =SUM(D24:E24) -> 1500
A25: Csapadékvíz elvezetés (üzemeltetés) | B25: 5169 | C25: 10000 | D25: 20100 | F25: =SUM(D25:E25) -> 20100
A26: Parkoló kialakítása | D26: 15875 | F26: =SUM(D26:E26) -> 15875
A27: Közlekedési infrastruktúra fejlesztése, fenntartása | B27: 94267 | C27: =79000+21000+60000-60000 -> 100000 | D27: 319850 | E27: =-120000+300000 -> 180000 | F27: =SUM(D27:E27) -> 499850
A28: ÚT-HÍD FENNTARTÁSI KIADÁSOK MINDÖSSZESEN | B28: =SUM(B7:B27) -> 353805 | C28: =SUM(C7:C27) -> 396000 | D28: =SUM(D7:D27) -> 714820 | E28: =SUM(E7:E27) -> 300736 | F28: =SUM(F7:F27) -> 1015556
A31: Kötelező feladat
A32: Nem kötelező feladat

Sheet 17 felhalm.bevétel 
A1: Felhalmozási célú bevételek
G2: ezer forintban
B3: Megnevezés | C3: 2025. évi | D3: 2026. évi | E3: 2026. évi I.sz. | F3: Javasolt | G3: 2026. évi II.sz.
C4: teljesítés | D4: eredeti előirányzat | E4: módosított előirányzat | F4: módosítás | G4: módosított előirányzat
A5: FELHALMZÁSI CÉLÚ TÁMOGATÁSOK ÁLLAMHÁZTARTÁSON BELÜLRŐL
B6: TOP – PLUSZ -3.4.1-23-SH1-2024-00003 – Bölcsődék fejlesztése Szombathelyen | E6: 225150 | G6: =SUM(E6:F6) -> 225150
B7: TOP – PLUSZ -3.4.1-23-SH1-2024-00006 – Gyermekjóléti és szociális alapszolgáltatások fejlesztése | E7: 194800 | G7: =SUM(E7:F7) -> 194800
B8: TOP – PLUSZ -3.4.1-23-SH1-2024-00005 – Óvoda fejlesztések Szombathelyen | E8: 358920 | G8: =SUM(E8:F8) -> 358920
B9: TOP – PLUSZ -3.4.1-23-SH1-2024-00004 – Szociális alapszolgáltatások minőségi fejlesztése | E9: 109473 | G9: =SUM(E9:F9) -> 109473
B10: TOP – PLUSZ -3.4.1-23-SH1-2024-00001 – Szociális alapszolgáltatások fejlesztése | E10: 647071 | G10: =SUM(E10:F10) -> 647071
B11: TOP – PLUSZ -3.4.1-23-SH1-2024-00002 – Egészségügyi alapellátás fejlesztése | E11: 544045 | G11: =SUM(E11:F11) -> 544045
B12: TOP – PLUSZ -6.2.1-23-SH1-2024-00001 – Sárdi-éri iparterület fejlesztése, kivezető út építése | E12: 194065 | G12: =SUM(E12:F12) -> 194065
B13: TOP – PLUSZ -1.3.2-23-SH1-2025-00001 – Parkolási infrastruktúra- és zöldfejlesztés a Derkovits városrészen | E13: 393968 | G13: =SUM(E13:F13) -> 393968
B14: TOP – PLUSZ -1.3.2-23-SH1-2025-00007 - Zöldfelületfejlesztés Szombathelyen | E14: 44024 | G14: =SUM(E14:F14) -> 44024
B15: TOP – PLUSZ -1.3.2-23-SH1-2025-00004 – Hunyadi út felújítása Szombathelyen I.ütem | E15: 423301 | G15: =SUM(E15:F15) -> 423301
B16: TOP – PLUSZ -1.3.2-23-SH1-2025-00005 - Kodály Z. u. felújítása Szombathelyen | C16: 4515 | E16: 0 | G16: =SUM(E16:F16) -> 0
B17: TOP – PLUSZ -1.3.2-23-SH1-2025-00012 –Belterületi úthálózat fejlesztése | E17: 589110 | G17: =SUM(E17:F17) -> 589110
B18: TOP – PLUSZ -1.3.2-23-SH1-2025-00002 – Kerékpárosbarát fejlesztések a déli városrészen | E18: 449186 | G18: =SUM(E18:F18) -> 449186
B19: TOP – PLUSZ -1.3.2-23-SH1-2025-00013 – Közúti infrastruktúra fejlesztése | E19: 460184 | G19: =SUM(E19:F19) -> 460184
B20: TOP – PLUSZ -1.3.2-23-SH1-2025-00009 - Belterületi utak fejlesztése Szombathelyen | C20: 4198 | E20: 0 | G20: =SUM(E20:F20) -> 0
B21: TOP – PLUSZ -1.3.2-23-SH1-2025-00003 - Kerékpárosbarát fejlesztések Szombathelyen | C21: 3429 | E21: 5080 | G21: =SUM(E21:F21) -> 5080
B22: TOP – PLUSZ -1.3.2-23-SH1-2025-00006 - Belterületi útfelújítások | C22: 3222 | E22: 1651 | G22: =SUM(E22:F22) -> 1651
B23: TOP – PLUSZ -1.3.2-23-SH1-2025-00010 – Belterületi utak korszerűsítése | E23: 474062 | G23: =SUM(E23:F23) -> 474062
B24: TOP – PLUSZ -1.3.2-23-SH1-2025-00011 –Markusovszky L. u. felújítása | E24: 662601 | G24: =SUM(E24:F24) -> 662601
B25: TOP – PLUSZ -1.3.2-23-SH1-2025-00014 - Bartók B.krt. híd felújítása | E25: 1666437 | G25: =SUM(E25:F25) -> 1666437
B26: TOP – PLUSZ -1.3.2-23-SH1-2025-00008 –Hunyadi utca felújítása Szombathelyen II.ütem | E26: 514871 | G26: =SUM(E26:F26) -> 514871
A27: FELHALMZÁSI CÉLÚ TÁMOGATÁSOK ÁLLAMHÁZTARTÁSON BELÜLRŐL ÖSSZESEN | C27: =SUM(C5:C26) -> 15364 | D27: =SUM(D5:D26) -> 0 | E27: =SUM(E5:E26) -> 7957999 | F27: =SUM(F5:F26) -> 0 | G27: =SUM(G5:G26) -> 7957999
A28: FELHALMOZÁSI BEVÉTELEK
B29: Vagyongazdálkodásból származó bevétel | C29: 793559 | D29: 500000 | E29: 500000 | F29: 300000 | G29: =SUM(E29:F29) -> 800000
B30: Ingatlancseréből származó bevétel | C30: 4330 | E30: 0 | G30: =SUM(E30:F30) -> 0
B31: Haladás 1919 Kft. üzletrész értékesítés | C31: 990 | E31: 0 | G31: =SUM(E31:F31) -> 0
B32: Önkormányzati szociális bérlakás értékesítés | C32: 79270 | E32: 0 | G32: =SUM(E32:F32) -> 0
B33: Nyugíjas Bérlők Háza befizetés | C33: 24100 | E33: 2100 | G33: =SUM(E33:F33) -> 2100
A34: FELHALMOZÁSI BEVÉTELEK ÖSSZESEN | C34: =SUM(C29:C33) -> 902249 | D34: =SUM(D29:D33) -> 500000 | E34: =SUM(E29:E33) -> 502100 | F34: =SUM(F29:F33) -> 300000 | G34: =SUM(G29:G33) -> 802100
A35: FELHALMOZÁSI CÉLÚ ÁTVETT PÉNZESZKÖZÖK
B36: Felhalmozási célú visszatérítendő támogatások, kölcsönök visszatérülése államháztartáson kívülről
B37: Munkáltatói kölcsön visszatérülése | C37: 8665 | D37: 7000 | E37: 7000 | G37: =SUM(E37:F37) -> 7000
B38: Lakáskölcsöntörlesztés | C38: 2935 | E38: 0 | G38: =SUM(E38:F38) -> 0
B39: Egyéb felhalmozási célú átvett pénzeszközök | G39: =SUM(E39:F39) -> 0
B40: OTP Bank Nyrt támogatása - vis maior védekezési költségekhez | E40: 100000 | G40: =SUM(E40:F40) -> 100000
B41: Felhalmozáci célú pénzeszköz átvétel az MVM Zrt-től a Kálvária utca közműkivigtelezés utáni helyreállítás céljából megállapodás alapján | C41: 38449 | E41: 0 | G41: =SUM(E41:F41) -> 0
B42: Széll K. u. 51. sz. térfigyelő kamera telepítéséhez társasházak hozzájárulása | C42: 800 | E42: 0 | G42: =SUM(E42:F42) -> 0
B43: JUSTNature projekt | C43: 80108 | E43: 12131 | F43: 15621 | G43: =SUM(E43:F43) -> 27752
A44: FELHALMOZÁSI CÉLÚ ÁTVETT PÉNZESZKÖZÖK ÖSSZESEN | C44: =SUM(C35:C43) -> 130957 | D44: =SUM(D35:D43) -> 7000 | E44: =SUM(E35:E43) -> 119131 | F44: =SUM(F35:F43) -> 15621 | G44: =SUM(G35:G43) -> 134752
A45: KÖLTSÉGVETÉSI SZERVEK BEVÉTELEI
B46: Óvodák | C46: 774 | E46: 0 | G46: =SUM(E46:F46) -> 0
B47: Szombathelyi Köznevelési GAMESZ | C47: 35 | E47: 0 | G47: =SUM(E47:F47) -> 0
B48: Mesebolt Bábszínház | E48: 0 | G48: =SUM(E48:F48) -> 0
B49: Savaria Szimfónikus Zenekar | C49: 31679 | E49: 12000 | G49: =SUM(E49:F49) -> 12000
B50: Berzsenyi Dániel Könyvtár | E50: 0 | G50: =SUM(E50:F50) -> 0
B51: Savaria Múzeum | C51: 5800 | E51: 600 | G51: =SUM(E51:F51) -> 600
B52: Pálos K. Szociális Szolgáltató Központ és Gyermekjóléti Szolgálat | E52: 0 | G52: =SUM(E52:F52) -> 0
B53: Szombathelyi Egészségügyi és Kulturális Intézmények GESZ | C53: 6009 | E53: 0 | G53: =SUM(E53:F53) -> 0
B54: Egyesített Bölcsődei Intézmény | C54: 121 | E54: 0 | G54: =SUM(E54:F54) -> 0
B55: Szombathely Városi Vásárcsarnok | E55: 0 | G55: =SUM(E55:F55) -> 0
B56: Szombathelyi Parkfenntartó Intézmény | E56: 14416 | F56: 4134 | G56: =SUM(E56:F56) -> 18550
B57: Polgármesteri Hivatal | C57: 1580 | E57: 0 | F57: 100 | G57: =SUM(E57:F57) -> 100
A58: KÖLTSÉGVETÉSI SZERVEK FELHALMOZÁSI BEVÉTELEI ÖSSZESEN | C58: =SUM(C46:C57) -> 45998 | D58: =SUM(D46:D57) -> 0 | E58: 27016 | F58: =SUM(F46:F57) -> 4234 | G58: =SUM(G46:G57) -> 31250
A59: FELHALMOZÁSI CÉLÚ BEVÉTELEK MINDÖSSZESEN | C59: =C34+C27+C44+C58 -> 1094568 | D59: =D34+D27+D44+D58 -> 507000 | E59: =E34+E27+E44+E58 -> 8606246 | F59: =F34+F27+F44+F58 -> 319855 | G59: =G34+G27+G44+G58 -> 8926101

Sheet 18 felhalm.kiadás
A2: Önkormányzati felhalmozási kiadások
G3: ezer forintban
A4: Megnevezés | C4: 2025. évi | D4: 2026. évi | E4: 2026. évi I.sz. | F4: Javasolt | G4: 2026. évi II.sz.
C5: teljesítés | D5: eredeti előirányzat | E5: módosított előirányzat | F5: módosítás | G5: módosított előirányzat
A6: 1. | B6: Pénzeszközátadás
B7: Erdei iskola utcai csapadékcsatorna építése | E7: 81755 | G7: =SUM(E7:F7) -> 81755
B8: Söpte Önkormányzatának járó juttatás SZMJV önkormányzati területek után | C8: 2308 | E8: 47692 | G8: =SUM(E8:F8) -> 47692
B9: Pénzeszközátadás összesen: | C9: =SUM(C7:C8) -> 2308 | D9: =SUM(D7:D8) -> 0 | E9: =SUM(E7:E8) -> 129447 | F9: =SUM(F7:F8) -> 0 | G9: =SUM(G7:G8) -> 129447
A10: 2. | B10: Költségvetési szervek beruházásai és felújításai
B11: Polgármesteri Hivatal épület felújítás I. ütem - balesetveszély elhárítása | C11: 30426 | E11: 76041 | G11: =SUM(E11:F11) -> 76041
B12: Polgármesteri Hivatal épület felújítás I. ütem - balesetveszély elhárítása - fordított áfa kiadás | E12: 19698 | G12: =SUM(E12:F12) -> 19698
B13: Polgármesteri Hivatal épület felújítás II. ütem | D13: 200000 | E13: 161809 | G13: =SUM(E13:F13) -> 161809
B14: Polgármesteri Hivatal épület felújítás II. ütem - fordított áfa kiadás | E14: 42660 | G14: =SUM(E14:F14) -> 42660
B15: Barátság u. 22. (idősek otthona) tetőszerkezet javítása | F15: 3514 | G15: =SUM(E15:F15) -> 3514
B16: Micimackó Óvoda inverter beszerzés | E16: 1400 | F16: 606 | G16: =SUM(E16:F16) -> 2006
B17: Költségvetési szervek beruházásai és felújításai összesen: | C17: =SUM(C11:C16) -> 30426 | D17: =SUM(D11:D16) -> 200000 | E17: =SUM(E11:E16) -> 301608 | F17: =SUM(F11:F16) -> 4120 | G17: =SUM(G11:G16) -> 305728
A18: 3. | B18: Vagyongazdálkodás
B19: Vagyongazdálkodási kiadások (ingatlan kisajátítás, vásárlás) | C19: 2568 | E19: 10512 | G19: =SUM(E19:F19) -> 10512
B20: Sárdi-éri iparterületen megvalósuló útfejlesztéshez kapcsolódó ingatlan kisajátítás kiadásai | C20: 49257 | E20: 0 | G20: =SUM(E20:F20) -> 0
B21: Ingatlancsere | C21: 5499 | E21: 0 | G21: =SUM(E21:F21) -> 0
B22: Vagyongazdálkodás összesen | C22: =SUM(C19:C21) -> 57324 | D22: =SUM(D19:D21) -> 0 | E22: =SUM(E19:E21) -> 10512 | F22: =SUM(F19:F21) -> 0 | G22: =SUM(G19:G21) -> 10512
A23: 4. | B23: Beruházások
A24: Közművesítés
B25: Vízközmű- és szennyvízközmű használati díj terhére végzett beruházás | C25: 146499 | E25: 1510383 | G25: =SUM(E25:F25) -> 1510383
B26: Vízközmű- és szennyvízközmű beruházáshoz kapcsolódóan - gördülő fejlesztési tervmódosítás költségei | C26: 37 | E26: 275 | G26: =SUM(E26:F26) -> 275
A27: Közlekedés, útépítés, közvilágítás, hídfelújítás | G27: =SUM(E27:F27) -> 0
B28: Laktanya terület út építési kötelezettség | C28: 4191 | E28: 1000 | G28: =SUM(E28:F28) -> 1000
B29: Hajdú utca burkolat javítás | E29: 35020 | G29: =SUM(E29:F29) -> 35020
B30: 2024. évi útfelújítási program | C30: 983 | E30: 0 | G30: =SUM(E30:F30) -> 0
B31: Kálvária utca közműkivitelezés utáni helyreállítása megállapodás alapján | E31: 38449 | G31: =SUM(E31:F31) -> 38449
B32: éves hídvizsgálat alapján híd javítás, felújítás | D32: 150000 | E32: 150000 | G32: =SUM(E32:F32) -> 150000
B33: Szent Gellért utca felújításának előkészítési feladatai | F33: 22890 | G33: =SUM(E33:F33) -> 22890
A34: Egyéb beruházások | G34: =SUM(E34:F34) -> 0
B35: Vis maior védekezési költségek | E35: 100000 | F35: -1700 | G35: =SUM(E35:F35) -> 98300
B36: Vis maior védekezési költségek - fordított áfa kiadás | F36: 1700 | G36: =SUM(E36:F36) -> 1700
B37: Azbeszttel szennyezett területek mentesítése, védekezési költségei | F37: 1606296 | G37: =SUM(E37:F37) -> 1606296
B38: Zanati városrész útjainak felújításához (Áfonya u., Eper u., Korpás u., Fenyő u.) terület vásárlás, járda felújítás, csapadékvíz szikkasztó medence átalakítása, vízjogi és üzemeltetési engedélyek stb. | C38: 565 | E38: 20563 | G38: =SUM(E38:F38) -> 20563
B39: Zanati városrész útjainak felújításához (Áfonya u., Eper u., Korpás u., Fenyő u.) terület vásárlás, járda felújítás, csapadékvíz szikkasztó medence átalakítása, vízjogi és üzemeltetési engedélyek stb. - fordított áfa kiadás | E39: 3882 | G39: =SUM(E39:F39) -> 3882
B40: Városfejlesztési alap | E40: 2807 | G40: =SUM(E40:F40) -> 2807
B41: Illés Akadémia - híd felújítás | E41: 7000 | G41: =SUM(E41:F41) -> 7000
B42: Északi iparterület - közművesítések finanszírozása, fejlesztések finanszírozása, tanulmányterv készítése | E42: 7608 | G42: =SUM(E42:F42) -> 7608
A43: Egyéb fejlesztések
B44: Évközi tervezések, útfelújítás tervezések, egyéb tervezések | C44: 1841 | E44: 6365 | G44: =SUM(E44:F44) -> 6365
A45: Informatikai fejlesztések | G45: =SUM(E45:F45) -> 0
B46: Önkormányzati és intézményi informatikai fejlesztések | D46: =3000+6000 -> 9000 | E46: 9000 | G46: =SUM(E46:F46) -> 9000
B47: Széll K. u. 51. sz. térfigyelő kamera telepítése | C47: 2005 | E47: 0 | G47: =SUM(E47:F47) -> 0
B48: Térfigyelő kamerarendszer tárhely bővítés | C48: 2256 | E48: 244 | G48: =SUM(E48:F48) -> 244
B49: Forgalomszámláló szenzorok beszerzése | D49: 1200 | E49: 1200 | F49: -214 | G49: =SUM(E49:F49) -> 986
B50: Forgalomszámláló szenzorok beszerzése - fordított áfa kiadás | F50: 214 | G50: =SUM(E50:F50) -> 214
A51: Nagyprojektek, projektek
B52: Projektek, TOP projektek - önerő, hozzájárulás, előkészítés, egyéb beruházási feladatok | C52: 17289 | D52: =10000+79000+67000-10000-25440-5000-2260+60000-42842 -> 130458 | E52: 142713 | F52: =-10601-2299-3514 -> -16414 | G52: =SUM(E52:F52) -> 126299
B53: TOP – PLUSZ -1.3.2-23-SH1-2025-00001 – Parkolási infrastruktúra- és zöldfejlesztés a Derkovits városrészen | C53: 3175 | E53: 390793 | G53: =SUM(E53:F53) -> 390793
B54: TOP – PLUSZ -1.3.2-23-SH1-2025-00001 – Parkolási infrastruktúra- és zöldfejlesztés a Derkovits városrészen - hozzájárulás | E54: 960 | G54: =SUM(E54:F54) -> 960
B55: TOP – PLUSZ -1.3.2-23-SH1-2025-00007 - Zöldfelületfejlesztés Szombathelyen | C55: 3175 | E55: 40849 | G55: =SUM(E55:F55) -> 40849
B56: TOP – PLUSZ -1.3.2-23-SH1-2025-00004 – Hunyadi út felújítása Szombathelyen I.ütem | C56: 3302 | E56: 419999 | G56: =SUM(E56:F56) -> 419999
B57: TOP – PLUSZ -1.3.2-23-SH1-2025-00005 - Kodály Z. u. felújítása Szombathelyen | C57: 3493 | E57: 1022 | G57: =SUM(E57:F57) -> 1022
B58: TOP – PLUSZ -1.3.2-23-SH1-2025-00012 –Belterületi úthálózat fejlesztése | C58: 3175 | E58: 585935 | G58: =SUM(E58:F58) -> 585935
B59: TOP – PLUSZ -1.3.2-23-SH1-2025-00012 –Belterületi úthálózat fejlesztése - hozzájárulás | E59: 1219 | G59: =SUM(E59:F59) -> 1219
B60: TOP – PLUSZ -1.3.2-23-SH1-2025-00002 – Kerékpárosbarát fejlesztések a déli városrészen | C60: 3175 | E60: 446011 | G60: =SUM(E60:F60) -> 446011
B61: TOP – PLUSZ -1.3.2-23-SH1-2025-00013 – Közúti infrastruktúra fejlesztése | C61: 3175 | E61: 457009 | G61: =SUM(E61:F61) -> 457009
B62: TOP – PLUSZ -1.3.2-23-SH1-2025-00009 - Belterületi utak fejlesztése Szombathelyen | C62: 3175 | E62: 1023 | G62: =SUM(E62:F62) -> 1023
B63: TOP – PLUSZ -1.3.2-23-SH1-2025-00003 - Kerékpárosbarát fejlesztések Szombathelyen | C63: 3175 | E63: 5334 | G63: =SUM(E63:F63) -> 5334
B64: TOP – PLUSZ -1.3.2-23-SH1-2025-00006 - Belterületi útfelújítások | E64: 4873 | G64: =SUM(E64:F64) -> 4873
B65: TOP – PLUSZ -1.3.2-23-SH1-2025-00010 – Belterületi utak korszerűsítése | E65: 474062 | G65: =SUM(E65:F65) -> 474062
B66: TOP – PLUSZ -1.3.2-23-SH1-2025-00011 –Markusovszky L. u. felújítása | E66: 662601 | G66: =SUM(E66:F66) -> 662601
B67: TOP – PLUSZ -1.3.2-23-SH1-2025-00014 - Bartók B.krt. híd felújítása | C67: 952 | E67: 1665485 | G67: =SUM(E67:F67) -> 1665485
B68: TOP – PLUSZ -1.3.2-23-SH1-2025-00008 –Hunyadi utca felújítása Szombathelyen II.ütem | E68: 514871 | G68: =SUM(E68:F68) -> 514871
B69: TOP – PLUSZ -1.3.2-23-SH1-2025-00008 –Hunyadi utca felújítása Szombathelyen II.ütem - hozzájárulás | E69: 1257 | G69: =SUM(E69:F69) -> 1257
B70: TOP – PLUSZ -3.4.1-23-SH1-2024-00003 – Bölcsődék fejlesztése Szombathelyen | C70: 450 | E70: 224700 | G70: =SUM(E70:F70) -> 224700
B71: TOP – PLUSZ -3.4.1-23-SH1-2024-00003 – Bölcsődék fejlesztése Szombathelyen - hozzájárulás | F71: 8914 | G71: =SUM(E71:F71) -> 8914
B72: TOP – PLUSZ -3.4.1-23-SH1-2024-00006 – Gyermekjóléti és szociális alapszolgáltatások fejlesztése | E72: 194800 | G72: =SUM(E72:F72) -> 194800
B73: TOP – PLUSZ -3.4.1-23-SH1-2024-00005 – Óvoda fejlesztések Szombathelyen | E73: 358920 | G73: =SUM(E73:F73) -> 358920
B74: TOP – PLUSZ -3.4.1-23-SH1-2024-00005 – Óvoda fejlesztések Szombathelyen - hozzájárulás | F74: 1687 | G74: =SUM(E74:F74) -> 1687
B75: TOP – PLUSZ -3.4.1-23-SH1-2024-00004 – Szociális alapszolgáltatások minőségi fejlesztése | C75: 3810 | E75: 105663 | G75: =SUM(E75:F75) -> 105663
B76: TOP – PLUSZ -3.4.1-23-SH1-2024-00004 – Szociális alapszolgáltatások minőségi fejlesztése - hozzájárulás | F76: 1143 | G76: =SUM(E76:F76) -> 1143
B77: TOP – PLUSZ -3.4.1-23-SH1-2024-00001 – Szociális alapszolgáltatások fejlesztése | C77: 51 | E77: 647020 | G77: =SUM(E77:F77) -> 647020
B78: TOP – PLUSZ -3.4.1-23-SH1-2024-00002 – Egészségügyi alapellátás fejlesztése | E78: 544045 | G78: =SUM(E78:F78) -> 544045
B79: TOP – PLUSZ -6.2.1-23-SH1-2024-00001 – Sárdi-éri iparterület fejlesztése, kivezető út építése | C79: 6350 | E79: 187715 | G79: =SUM(E79:F79) -> 187715
B80: TOP – PLUSZ -6.2.1-23-SH1-2024-00001 – Sárdi-éri iparterület fejlesztése, kivezető út építése - hozzájárulás | E80: 1334 | G80: =SUM(E80:F80) -> 1334
B81: TOP – PLUSZ -6.5.1-15-SH1-2016-00003 – Neumann János Általános Iskola felújítása - hozzájárulás | F81: 550 | G81: =SUM(E81:F81) -> 550
B82: Előző évi maradvány terhére teljesíthető felhalmozási célú projekt kiadások | D82: 7966774 | E82: 0 | G82: =SUM(E82:F82) -> 0
B83: RRF-1.1.2-21-2021-0007 Demográfiai és köznevelési bölcsődei nevelés fejlesztése - Új bölcsőde építése Szombathely Szentkirályi városrészen | E83: 82 | G83: =SUM(E83:F83) -> 82
B84: JustNature projekt | C84: 5903 | E84: 24707 | F84: -18369 | G84: =SUM(E84:F84) -> 6338
B85: Beruházások összesen | C85: =SUM(C25:C84) -> 222202 | D85: =SUM(D25:D84) -> 8257432 | E85: =SUM(E25:E84) -> 9998798 | F85: =SUM(F25:F84) -> 1606697 | G85: =SUM(G25:G84) -> 11605495
A86: 5. | B86: Munkáltató kölcsön | C86: 1027 | E86: 173 | G86: =SUM(E86:F86) -> 173
A87: ÖNKORMÁNYZATI FELHALMOZÁSI KIADÁSOK MINDÖSSZESEN | C87: =C9+C17+C22+C85+C86 -> 313287 | D87: =D9+D17+D22+D85+D86 -> 8457432 | E87: =E9+E17+E22+E85+E86 -> 10440538 | F87: =F9+F17+F22+F85+F86 -> 1610817 | G87: =G9+G17+G22+G85+G86 -> 12051355

Sheet 19 ei felh. terv bevétel
A1: Szombathely Megyei Jogú Város Önkormányzata 2026. évi II. sz. módosított előirányzat felhasználási terve
N3: ezer forintban
A4: BEVÉTELEK | B4: Mindösszesen | C4: 1. | D4: 2. | E4: 3. | F4: 4. | G4: 5. | H4: 6. | I4: 7. | J4: 8. | K4: 9. | L4: 10. | M4: 11. | N4: 12.
B6: bevételek | C6: hónap | D6: hónap | E6: hónap | F6: hónap | G6: hónap | H6: hónap | I6: hónap | J6: hónap | K6: hónap | L6: hónap | M6: hónap | N6: hónap
A7: Működési bevételek összesen | B7: ='1 kiemelt ei. '!G13 -> 37603034 | C7: =897325+177046+189084+4666 -> 1268121 | D7: =897325+177046+189084+4666 -> 1268121 | E7: =897325+177046+189084+4666+40279+4026000+1367500 -> 6701900 | F7: =897325+177046+189084+4666-121 -> 1268000 | G7: =897325+177046+189084+4666+2000000-121+64000 -> 3332000 | H7: =897325+177046+189084+4666+602000-121-1000000+64000 -> 934000 | I7: =897325+177046+189084+4666+250000+700000+602000-1000000-121+64000 -> 1884000 | J7: =897325+177046+189084+4666+602000-121+64000 -> 1934000 | K7: =897325+177046+189084+4666+4000000+1367500+602000+240-1+64000 -> 7301860 | L7: =897325+177046+189084+4666+602000+3+64000 -> 1934124 | M7: =897325+177046+189084+4666+1000000+602000+2000363+64000 -> 4934484 | N7: =897325+177046+189084+4666+2174000+9-1000000+606475+1606296+120710+66813 -> 4842424
A8: Felhalmozási bevételek összesen | B8: ='1 kiemelt ei. '!G17 -> 8926101 | C8: 583 | D8: 583 | E8: 583 | F8: 583 | G8: 583 | H8: 583 | I8: 583 | J8: 583 | K8: =583+19855 -> 20438 | L8: =583+1000000 -> 1000583 | M8: =583+500000 -> 500583 | N8: =583+4+7099246+300000 -> 7399833
A9: KÖLTSÉGVETÉSI BEVÉTELEK ÖSSZESEN | B9: =+B7+B8 -> 46529135 | C9: =+C7+C8 -> 1268704 | D9: =+D7+D8 -> 1268704 | E9: =+E7+E8 -> 6702483 | F9: =+F7+F8 -> 1268583 | G9: =+G7+G8 -> 3332583 | H9: =+H7+H8 -> 934583 | I9: =+I7+I8 -> 1884583 | ... N9: =+N7+N8 -> 12242257
A10: Finanszírozási bevételek | B10: ='1 kiemelt ei. '!G19 -> 12363715 | C10: =10830113-1940747-7966774 -> 922592 | E10: 6441123 | L10: 5000000
A11: MINDÖSSZESEN BEVÉTELEK | B11: =+B9+B10 -> 58892850 | C11: =+C9+C10 -> 2191296 | D11: =+D9+D10 -> 1268704 | E11: =+E9+E10 -> 13143606 | F11: =+F9+F10 -> 1268583 | G11: =+G9+G10 -> 3332583 | H11: =+H9+H10 -> 934583 | I11: =+I9+I10 -> 1884583 | ... N11: =+N9+N10 -> 12242257
B13: =B11-'2 mérleg'!H60 -> 0

Sheet 19 ei. felh.terv kiadás
A1: Szombathely Megyei Jogú Város Önkormányzata 2026. évi II. sz. módosított előirányzat felhasználási terve
N3: ezer forintban
A4: KIADÁSOK | B4: Mindösszesen | C4: 1. | D4: 2. | E4: 3. | F4: 4. | G4: 5. | H4: 6. | I4: 7. | J4: 8. | K4: 9. | L4: 10. | M4: 11. | N4: 12.
B6: kiadások | C6: hónap | D6: hónap | E6: hónap | F6: hónap | G6: hónap | H6: hónap | I6: hónap | J6: hónap | K6: hónap | L6: hónap | M6: hónap | N6: hónap
