Workbook
Name aaaaaaaaaaaaaaaaaaaaaaa: #REF!
Name aaaaaaaaaaaaaaaaaaaaaaa: #REF!
Name áfaössz16: #REF!
Name áfaössz16: #REF!
Name bk: #REF!
Name bk: #REF!
Name bk: #REF!
Name css: #REF!
Name css: #REF!
Name css: #REF!
Name css_k: [1]Családsegítés!$C$27:$C$86
Name css_k: [1]Családsegítés!$C$27:$C$86
Name css_k: #REF!
Name css_k_: #REF!
Name css_k_: #REF!
Name css_k_: #REF!
Name d: #REF!
Name d: #REF!
Name eredetiköltségvetés2017: #REF!
Name eredetiköltségvetés2017: #REF!
Name feljéc: #REF!
Name feljéc: #REF!
Name fff: #REF!
Name fff: #REF!
Name ffff: #REF!
Name ffff: #REF!
Name gyj: #REF!
Name gyj: #REF!
Name gyj: #REF!
Name gyj_k: [1]Gyermekjóléti!$C$27:$C$86
Name gyj_k: [1]Gyermekjóléti!$C$27:$C$86
Name gyj_k: #REF!
Name gyj_k_: #REF!
Name gyj_k_: #REF!
Name gyj_k_: #REF!
Name h: #REF!
Name h: #REF!
Name kjz: #REF!
Name kjz: #REF!
Name kjz: #REF!
Name kjz_k: [1]körjegyzőség!$C$9:$C$28
Name kjz_k: [1]körjegyzőség!$C$9:$C$28
Name kjz_k: #REF!
Name kjz_k_: #REF!
Name kjz_k_: #REF!
Name kjz_k_: #REF!
Name nev_b: #REF!
Name nev_b: #REF!
Name nev_c: #REF!
Name nev_c: #REF!
Name nev_c: #REF!
Name nev_g: #REF!
Name nev_g: #REF!
Name nev_g: #REF!
Name nev_k: #REF!
Name nev_k: #REF!
Name nev_k: #REF!
Name nev_k1: #REF!
Name nev_k1: #REF!
Name normatíva: [2]Családsegítés!$C$27:$C$86

Sheet 1 kiemelt ei. 
B1: Szombathely Megyei Jogú Város Önkormányzata | I1: Szombathely Megyei Jogú Város Önkormányzata
B2: 2026. évi II. sz. módosított bevételei kiemelt előirányzatonként | I2: 2026. évi II. sz. módosított kiadásai kiemelt előirányzatonként
N3: ezer forintban
B4: BEVÉTELEK | C4: Költségvetési | D4: Önkormányzat | E4: Önkormányzat | F4: Önkormányzat | G4: Mindösszesen | I4: KIADÁSOK | J4: Költségvetési | K4: Önkormányzat | L4: Önkormányzat | M4: Önkormányzat | N4: Mindösszesen
C5: szervek bevételei | F5: Mindösszesen | G5: bevételek | J5: szervek kiadásai | M5: Mindösszesen | N5: kiadások
E6: Kiemelt előirányzatok átcsoportosítása számviteli változások miatt | J6: összesen | K6: kiadásai | L6: Kiemelt előirányzatok átcsoportosítása számviteli változások miatt
B7: KÖLTSÉGVETÉSI BEVÉTELEK | I7: KÖLTSÉGVETÉSI KIADÁSOK
A8: B1 | B8: Működési célú támogatások államháztartáson belülről | C8: 1017708 | D8: 13833269 | F8: =SUM(D8:E8) -> 13833269 | G8: =SUM(C8+F8) -> 14850977 | H8: K1 | I8: Személyi juttatások | J8: 12735018 | K8: 543571 | L8: 154 | M8: =SUM(K8:L8) -> 543725 | N8: =SUM(J8+M8) -> 13278743
A9: B3 | B9: Közhatalmi bevételek | C9: 1350 | D9: 14997022 | F9: =SUM(D9:E9) -> 14997022 | G9: =SUM(C9+F9) -> 14998372 | H9: K2 | I9: Munkaadókat terhelő járulékok és szociális hozzájárulási adó | J9: 1881382 | K9: 76135 | L9: 60 | M9: =SUM(K9:L9) -> 76195 | N9: =SUM(J9+M9) -> 1957577
A10: B4 | B10: Működési bevétel | C10: 1768104 | D10: 3850122 | F10: =SUM(D10:E10) -> 3850122 | G10: =SUM(C10+F10) -> 5618226 | H10: K3 | I10: Dologi kiadások | J10: 5528671 | K10: 6758106 | L10: 1742889 | M10: =SUM(K10:L10) -> 8500995 | N10: =SUM(J10+M10) -> 14029666
A11: B6 | B11: Működési célú átvett pénzeszközök | C11: 1516 | D11: 2133943 | F11: =SUM(D11:E11) -> 2133943 | G11: =SUM(C11+F11) -> 2135459 | H11: K4 | I11: Ellátottak pénzbeli juttatásai | J11: 0 | K11: 237011 | L11: 0 | M11: =SUM(K11:L11) -> 237011 | N11: =SUM(J11+M11) -> 237011
F12: =SUM(D12:E12) -> 0 | G12: =SUM(C12+F12) -> 0 | H12: K5 | I12: Egyéb működési célú kiadások | J12: 4590 | K12: 9205314 | L12: 0 | M12: =SUM(K12:L12) -> 9205314 | N12: =SUM(J12+M12) -> 9209904
B13: Működési bevételek összesen | C13: =SUM(C8:C12) -> 2788678 | D13: =SUM(D8:D12) -> 34814356 | E13: =SUM(E8:E12) -> 0 | F13: =SUM(F8:F12) -> 34814356 | G13: =SUM(G8:G12) -> 37603034 | I13: Működési kiadások összesen | J13: =SUM(J8:J12) -> 20149661 | K13: =SUM(K8:K12) -> 16820137 | L13: =SUM(L8:L12) -> 1743103 | M13: =SUM(M8:M12) -> 18563240 | N13: =SUM(N8:N12) -> 38712901
A14: B2 | B14: Felhalmozási célú támogatások államháztartáson belülről | C14: 12600 | D14: 7957999 | F14: =SUM(D14:E14) -> 7957999 | G14: =SUM(C14+F14) -> 7970599 | H14: K6 | I14: Beruházások | J14: 303916 | K14: 3134651 | L14: -1684834 | M14: =SUM(K14:L14) -> 1449817 | N14: =SUM(J14+M14) -> 1753733
A15: B5 | B15: Felhalmozási bevételek | C15: 18650 | D15: 802100 | F15: =SUM(D15:E15) -> 802100 | G15: =SUM(C15+F15) -> 820750 | H15: K7 | I15: Felújítások | J15: 111021 | K15: 8787084 | L15: -58096 | M15: =SUM(K15:L15) -> 8728988 | N15: =SUM(J15+M15) -> 8840009
A16: B7 | B16: Felhalmozási célú átvett pénzeszközök | C16: 0 | D16: 134752 | F16: =SUM(D16:E16) -> 134752 | G16: =SUM(C16+F16) -> 134752 | H16: K8 | I16: Egyéb felhalmozási célú kiadások | J16: 0 | K16: 129620 | L16: -173 | M16: =SUM(K16:L16) -> 129447 | N16: =SUM(J16+M16) -> 129447
B17: Felhalmozási bevételek összesen | C17: =SUM(C14:C16) -> 31250 | D17: =SUM(D14:D16) -> 8894851 | E17: =SUM(E14:E16) -> 0 | F17: =SUM(F14:F16) -> 8894851 | G17: =SUM(G14:G16) -> 8926101 | I17: Felhalmozási kiadások összesen | J17: =SUM(J14:J16) -> 414937 | K17: =SUM(K14:K16) -> 12051355 | L17: =SUM(L14:L16) -> -1743103 | M17: =SUM(M14:M16) -> 10308252 | N17: =SUM(N14:N16) -> 10723189
B18: KÖLTSÉGVETÉSI BEVÉTELEK ÖSSZESEN | C18: =+C13+C17 -> 2819928 | D18: =+D13+D17 -> 43709207 | E18: =+E13+E17 -> 0 | F18: =+F13+F17 -> 43709207 | G18: =+G13+G17 -> 46529135 | I18: KÖLTSÉGVETÉSI KIADÁSOK ÖSSZESEN | J18: =SUM(J17,J13) -> 20564598 | K18: =SUM(K17,K13) -> 28871492 | L18: =+L13+L17 -> 0 | M18: =SUM(M13+M17) -> 28871492 | N18: =SUM(N17,N13) -> 49436090
A19: B8 | B19: Finanszírozási bevételek | C19: 0 | D19: 12363715 | F19: =SUM(D19:E19) -> 12363715 | G19: =SUM(C19+F19) -> 12363715 | H19: K9 | I19: Finanszírozási kiadások | J19: 0 | K19: 9456760 | L19: 0 | M19: =SUM(K19:L19) -> 9456760 | N19: =SUM(J19+M19) -> 9456760
B20: MINDÖSSZESEN BEVÉTELEK | C20: =SUM(C18:C19) -> 2819928 | D20: =SUM(D18:D19) -> 56072922 | E20: =SUM(E18:E19) -> 0 | F20: =SUM(F18:F19) -> 56072922 | G20: =SUM(G18:G19) -> 58892850 | I20: MINDÖSSZESEN KIADÁSOK | J20: =SUM(J18:J19) -> 20564598 | K20: =SUM(K18:K19) -> 38328252 | L20: =SUM(L18:L19) -> 0 | M20: =SUM(M18:M19) -> 38328252 | N20: =SUM(N18:N19) -> 58892850

Sheet 2 mérleg
A2: SZOMBATHELY MEGYEI JOGÚ VÁROS ÖNKORMÁNYZATÁNAK PÉNZÜGYI MÉRLEGE
O3: ezer forintban
B4: MŰKÖDÉSI BEVÉTELEK | D4: 2025. évi | E4: 2026. évi | F4: 2026. évi I.sz. | G4: Javasolt | H4: 2026. évi II.sz. | I4: MŰKÖDÉSI KIADÁSOK | K4: 2025. évi | L4: 2026. évi | M4: 2026. évi I.sz. | N4: Javasolt | O4: 2026. évi II.sz.
D5: teljesítés | E5: eredeti előirányzat | F5: módosított előirányzat | G5: módosítás | H5: módosított előirányzat | K5: teljesítés | L5: eredeti előirányzat | M5: módosított előirányzat | N5: módosítás | O5: módosított előirányzat
A7: Működési célú támogatások ÁH-on belülről | D7: ='3 működési bevételek'!F59 -> 9963486 | E7: ='3 működési bevételek'!G59 -> 11782041 | F7: ='3 működési bevételek'!H59 -> 12030675 | G7: ='3 működési bevételek'!I59 -> 1802594 | H7: ='3 működési bevételek'!J59 -> 13833269 | I7: Oktatási ágazat | K7: =+'8 oktatás'!B24+'8 oktatás'!B9 -> 6001882 | L7: =+'8 oktatás'!C24+'8 oktatás'!C9 -> 6593717 | M7: ='8 oktatás'!D25 -> 6967379 | N7: ='8 oktatás'!E25 -> -2776 | O7: ='8 oktatás'!F25 -> 6964603
A8: Közhatalmi bevételek | D8: ='3 működési bevételek'!F73 -> 16204265 | E8: ='3 működési bevételek'!G73 -> 14991000 | F8: ='3 működési bevételek'!H73 -> 14993026 | G8: ='3 működési bevételek'!I73 -> 3996 | H8: ='3 működési bevételek'!J73 -> 14997022 | I8: Kulturális ágazat, média | K8: ='9 kultúra'!B66 -> 3546874 | L8: ='9 kultúra'!C66 -> 3694119 | M8: ='9 kultúra'!D66 -> 4415349 | N8: ='9 kultúra'!E66 -> 31194 | O8: ='9 kultúra'!F66 -> 4446543
A9: Működési bevételek | D9: ='3 működési bevételek'!F111 -> 3015061 | E9: ='3 működési bevételek'!G111 -> 2100686 | F9: ='3 működési bevételek'!H111 -> 3686459 | G9: ='3 működési bevételek'!I111 -> 163663 | H9: ='3 működési bevételek'!J111 -> 3850122 | I9: Szociális ágazat | K9: ='10 szociális'!B39 -> 2505141 | L9: ='10 szociális'!C39 -> 2284192 | M9: ='10 szociális'!D39 -> 2556663 | N9: ='10 szociális'!E39 -> 165959 | O9: ='10 szociális'!F39 -> 2722622
A10: Működési célú átvett pénzeszközök | D10: ='3 működési bevételek'!F141 -> 38469 | E10: ='3 működési bevételek'!G141 -> 0 | F10: ='3 működési bevételek'!H141 -> 1944780 | G10: ='3 működési bevételek'!I141 -> 189163 | H10: ='3 működési bevételek'!J141 -> 2133943 | I10: Egészségügyi ágazat | K10: ='11 egészségügy'!B19 -> 934767 | L10: ='11 egészségügy'!C19 -> 1038794 | M10: ='11 egészségügy'!D19 -> 1231050 | N10: ='11 egészségügy'!E19 -> 2553 | O10: ='11 egészségügy'!F19 -> 1233603
A11: Költségvetési szervek működési bevételei | D11: ='3 működési bevételek'!F155 -> 2616703 | E11: ='3 működési bevételek'!G155 -> 2269013 | F11: ='3 működési bevételek'!H155 -> 2706275 | G11: ='3 működési bevételek'!I155 -> 82403 | H11: ='3 működési bevételek'!J155 -> 2788678 | I11: Gyermekvédelemi ágazat | K11: ='12 gyermekvédelm'!B12 -> 1998458 | L11: ='12 gyermekvédelm'!C12 -> 2147581 | M11: ='12 gyermekvédelm'!D12 -> 2270346 | N11: ='12 gyermekvédelm'!E12 -> 26073 | O11: ='12 gyermekvédelm'!F12 -> 2296419
I12: Egyéb más ágazathoz nem sorolható intézmények és feladatok | K12: ='13 egyéb'!B118 -> 13719352 | L12: ='13 egyéb'!C118 -> 12726120 | M12: ='13 egyéb'!D118 -> 13435441 | N12: ='13 egyéb'!E118 -> 295135 | O12: ='13 egyéb'!F118 -> 13730576
I13: Sport | K13: =+'14 sport'!B26 -> 1222396 | L13: =+'14 sport'!C26 -> 984977 | M13: =+'14 sport'!D26 -> 995559 | N13: =+'14 sport'!E26 -> 146785 | O13: =+'14 sport'!F26 -> 1142344
I14: Kommunális, városüzemeltetési és környezetvédelmi kiadások | K14: =+'15 város.ü.'!B31 -> 1736670 | L14: =+'15 város.ü.'!C31 -> 3079786 | M14: =+'15 város.ü.'!D31 -> 3238352 | N14: =+'15 város.ü.'!E31 -> 20597 | O14: =+'15 város.ü.'!F31 -> 3258949
I15: Út-híd fenntartás | K15: =+'16 út-híd'!B28 -> 353805 | L15: =+'16 út-híd'!C28 -> 396000 | M15: =+'16 út-híd'!D28 -> 714820 | N15: =+'16 út-híd'!E28 -> 300736 | O15: =+'16 út-híd'!F28 -> 1015556
I16: Tartalékok
J17: Általános tartalék | L17: =2245+1+6686+3649-200+1510 -> 13891 | M17: 6868 | N17: =-500-350 -> -850 | O17: =SUM(M17:N17) -> 6018
J18: Tartalék - a városi kistelepülési célú könyvtárakat megillető kiegészítő állami támogatás - kötött felhasználású támogatás a Berzsenyi D. könyvtár részére | L18: =142713-392 -> 142321 | M18: 0 | O18: =SUM(M18:N18) -> 0
J19: Tartalék - kulturális intézményekben és cégekben foglalkoztatottak jogszabály szerinti bérjellegű kiadásaira kapott állami támogatás tartaléka | L19: =243763-19926-77726-38000-79910-3631 -> 24570 | M19: 0 | O19: =SUM(M19:N19) -> 0
J20: Tartalék - kulturális gazdasági társaságok 15%-os béremelésének tartaléka | L20: 139829 | M20: 0 | O20: =SUM(M20:N20) -> 0
J21: Tartalék - önkormányzati szociális bérlakás értékesítéséből származó bevételből | M21: 0 | O21: =SUM(M21:N21) -> 0
J22: Tartalék a 2026. évi költségvetéshez | M22: 0 | O22: =SUM(M22:N22) -> 0
J23: Tartalék - városi cégek, intézmények, szolgáltatások működésére | L23: =7158+42842+7842+7890+76016-1000-1000-300+5000-4000-1000+500-5000-6966 -> 127982 | M23: 273946 | N23: =-37522-10000-118030-2700-21560-4282+62713 -> -131381 | O23: =SUM(M23:N23) -> 142565
J24: Tartalék - Felsőcsatári gyerektábor tervezési költségeire | L24: =10000-5000+5000 -> 10000 | M24: 10000 | O24: =SUM(M24:N24) -> 10000
I25: Tartalékok össszesen | K25: =SUM(K17:K24) -> 0 | L25: =SUM(L17:L24) -> 458593 | M25: =SUM(M17:M24) -> 290814 | N25: =SUM(N17:N24) -> -132231 | O25: =SUM(O17:O24) -> 158583
A26: Működési célú bevételek összesen : | D26: =SUM(D7:D25) -> 31837984 | E26: =SUM(E7:E25) -> 31142740 | F26: =SUM(F7:F25) -> 35361215 | G26: =SUM(G7:G25) -> 2241819 | H26: =SUM(H7:H25) -> 37603034 | I26: Működési célú kiadások összesen : | K26: =+K25+K15+K14+K13+K12+K11+K10+K9+K8+K7 -> 32019345 | L26: =+L25+L15+L14+L13+L12+L11+L10+L9+L8+L7 -> 33403879 | M26: =+M25+M15+M14+M13+M12+M11+M10+M9+M8+M7 -> 36115773 | N26: =+N25+N15+N14+N13+N12+N11+N10+N9+N8+N7 -> 854025 | O26: =+O25+O15+O14+O13+O12+O11+O10+O9+O8+O7 -> 36969798
C28: FELHALMOZÁSI BEVÉTELEK | D28: 2025. évi | E28: 2026. évi | F28: 2026. évi I.sz. | G28: Javasolt | H28: 2026. évi II.sz. | J28: FELHALMOZÁSI KIADÁSOK | K28: 2025. évi | L28: 2026. évi | M28: 2026. évi I.sz. | N28: Javasolt | O28: 2026. évi II.sz.
D29: teljesítés | E29: eredeti előirányzat | F29: módosított előirányzat | G29: módosítás | H29: módosított előirányzat | K29: teljesítés | L29: eredeti előirányzat | M29: módosított előirányzat | N29: módosítás | O29: módosított előirányzat
A31: Felhalmozási célú támogatások államháztartáson belülről | D31: ='17 felhalm.bevétel '!C27 -> 15364 | E31: ='17 felhalm.bevétel '!D27 -> 0 | F31: ='17 felhalm.bevétel '!E27 -> 7957999 | G31: ='17 felhalm.bevétel '!F27 -> 0 | H31: ='17 felhalm.bevétel '!G27 -> 7957999 | I31: Intézményi felhalmozási kiadások
A32: Felhalmozási bevételek | D32: ='17 felhalm.bevétel '!C34 -> 902249 | E32: ='17 felhalm.bevétel '!D34 -> 500000 | F32: ='17 felhalm.bevétel '!E34 -> 502100 | G32: ='17 felhalm.bevétel '!F34 -> 300000 | H32: ='17 felhalm.bevétel '!G34 -> 802100 | I32: Oktatási ágazat | K32: =+'8 oktatás'!B32 -> 91293 | L32: =+'8 oktatás'!C32 -> 0 | M32: =+'8 oktatás'!D32 -> 25286 | N32: =+'8 oktatás'!E32 -> 76278 | O32: =+'8 oktatás'!F32 -> 101564
A33: Felhalmozási célú átvett péneszközök | D33: ='17 felhalm.bevétel '!C44 -> 130957 | E33: ='17 felhalm.bevétel '!D44 -> 7000 | F33: ='17 felhalm.bevétel '!E44 -> 119131 | G33: ='17 felhalm.bevétel '!F44 -> 15621 | H33: ='17 felhalm.bevétel '!G44 -> 134752 | I33: Kulturális ágazat, média | K33: ='9 kultúra'!B75 -> 108483 | L33: ='9 kultúra'!C75 -> 0 | M33: ='9 kultúra'!D75 -> 79982 | N33: ='9 kultúra'!E75 -> 0 | O33: ='9 kultúra'!F75 -> 79982
A34: Költségvetési szervek felhalmozási bevételei | D34: ='17 felhalm.bevétel '!C58 -> 45998 | E34: ='17 felhalm.bevétel '!D58 -> 0 | F34: ='17 felhalm.bevétel '!E58 -> 27016 | G34: ='17 felhalm.bevétel '!F58 -> 4234 | H34: ='17 felhalm.bevétel '!G58 -> 31250 | I34: Szociális ágazat | K34: ='10 szociális'!B44 -> 27472 | L34: ='10 szociális'!C44 -> 14967 | M34: ='10 szociális'!D44 -> 26719 | N34: ='10 szociális'!E44 -> 6192 | O34: ='10 szociális'!F44 -> 32911
I35: Egészségügyi ágazat | K35: ='11 egészségügy'!B25 -> 16562 | L35: ='11 egészségügy'!C25 -> 0 | M35: ='11 egészségügy'!D25 -> 8416 | N35: ='11 egészségügy'!E25 -> 0 | O35: ='11 egészségügy'!F25 -> 8416
I36: Gyermekvédelemi ágazat | K36: ='12 gyermekvédelm'!B17 -> 27208 | L36: ='12 gyermekvédelm'!C17 -> 51660 | M36: ='12 gyermekvédelm'!D17 -> 59356 | N36: ='12 gyermekvédelm'!E17 -> 13175 | O36: ='12 gyermekvédelm'!F17 -> 72531
I37: Egyéb más ágazathoz nem sorolható intézmények és feladatok | K37: ='13 egyéb'!B125 -> 91573 | L37: ='13 egyéb'!C125 -> 95155 | M37: ='13 egyéb'!D125 -> 117346 | N37: ='13 egyéb'!E125 -> 187 | O37: ='13 egyéb'!F125 -> 117533
I38: Kommunális, városüzemeltetési és környezetvédelmi kiadások | K38: ='15 város.ü.'!B36 -> 0 | L38: ='15 város.ü.'!C36 -> 0 | M38: ='15 város.ü.'!D36 -> 1000 | N38: ='15 város.ü.'!E36 -> 1000 | O38: ='15 város.ü.'!F36 -> 2000
I39: Intézményi felhalmozási kiadások össszesen | K39: =SUM(K32:K38) -> 362591 | L39: =SUM(L32:L38) -> 161782 | M39: =SUM(M32:M38) -> 318105 | N39: =SUM(N32:N38) -> 96832 | O39: =SUM(O32:O38) -> 414937
I40: Pénzeszközátadás | K40: =+'18 felhalm.kiadás'!C9 -> 2308 | L40: =+'18 felhalm.kiadás'!D9 -> 0 | M40: =+'18 felhalm.kiadás'!E9 -> 129447 | N40: =+'18 felhalm.kiadás'!F9 -> 0 | O40: =+'18 felhalm.kiadás'!G9 -> 129447
I41: Költségvetési szervek beruházásai és felújításai | K41: ='18 felhalm.kiadás'!C17 -> 30426 | L41: ='18 felhalm.kiadás'!D17 -> 200000 | M41: ='18 felhalm.kiadás'!E17 -> 301608 | N41: ='18 felhalm.kiadás'!F17 -> 4120 | O41: ='18 felhalm.kiadás'!G17 -> 305728
I42: Vagyongazdálkodás | K42: =+'18 felhalm.kiadás'!C22 -> 57324 | L42: =+'18 felhalm.kiadás'!D22 -> 0 | M42: =+'18 felhalm.kiadás'!E22 -> 10512 | N42: =+'18 felhalm.kiadás'!F22 -> 0 | O42: =+'18 felhalm.kiadás'!G22 -> 10512
I43: Beruházások | K43: =+'18 felhalm.kiadás'!C85 -> 222202 | L43: =+'18 felhalm.kiadás'!D85 -> 8257432 | M43: =+'18 felhalm.kiadás'!E85 -> 9998798 | N43: =+'18 felhalm.kiadás'!F85 -> 1606697 | O43: =+'18 felhalm.kiadás'!G85 -> 11605495
I44: Munkáltatói kölcsön | K44: ='18 felhalm.kiadás'!C86 -> 1027 | L44: ='18 felhalm.kiadás'!D86 -> 0 | M44: ='18 felhalm.kiadás'!E86 -> 173 | N44: ='18 felhalm.kiadás'!F86 -> 0 | O44: ='18 felhalm.kiadás'!G86 -> 173
...

Sheet 3 működési bevételek
A2: Költségvetési működési bevételek
J4: ezer forintban
E5: Megnevezés | F5: 2025. évi | G5: 2026. évi | H5: 2026. évi I.sz. | I5: Javasolt | J5: 2026. évi II.sz.
F6: teljesítés | G6: eredeti előirányzat | H6: módosított előirányzat | I6: módosítás | J6: módosított előirányzat
A7: MŰKÖDÉSI CÉLÚ TÁMOGATÁSOK ÁLLAMHÁZTARTÁSON BELÜLRŐL
B8: I. Helyi önkormányzatok működésének általános támogatása | F8: 1759844 | G8: =1706599+64813+76691 -> 1848103 | H8: 1848103 | J8: =SUM(H8:I8) -> 1848103
B9: II. Települési önkormányzatok egyes köznevelési feladatainak támogatása | F9: 3354379 | G9: =3333839+220531+61686+41561 -> 3657617 | H9: 3693262 | I9: =21835+8863 -> 30698 | J9: =SUM(H9:I9) -> 3723960
B10: III. | E10: Települési önkormányzatok egyes szociális és gyermekjóléti feladatainak támogatása | F10: 2130512 | G10: =2145681+31918+144277 -> 2321876 | H10: 2332725 | I10: =-20514+2668 -> -17846 | J10: =SUM(H10:I10) -> 2314879
B11: IV. | E11: Települési önkormányzatok gyermekétkeztetési feladatainak támogatása | F11: 946949 | G11: =878065+92235+45120 -> 1015420 | H11: 1015420 | I11: 24447 | J11: =SUM(H11:I11) -> 1039867
B12: V. Települési önkormányzatok kulturális feladatainak támogatása | F12: =SUM(F13:F14) -> 214194 | G12: =SUM(G13:G14) -> 213472 | H12: 213472 | I12: =SUM(I13:I14) -> 0 | J12: =SUM(J13:J14) -> 213472
C13: Vármegyeszékhely megyei jogú városok kulturális feladatainak támogatása | F13: 71480 | G13: =71479-328 -> 71151 | H13: 71151 | J13: =SUM(H13:I13) -> 71151
C14: Vármegyei hatókörű városi könyvtár kistelepülési könyvtári célú kiegészítő támogatása | F14: 142714 | G14: =142713-392 -> 142321 | H14: 142321 | J14: =SUM(H14:I14) -> 142321
B15: ÖSSZESEN (I.+II.+III.+IV.+V.) | F15: =F8+F9+F10+F11+F12 -> 8405878 | G15: =G8+G9+G10+G11+G12 -> 9056488 | H15: =H8+H9+H10+H11+H12 -> 9102982 | I15: =I8+I9+I10+I11+I12 -> 37299 | J15: =J8+J9+J10+J11+J12 -> 9140281
B16: Helyi önkormányzatok kiegészítő támogatásai
C17: Könyvtári érdekeltségnövelő támogatás | F17: 5539 | H17: 0 | J17: =SUM(H17:I17) -> 0
C18: Szociális ágazati összevont pótlék | F18: 251154 | H18: 104947 | I18: 85331 | J18: =SUM(H18:I18) -> 190278
C19: Kiegészítő szociális ágazati pótlék | H19: 37713 | I19: 38186 | J19: =SUM(H19:I19) -> 75899
C20: Helyi önkormányzatok kiegészítő támogatásai összesen | F20: =SUM(F17:F19) -> 256693 | G20: =SUM(G17:G19) -> 0 | H20: =SUM(H17:H19) -> 142660 | I20: =SUM(I17:I19) -> 123517 | J20: =SUM(J17:J19) -> 266177
B21: Települési önkormányzatok kulturális feladatainak támogatása
C22: Vármegyei hatókörű városi múzeumok feladatainak támogatása - Savaria Múzeum feladatainak támogatása | F22: 230670 | G22: 230670 | H22: 230670 | J22: =SUM(H22:I22) -> 230670
C23: Vármegyei hatókörű városi könyvtárak feladatainak támogatása - Berzsenyi Dániel könyvtár feladatainak támogatása | F23: 188000 | G23: 188000 | H23: 188000 | J23: =SUM(H23:I23) -> 188000
C24: Zeneművészeti szervek támogatása - Savaria Szimfónikus zenekar központi támogatása | F24: 318266 | G24: 318266 | H24: 318266 | J24: =SUM(H24:I24) -> 318266
C25: Települési önkormányzatok kulturális feladatainak bérjellegű támogatása (682/2021.(XII.6.) korm.rend.szerinti 20% és minimálbér és garantált bérminimum emelés) | F25: 157338 | G25: 157338 | H25: 157338 | J25: =SUM(H25:I25) -> 157338
C26: Kulturális 15%-os illetmény emeléshez normatív támogatás - kulturális intézmények | G26: 236016 | H26: 236016 | J26: =SUM(H26:I26) -> 236016
C27: Kulturális 15%-os illetmény emeléshez normatív támogatás - kulturális gazdasági társaságok | G27: 139829 | H27: 139829 | J27: =SUM(H27:I27) -> 139829
B28: Települési önkormányzatok kulturális feladatainak támogatásai összesen | F28: =SUM(F21:F27) -> 894274 | G28: =SUM(G21:G27) -> 1270119 | H28: =SUM(H21:H27) -> 1270119 | I28: =SUM(I21:I27) -> 0 | J28: =SUM(J21:J27) -> 1270119
B29: Működési célú költségvetési támogatások és kiegészítő támogatások
E30: Veszélyhelyzet ideje alatt a szomszédos országban fennálló humanitárius katasztrófára tekintettel érkező személyek elhelyezésének támogatása | F30: 7300 | H30: 2420 | I30: 1820 | J30: =SUM(H30:I30) -> 4240
E31: Kéményseprő ipari közszolgáltatás ellátásának támogatása | F31: 3137 | H31: 0 | J31: =SUM(H31:I31) -> 0
B32: Működési célú költségvetési támogatások és kiegészítő támogatások össszesen | F32: =SUM(F30:F31) -> 10437 | G32: =SUM(G30:G31) -> 0 | H32: =SUM(H30:H31) -> 2420 | I32: =SUM(I30:I31) -> 1820 | J32: =SUM(J30:J31) -> 4240
A33: ÖSSZESEN | F33: =F15+F20+F28+F32 -> 9567282 | G33: =G15+G20+G28+G32 -> 10326607 | H33: =H15+H20+H28+H32 -> 10518181 | I33: =I15+I20+I28+I32 -> 162636 | J33: =J15+J20+J28+J32 -> 10680817
B34: Elszámolásból származó bevételek
C35: Központi támogatás elszámolása alapján | I35: 8550 | J35: =SUM(H35:I35) -> 8550
B36: Elszámolásból származó bevételek összesen | F36: =SUM(F35) -> 0 | G36: =SUM(G35) -> 0 | H36: =SUM(H35) -> 0 | I36: =SUM(I35) -> 8550 | J36: =SUM(J35) -> 8550
A37: a.) | B37: ÖNKORMÁNYZATOK MŰKÖDÉSI TÁMOGATÁSAI | F37: =F33+F36 -> 9567282 | G37: =G33+G36 -> 10326607 | H37: =H33+H36 -> 10518181 | I37: =I33+I36 -> 171186 | J37: =J33+J36 -> 10689367
C38: Elvonások és befizetések bevételei | J38: =SUM(H38:I38) -> 0
C39: 2025. évi helyi iparűzési adóbevétel többlet elszámolásával kapcsolatos visszatérítés | H39: 40279 | J39: =SUM(H39:I39) -> 40279
A40: b.) | B40: ELVONÁSOK ÉS BEFIZETÉSEK BEVÉTELEI | F40: =SUM(F38:F39) -> 0 | G40: =SUM(G38:G39) -> 0 | H40: =SUM(H38:H39) -> 40279 | I40: =SUM(I38:I39) -> 0 | J40: =SUM(J38:J39) -> 40279
C41: Önkormányzati fenntartású Weöres Sándor Színház közös működtetési támogatása | F41: 75519 | G41: =302075+55733 -> 357808 | H41: 0 | J41: =SUM(H41:I41) -> 0
C42: Önkormányzati fenntartású Mesebolt Bábszínház közös működtetési támogatása | F42: 13250 | G42: =53000+30487 -> 83487 | H42: 0 | J42: =SUM(H42:I42) -> 0
...

Sheet 4 intézményi bevétel
B3: Szombathely Megyei Jogú Város Önkormányzata | R3: Szombathely Megyei Jogú Város Önkormányzata | AH3: Szombathely Megyei Jogú Város Önkormányzata
B4: Költségvetési szervek 2026. évi bevételei | R4: Költségvetési szervek 2026. évi bevételei | AH4: Költségvetési szervek 2026. évi bevételei
P5: ezer forintban | AF5: ezer forintban | AP5: ezer forintban
A6: I N T É Z M É N Y | B6: Működési bevételek | E6: Működési célú támogatások államháztartáson belülről | H6: Működési célú átvett pénzeszközök | K6: Közhatalmi bevételek | N6: Működési bevételek összesen | Q6: I N T É Z M É N Y | R6: Felhalmozási bevételek | U6: Felhalmozási célú támogatások államháztartáson belülről | X6: Felhalmozási célú átvett pénzeszközök | AA6: Felhalmozási bevételek összesen | AD6: Saját bevételek összesen | AG6: I N T É Z M É N Y | AH6: Előző év költségvetési maradványának igénybevétele | AK6: Központi irányítószervtől kapott támogatás | AN6: Költségvetési bevételek összesen
A7: 2026. | Q7: 2026. | AG7: 2026.
B8: 2026. évi I. sz. módosított előirányzat | C8: Javasolt módosítás | D8: 2026. évi II. sz. módosított előirányzat | E8: 2026. évi I. sz. módosított előirányzat | F8: Javasolt módosítás | G8: 2026. évi II. sz. módosított előirányzat | H8: 2026. évi I. sz. módosított előirányzat | I8: Javasolt módosítás | J8: 2026. évi II. sz. módosított előirányzat | K8: 2026. évi I. sz. módosított előirányzat | L8: Javasolt módosítás | M8: 2026. évi II. sz. módosított előirányzat | N8: 2026. évi I. sz. módosított előirányzat | O8: Javasolt módosítás | P8: 2026. évi II. sz. módosított előirányzat | R8: 2026. évi I. sz. módosított előirányzat | S8: Javasolt módosítás | T8: 2026. évi II. sz. módosított előirányzat | U8: 2026. évi I. sz. módosított előirányzat | V8: Javasolt módosítás | W8: 2026. évi II. sz. módosított előirányzat | X8: 2026. évi I. sz. módosított előirányzat | Y8: Javasolt módosítás | Z8: 2026. évi II. sz. módosított előirányzat | AA8: 2026. évi I. sz. módosított előirányzat | AB8: Javasolt módosítás | AC8: 2026. évi II. sz. módosított előirányzat | AD8: 2026. évi I. sz. módosított előirányzat | AE8: Javasolt módosítás | AF8: 2026. évi II. sz. módosított előirányzat | AH8: 2026. évi I. sz. módosított előirányzat | AI8: Javasolt módosítás | AJ8: 2026. évi II. sz. módosított előirányzat | AK8: 2026. évi I. sz. módosított előirányzat | AL8: Javasolt módosítás | AM8: 2026. évi II. sz. módosított előirányzat | AN8: 2026. évi I. sz. módosított előirányzat | AO8: Javasolt módosítás | AP8: 2026. évi II. sz. módosított előirányzat
A9: Ó v o d á k | Q9: Ó v o d á k | AG9: Ó v o d á k
A10: Aréna Óvoda | B10: ='[3]int.bevételek RM I'!D10 -> 2568 | D10: =SUM(B10:C10) -> 2568 | E10: ='[3]int.bevételek RM I'!G10 -> 0 | G10: =SUM(E10:F10) -> 0 | H10: ='[3]int.bevételek RM I'!J10 -> 0 | J10: =SUM(H10:I10) -> 0 | K10: ='[3]int.bevételek RM I'!M10 -> 0 | M10: =SUM(K10:L10) -> 0 | N10: =B10+E10+H10+K10 -> 2568 | O10: =C10+F10+I10+L10 -> 0 | P10: =D10+G10+J10+M10 -> 2568 | Q10: Aréna Óvoda | R10: ='[3]int.bevételek RM I'!T10 -> 0 | T10: =SUM(R10:S10) -> 0 | U10: ='[3]int.bevételek RM I'!W10 -> 0 | W10: =SUM(U10:V10) -> 0 | X10: ='[3]int.bevételek RM I'!Z10 -> 0 | Z10: =SUM(X10:Y10) -> 0 | AA10: =R10+U10+X10 -> 0 | AB10: =S10+V10+Y10 -> 0 | AC10: =T10+W10+Z10 -> 0 | AD10: =N10+AA10 -> 2568 | AE10: =O10+AB10 -> 0 | AF10: =P10+AC10 -> 2568 | AG10: Aréna Óvoda | AH10: ='[3]int.bevételek RM I'!AJ10 -> 3426 | AJ10: =SUM(AH10:AI10) -> 3426 | AK10: ='[3]int.bevételek RM I'!AM10 -> 326005 | AL10: 650 | AM10: =SUM(AK10:AL10) -> 326655 | AN10: =N10+AA10+AH10+AK10 -> 331999 | AO10: =O10+AB10+AI10+AL10 -> 650 | AP10: =P10+AC10+AJ10+AM10 -> 332649
A11: Barátság Óvoda | B11: ='[3]int.bevételek RM I'!D11 -> 1000 | D11: =SUM(B11:C11) -> 1000 | E11: ='[3]int.bevételek RM I'!G11 -> 0 | G11: =SUM(E11:F11) -> 0 | H11: ='[3]int.bevételek RM I'!J11 -> 0 | J11: =SUM(H11:I11) -> 0 | K11: ='[3]int.bevételek RM I'!M11 -> 0 | M11: =SUM(K11:L11) -> 0 | N11: =B11+E11+H11+K11 -> 1000 | O11: =C11+F11+I11+L11 -> 0 | P11: =D11+G11+J11+M11 -> 1000 | Q11: Barátság Óvoda | R11: ='[3]int.bevételek RM I'!T11 -> 0 | T11: =SUM(R11:S11) -> 0 | U11: ='[3]int.bevételek RM I'!W11 -> 0 | W11: =SUM(U11:V11) -> 0 | X11: ='[3]int.bevételek RM I'!Z11 -> 0 | Z11: =SUM(X11:Y11) -> 0 | AA11: =R11+U11+X11 -> 0 | AB11: =S11+V11+Y11 -> 0 | AC11: =T11+W11+Z11 -> 0 | AD11: =N11+AA11 -> 1000 | AE11: =O11+AB11 -> 0 | AF11: =P11+AC11 -> 1000 | AG11: Barátság Óvoda | AH11: ='[3]int.bevételek RM I'!AJ11 -> 886 | AJ11: =SUM(AH11:AI11) -> 886 | AK11: ='[3]int.bevételek RM I'!AM11 -> 219948 | AL11: 458 | AM11: =SUM(AK11:AL11) -> 220406 | AN11: =N11+AA11+AH11+AK11 -> 221834 | AO11: =O11+AB11+AI11+AL11 -> 458 | AP11: =P11+AC11+AJ11+AM11 -> 222292
A12: Pipitér Óvoda | B12: ='[3]int.bevételek RM I'!D12 -> 960 | D12: =SUM(B12:C12) -> 960 | E12: ='[3]int.bevételek RM I'!G12 -> 64 | G12: =SUM(E12:F12) -> 64 | H12: ='[3]int.bevételek RM I'!J12 -> 0 | J12: =SUM(H12:I12) -> 0 | K12: ='[3]int.bevételek RM I'!M12 -> 0 | M12: =SUM(K12:L12) -> 0 | N12: =B12+E12+H12+K12 -> 1024 | O12: =C12+F12+I12+L12 -> 0 | P12: =D12+G12+J12+M12 -> 1024 | Q12: Pipitér Óvoda | R12: ='[3]int.bevételek RM I'!T12 -> 0 | T12: =SUM(R12:S12) -> 0 | U12: ='[3]int.bevételek RM I'!W12 -> 0 | W12: =SUM(U12:V12) -> 0 | X12: ='[3]int.bevételek RM I'!Z12 -> 0 | Z12: =SUM(X12:Y12) -> 0 | AA12: =R12+U12+X12 -> 0 | AB12: =S12+V12+Y12 -> 0 | AC12: =T12+W12+Z12 -> 0 | AD12: =N12+AA12 -> 1024 | AE12: =O12+AB12 -> 0 | AF12: =P12+AC12 -> 1024 | AG12: Pipitér Óvoda | AH12: ='[3]int.bevételek RM I'!AJ12 -> 2589 | AJ12: =SUM(AH12:AI12) -> 2589 | AK12: ='[3]int.bevételek RM I'!AM12 -> 228445 | AL12: 1295 | AM12: =SUM(AK12:AL12) -> 229740 | AN12: =N12+AA12+AH12+AK12 -> 232058 | AO12: =O12+AB12+AI12+AL12 -> 1295 | AP12: =P12+AC12+AJ12+AM12 -> 233353
A13: Hétszínvirág Óvoda | B13: ='[3]int.bevételek RM I'!D13 -> 1256 | C13: 54 | D13: =SUM(B13:C13) -> 1310 | E13: ='[3]int.bevételek RM I'!G13 -> 48 | G13: =SUM(E13:F13) -> 48 | H13: ='[3]int.bevételek RM I'!J13 -> 0 | J13: =SUM(H13:I13) -> 0 | K13: ='[3]int.bevételek RM I'!M13 -> 0 | M13: =SUM(K13:L13) -> 0 | N13: =B13+E13+H13+K13 -> 1304 | O13: =C13+F13+I13+L13 -> 54 | P13: =D13+G13+J13+M13 -> 1358 | Q13: Hétszínvirág Óvoda | R13: ='[3]int.bevételek RM I'!T13 -> 0 | T13: =SUM(R13:S13) -> 0 | U13: ='[3]int.bevételek RM I'!W13 -> 0 | W13: =SUM(U13:V13) -> 0 | X13: ='[3]int.bevételek RM I'!Z13 -> 0 | Z13: =SUM(X13:Y13) -> 0 | AA13: =R13+U13+X13 -> 0 | AB13: =S13+V13+Y13 -> 0 | AC13: =T13+W13+Z13 -> 0 | AD13: =N13+AA13 -> 1304 | AE13: =O13+AB13 -> 54 | AF13: =P13+AC13 -> 1358 | AG13: Hétszínvirág Óvoda | AH13: ='[3]int.bevételek RM I'!AJ13 -> 1730 | AJ13: =SUM(AH13:AI13) -> 1730 | AK13: ='[3]int.bevételek RM I'!AM13 -> 279608 | AL13: 651 | AM13: =SUM(AK13:AL13) -> 280259 | AN13: =N13+AA13+AH13+AK13 -> 282642 | AO13: =O13+AB13+AI13+AL13 -> 705 | AP13: =P13+AC13+AJ13+AM13 -> 283347
A14: Szivárvány Óvoda | B14: ='[3]int.bevételek RM I'!D14 -> 1328 | D14: =SUM(B14:C14) -> 1328 | E14: ='[3]int.bevételek RM I'!G14 -> 183 | G14: =SUM(E14:F14) -> 183 | H14: ='[3]int.bevételek RM I'!J14 -> 0 | J14: =SUM(H14:I14) -> 0 | K14: ='[3]int.bevételek RM I'!M14 -> 0 | M14: =SUM(K14:L14) -> 0 | N14: =B14+E14+H14+K14 -> 1511 | O14: =C14+F14+I14+L14 -> 0 | P14: =D14+G14+J14+M14 -> 1511 | Q14: Szivárvány Óvoda | R14: ='[3]int.bevételek RM I'!T14 -> 0 | T14: =SUM(R14:S14) -> 0 | U14: ='[3]int.bevételek RM I'!W14 -> 0 | W14: =SUM(U14:V14) -> 0 | X14: ='[3]int.bevételek RM I'!Z14 -> 0 | Z14: =SUM(X14:Y14) -> 0 | AA14: =R14+U14+X14 -> 0 | AB14: =S14+V14+Y14 -> 0 | AC14: =T14+W14+Z14 -> 0 | AD14: =N14+AA14 -> 1511 | AE14: =O14+AB14 -> 0 | AF14: =P14+AC14 -> 1511 | AG14: Szivárvány Óvoda | AH14: ='[3]int.bevételek RM I'!AJ14 -> 1850 | AJ14: =SUM(AH14:AI14) -> 1850 | AK14: ='[3]int.bevételek RM I'!AM14 -> 276947 | AL14: 38166 | AM14: =SUM(AK14:AL14) -> 315113 | AN14: =N14+AA14+AH14+AK14 -> 280308 | AO14: =O14+AB14+AI14+AL14 -> 38166 | AP14: =P14+AC14+AJ14+AM14 -> 318474
A15: Donászy Magda Óvoda | B15: ='[3]int.bevételek RM I'!D15 -> 1600 | D15: =SUM(B15:C15) -> 1600 | E15: ='[3]int.bevételek RM I'!G15 -> 60 | G15: =SUM(E15:F15) -> 60 | H15: ='[3]int.bevételek RM I'!J15 -> 0 | J15: =SUM(H15:I15) -> 0 | K15: ='[3]int.bevételek RM I'!M15 -> 0 | M15: =SUM(K15:L15) -> 0 | N15: =B15+E15+H15+K15 -> 1660 | O15: =C15+F15+I15+L15 -> 0 | P15: =D15+G15+J15+M15 -> 1660 | Q15: Donászy Magda Óvoda | R15: ='[3]int.bevételek RM I'!T15 -> 0 | T15: =SUM(R15:S15) -> 0 | U15: ='[3]int.bevételek RM I'!W15 -> 0 | W15: =SUM(U15:V15) -> 0 | X15: ='[3]int.bevételek RM I'!Z15 -> 0 | Z15: =SUM(X15:Y15) -> 0 | AA15: =R15+U15+X15 -> 0 | AB15: =S15+V15+Y15 -> 0 | AC15: =T15+W15+Z15 -> 0 | AD15: =N15+AA15 -> 1660 | AE15: =O15+AB15 -> 0 | AF15: =P15+AC15 -> 1660 | AG15: Donászy Magda Óvoda | AH15: ='[3]int.bevételek RM I'!AJ15 -> 2051 | AJ15: =SUM(AH15:AI15) -> 2051 | AK15: ='[3]int.bevételek RM I'!AM15 -> 255747 | AL15: 942 | AM15: =SUM(AK15:AL15) -> 256689 | AN15: =N15+AA15+AH15+AK15 -> 259458 | AO15: =O15+AB15+AI15+AL15 -> 942 | AP15: =P15+AC15+AJ15+AM15 -> 260400
A16: Mesevár Óvoda | B16: ='[3]int.bevételek RM I'!D16 -> 1400 | C16: 296 | D16: =SUM(B16:C16) -> 1696 | E16: ='[3]int.bevételek RM I'!G16 -> 0 | G16: =SUM(E16:F16) -> 0 | H16: ='[3]int.bevételek RM I'!J16 -> 0 | J16: =SUM(H16:I16) -> 0 | K16: ='[3]int.bevételek RM I'!M16 -> 0 | M16: =SUM(K16:L16) -> 0 | N16: =B16+E16+H16+K16 -> 1400 | O16: =C16+F16+I16+L16 -> 296 | P16: =D16+G16+J16+M16 -> 1696 | Q16: Mesevár Ovoda | R16: ='[3]int.bevételek RM I'!T16 -> 0 | T16: =SUM(R16:S16) -> 0 | U16: ='[3]int.bevételek RM I'!W16 -> 0 | W16: =SUM(U16:V16) -> 0 | X16: ='[3]int.bevételek RM I'!Z16 -> 0 | Z16: =SUM(X16:Y16) -> 0 | AA16: =R16+U16+X16 -> 0 | AB16: =S16+V16+Y16 -> 0 | AC16: =T16+W16+Z16 -> 0 | AD16: =N16+AA16 -> 1400 | AE16: =O16+AB16 -> 296 | AF16: =P16+AC16 -> 1696 | AG16: Mesevár Ovoda | AH16: ='[3]int.bevételek RM I'!AJ16 -> 1230 | AJ16: =SUM(AH16:AI16) -> 1230 | AK16: ='[3]int.bevételek RM I'!AM16 -> 181439 | AL16: 2131 | AM16: =SUM(AK16:AL16) -> 183570 | AN16: =N16+AA16+AH16+AK16 -> 184069 | AO16: =O16+AB16+AI16+AL16 -> 2427 | AP16: =P16+AC16+AJ16+AM16 -> 186496
A17: Játéksziget Óvoda | B17: ='[3]int.bevételek RM I'!D17 -> 1568 | D17: =SUM(B17:C17) -> 1568 | E17: ='[3]int.bevételek RM I'!G17 -> 0 | G17: =SUM(E17:F17) -> 0 | H17: ='[3]int.bevételek RM I'!J17 -> 0 | J17: =SUM(H17:I17) -> 0 | K17: ='[3]int.bevételek RM I'!M17 -> 0 | M17: =SUM(K17:L17) -> 0 | N17: =B17+E17+H17+K17 -> 1568 | O17: =C17+F17+I17+L17 -> 0 | P17: =D17+G17+J17+M17 -> 1568 | Q17: Játéksziget Óvoda | R17: ='[3]int.bevételek RM I'!T17 -> 0 | T17: =SUM(R17:S17) -> 0 | U17: ='[3]int.bevételek RM I'!W17 -> 0 | W17: =SUM(U17:V17) -> 0 | X17: ='[3]int.bevételek RM I'!Z17 -> 0 | Z17: =SUM(X17:Y17) -> 0 | AA17: =R17+U17+X17 -> 0 | AB17: =S17+V17+Y17 -> 0 | AC17: =T17+W17+Z17 -> 0 | AD17: =N17+AA17 -> 1568 | AE17: =O17+AB17 -> 0 | AF17: =P17+AC17 -> 1568 | AG17: Játéksziget Óvoda | AH17: ='[3]int.bevételek RM I'!AJ17 -> 957 | AJ17: =SUM(AH17:AI17) -> 957 | AK17: ='[3]int.bevételek RM I'!AM17 -> 194615 | AL17: 400 | AM17: =SUM(AK17:AL17) -> 195015 | AN17: =N17+AA17+AH17+AK17 -> 197140 | AO17: =O17+AB17+AI17+AL17 -> 400 | AP17: =P17+AC17+AJ17+AM17 -> 197540
A18: Kőrösi Csoma Sándor Utcai Óvoda | B18: ='[3]int.bevételek RM I'!D18 -> 880 | C18: 127 | D18: =SUM(B18:C18) -> 1007 | E18: ='[3]int.bevételek RM I'!G18 -> 0 | G18: =SUM(E18:F18) -> 0 | H18: ='[3]int.bevételek RM I'!J18 -> 0 | J18: =SUM(H18:I18) -> 0 | K18: ='[3]int.bevételek RM I'!M18 -> 0 | M18: =SUM(K18:L18) -> 0 | N18: =B18+E18+H18+K18 -> 880 | O18: =C18+F18+I18+L18 -> 127 | P18: =D18+G18+J18+M18 -> 1007 | Q18: Kőrösi Csoma Sándor Utcai Óvoda | R18: ='[3]int.bevételek RM I'!T18 -> 0 | T18: =SUM(R18:S18) -> 0 | U18: ='[3]int.bevételek RM I'!W18 -> 0 | W18: =SUM(U18:V18) -> 0 | X18: ='[3]int.bevételek RM I'!Z18 -> 0 | Z18: =SUM(X18:Y18) -> 0 | AA18: =R18+U18+X18 -> 0 | AB18: =S18+V18+Y18 -> 0 | AC18: =T18+W18+Z18 -> 0 | AD18: =N18+AA18 -> 880 | AE18: =O18+AB18 -> 127 | AF18: =P18+AC18 -> 1007 | AG18: Kőrösi Csoma Sándor Utcai Óvoda | AH18: ='[3]int.bevételek RM I'!AJ18 -> 1896 | AJ18: =SUM(AH18:AI18) -> 1896 | AK18: ='[3]int.bevételek RM I'!AM18 -> 282991 | AL18: 1881 | AM18: =SUM(AK18:AL18) -> 284872 | AN18: =N18+AA18+AH18+AK18 -> 285767 | AO18: =O18+AB18+AI18+AL18 -> 2008 | AP18: =P18+AC18+AJ18+AM18 -> 287775
A19: Gazdag Erzsi Óvoda | B19: ='[3]int.bevételek RM I'!D19 -> 3384 | C19: 1166 | D19: =SUM(B19:C19) -> 4550 | E19: ='[3]int.bevételek RM I'!G19 -> 0 | G19: =SUM(E19:F19) -> 0 | H19: ='[3]int.bevételek RM I'!J19 -> 0 | J19: =SUM(H19:I19) -> 0 | K19: ='[3]int.bevételek RM I'!M19 -> 0 | M19: =SUM(K19:L19) -> 0 | N19: =B19+E19+H19+K19 -> 3384 | O19: =C19+F19+I19+L19 -> 1166 | P19: =D19+G19+J19+M19 -> 4550 | Q19: Gazdag Erzsi Óvoda | R19: ='[3]int.bevételek RM I'!T19 -> 0 | T19: =SUM(R19:S19) -> 0 | U19: ='[3]int.bevételek RM I'!W19 -> 0 | W19: =SUM(U19:V19) -> 0 | X19: ='[3]int.bevételek RM I'!Z19 -> 0 | Z19: =SUM(X19:Y19) -> 0 | AA19: =R19+U19+X19 -> 0 | AB19: =S19+V19+Y19 -> 0 | AC19: =T19+W19+Z19 -> 0 | AD19: =N19+AA19 -> 3384 | AE19: =O19+AB19 -> 1166 | AF19: =P19+AC19 -> 4550 | AG19: Gazdag Erzsi Óvoda | AH19: ='[3]int.bevételek RM I'!AJ19 -> 5227 | AJ19: =SUM(AH19:AI19) -> 5227 | AK19: ='[3]int.bevételek RM I'!AM19 -> 323830 | AL19: 797 | AM19: =SUM(AK19:AL19) -> 324627 | AN19: =N19+AA19+AH19+AK19 -> 332441 | AO19: =O19+AB19+AI19+AL19 -> 1963 | AP19: =P19+AC19+AJ19+AM19 -> 334404
A20: Maros Óvoda | B20: ='[3]int.bevételek RM I'!D20 -> 124 | C20: 135 | D20: =SUM(B20:C20) -> 259 | E20: ='[3]int.bevételek RM I'!G20 -> 44 | G20: =SUM(E20:F20) -> 44 | H20: ='[3]int.bevételek RM I'!J20 -> 0 | J20: =SUM(H20:I20) -> 0 | K20: ='[3]int.bevételek RM I'!M20 -> 0 | M20: =SUM(K20:L20) -> 0 | N20: =B20+E20+H20+K20 -> 168 | O20: =C20+F20+I20+L20 -> 135 | P20: =D20+G20+J20+M20 -> 303 | Q20: Maros Óvoda | R20: ='[3]int.bevételek RM I'!T20 -> 0 | T20: =SUM(R20:S20) -> 0 | U20: ='[3]int.bevételek RM I'!W20 -> 0 | W20: =SUM(U20:V20) -> 0 | X20: ='[3]int.bevételek RM I'!Z20 -> 0 | Z20: =SUM(X20:Y20) -> 0 | AA20: =R20+U20+X20 -> 0 | AB20: =S20+V20+Y20 -> 0 | AC20: =T20+W20+Z20 -> 0 | AD20: =N20+AA20 -> 168 | AE20: =O20+AB20 -> 135 | AF20: =P20+AC20 -> 303 | AG20: Maros Óvoda | AH20: ='[3]int.bevételek RM I'!AJ20 -> 864 | AJ20: =SUM(AH20:AI20) -> 864 | AK20: ='[3]int.bevételek RM I'!AM20 -> 146970 | AL20: 901 | AM20: =SUM(AK20:AL20) -> 147871 | AN20: =N20+AA20+AH20+AK20 -> 148002 | AO20: =O20+AB20+AI20+AL20 -> 1036 | AP20: =P20+AC20+AJ20+AM20 -> 149038
A21: Vadvirág Óvoda | B21: ='[3]int.bevételek RM I'!D21 -> 1160 | C21: 57 | D21: =SUM(B21:C21) -> 1217 | E21: ='[3]int.bevételek RM I'!G21 -> 0 | G21: =SUM(E21:F21) -> 0 | H21: ='[3]int.bevételek RM I'!J21 -> 0 | J21: =SUM(H21:I21) -> 0 | K21: ='[3]int.bevételek RM I'!M21 -> 0 | M21: =SUM(K21:L21) -> 0 | N21: =B21+E21+H21+K21 -> 1160 | O21: =C21+F21+I21+L21 -> 57 | P21: =D21+G21+J21+M21 -> 1217 | Q21: Vadvirág Óvoda | R21: ='[3]int.bevételek RM I'!T21 -> 0 | T21: =SUM(R21:S21) -> 0 | U21: ='[3]int.bevételek RM I'!W21 -> 0 | W21: =SUM(U21:V21) -> 0 | X21: ='[3]int.bevételek RM I'!Z21 -> 0 | Z21: =SUM(X21:Y21) -> 0 | AA21: =R21+U21+X21 -> 0 | AB21: =S21+V21+Y21 -> 0 | AC21: =T21+W21+Z21 -> 0 | AD21: =N21+AA21 -> 1160 | AE21: =O21+AB21 -> 57 | AF21: =P21+AC21 -> 1217 | AG21: Vadvirág Óvoda | AH21: ='[3]int.bevételek RM I'!AJ21 -> 1185 | AJ21: =SUM(AH21:AI21) -> 1185 | AK21: ='[3]int.bevételek RM I'!AM21 -> 150794 | AL21: 429 | AM21: =SUM(AK21:AL21) -> 151223 | AN21: =N21+AA21+AH21+AK21 -> 153139 | AO21: =O21+AB21+AI21+AL21 -> 486 | AP21: =P21+AC21+AJ21+AM21 -> 153625
A22: Margaréta Óvoda | B22: ='[3]int.bevételek RM I'!D22 -> 2552 | D22: =SUM(B22:C22) -> 2552 | E22: ='[3]int.bevételek RM I'!G22 -> 24 | G22: =SUM(E22:F22) -> 24 | H22: ='[3]int.bevételek RM I'!J22 -> 0 | J22: =SUM(H22:I22) -> 0 | K22: ='[3]int.bevételek RM I'!M22 -> 0 | M22: =SUM(K22:L22) -> 0 | N22: =B22+E22+H22+K22 -> 2576 | O22: =C22+F22+I22+L22 -> 0 | P22: =D22+G22+J22+M22 -> 2576 | Q22: Margaréta Óvoda | R22: ='[3]int.bevételek RM I'!T22 -> 0 | T22: =SUM(R22:S22) -> 0 | U22: ='[3]int.bevételek RM I'!W22 -> 0 | W22: =SUM(U22:V22) -> 0 | X22: ='[3]int.bevételek RM I'!Z22 -> 0 | Z22: =SUM(X22:Y22) -> 0 | AA22: =R22+U22+X22 -> 0 | AB22: =S22+V22+Y22 -> 0 | AC22: =T22+W22+Z22 -> 0 | AD22: =N22+AA22 -> 2576 | AE22: =O22+AB22 -> 0 | AF22: =P22+AC22 -> 2576 | AG22: Margaréta Óvoda | AH22: ='[3]int.bevételek RM I'!AJ22 -> 1195 | AJ22: =SUM(AH22:AI22) -> 1195 | AK22: ='[3]int.bevételek RM I'!AM22 -> 182784 | AL22: 397 | AM22: =SUM(AK22:AL22) -> 183181 | AN22: =N22+AA22+AH22+AK22 -> 186555 | AO22: =O22+AB22+AI22+AL22 -> 397 | AP22: =P22+AC22+AJ22+AM22 -> 186952
A23: Napsugár Óvoda | B23: ='[3]int.bevételek RM I'!D23 -> 280 | C23: 64 | D23: =SUM(B23:C23) -> 344 | E23: ='[3]int.bevételek RM I'!G23 -> 49 | G23: =SUM(E23:F23) -> 49 | H23: ='[3]int.bevételek RM I'!J23 -> 0 | J23: =SUM(H23:I23) -> 0 | K23: ='[3]int.bevételek RM I'!M23 -> 0 | M23: =SUM(K23:L23) -> 0 | N23: =B23+E23+H23+K23 -> 329 | O23: =C23+F23+I23+L23 -> 64 | P23: =D23+G23+J23+M23 -> 393 | Q23: Napsugár Óvoda | R23: ='[3]int.bevételek RM I'!T23 -> 0 | T23: =SUM(R23:S23) -> 0 | U23: ='[3]int.bevételek RM I'!W23 -> 0 | W23: =SUM(U23:V23) -> 0 | X23: ='[3]int.bevételek RM I'!Z23 -> 0 | Z23: =SUM(X23:Y23) -> 0 | AA23: =R23+U23+X23 -> 0 | AB23: =S23+V23+Y23 -> 0 | AC23: =T23+W23+Z23 -> 0 | AD23: =N23+AA23 -> 329 | AE23: =O23+AB23 -> 64 | AF23: =P23+AC23 -> 393 | AG23: Napsugár Óvoda | AH23: ='[3]int.bevételek RM I'!AJ23 -> 2476 | AJ23: =SUM(AH23:AI23) -> 2476 | AK23: ='[3]int.bevételek RM I'!AM23 -> 222120 | AL23: 1807 | AM23: =SUM(AK23:AL23) -> 223927 | AN23: =N23+AA23+AH23+AK23 -> 224925 | AO23: =O23+AB23+AI23+AL23 -> 1871 | AP23: =P23+AC23+AJ23+AM23 -> 226796
A24: Szűrcsapó Óvoda | B24: ='[3]int.bevételek RM I'!D24 -> 1640 | C24: 176 | D24: =SUM(B24:C24) -> 1816 | E24: ='[3]int.bevételek RM I'!G24 -> 0 | G24: =SUM(E24:F24) -> 0 | H24: ='[3]int.bevételek RM I'!J24 -> 0 | I24: 86 | J24: =SUM(H24:I24) -> 86 | K24: ='[3]int.bevételek RM I'!M24 -> 0 | M24: =SUM(K24:L24) -> 0 | N24: =B24+E24+H24+K24 -> 1640 | O24: =C24+F24+I24+L24 -> 262 | P24: =D24+G24+J24+M24 -> 1902 | Q24: Szűrcsapó Óvoda | R24: ='[3]int.bevételek RM I'!T24 -> 0 | T24: =SUM(R24:S24) -> 0 | U24: ='[3]int.bevételek RM I'!W24 -> 0 | W24: =SUM(U24:V24) -> 0 | X24: ='[3]int.bevételek RM I'!Z24 -> 0 | Z24: =SUM(X24:Y24) -> 0 | AA24: =R24+U24+X24 -> 0 | AB24: =S24+V24+Y24 -> 0 | AC24: =T24+W24+Z24 -> 0 | AD24: =N24+AA24 -> 1640 | AE24: =O24+AB24 -> 262 | AF24: =P24+AC24 -> 1902 | AG24: Szűrcsapó Óvoda | AH24: ='[3]int.bevételek RM I'!AJ24 -> 1221 | AJ24: =SUM(AH24:AI24) -> 1221 | AK24: ='[3]int.bevételek RM I'!AM24 -> 314681 | AL24: 1838 | AM24: =SUM(AK24:AL24) -> 316519 | AN24: =N24+AA24+AH24+AK24 -> 317542 | AO24: =O24+AB24+AI24+AL24 -> 2100 | AP24: =P24+AC24+AJ24+AM24 -> 319642
A25: Mocorgó Óvoda | B25: ='[3]int.bevételek RM I'!D25 -> 329 | C25: 107 | D25: =SUM(B25:C25) -> 436 | E25: ='[3]int.bevételek RM I'!G25 -> 96 | G25: =SUM(E25:F25) -> 96 | H25: ='[3]int.bevételek RM I'!J25 -> 0 | J25: =SUM(H25:I25) -> 0 | K25: ='[3]int.bevételek RM I'!M25 -> 0 | M25: =SUM(K25:L25) -> 0 | N25: =B25+E25+H25+K25 -> 425 | O25: =C25+F25+I25+L25 -> 107 | P25: =D25+G25+J25+M25 -> 532 | Q25: Mocorgó Óvoda | R25: ='[3]int.bevételek RM I'!T25 -> 0 | T25: =SUM(R25:S25) -> 0 | U25: ='[3]int.bevételek RM I'!W25 -> 0 | W25: =SUM(U25:V25) -> 0 | X25: ='[3]int.bevételek RM I'!Z25 -> 0 | Z25: =SUM(X25:Y25) -> 0 | AA25: =R25+U25+X25 -> 0 | AB25: =S25+V25+Y25 -> 0 | AC25: =T25+W25+Z25 -> 0 | AD25: =N25+AA25 -> 425 | AE25: =O25+AB25 -> 107 | AF25: =P25+AC25 -> 532 | AG25: Mocorgó Óvoda | AH25: ='[3]int.bevételek RM I'!AJ25 -> 2113 | AJ25: =SUM(AH25:AI25) -> 2113 | AK25: ='[3]int.bevételek RM I'!AM25 -> 227601 | AL25: 425 | AM25: =SUM(AK25:AL25) -> 228026 | AN25: =N25+AA25+AH25+AK25 -> 230139 | AO25: =O25+AB25+AI25+AL25 -> 532 | AP25: =P25+AC25+AJ25+AM25 -> 230671
A26: Benczúr Gyula Utcai Óvoda | B26: ='[3]int.bevételek RM I'!D26 -> 1104 | D26: =SUM(B26:C26) -> 1104 | E26: ='[3]int.bevételek RM I'!G26 -> 0 | G26: =SUM(E26:F26) -> 0 | H26: ='[3]int.bevételek RM I'!J26 -> 0 | J26: =SUM(H26:I26) -> 0 | K26: ='[3]int.bevételek RM I'!M26 -> 0 | M26: =SUM(K26:L26) -> 0 | N26: =B26+E26+H26+K26 -> 1104 | O26: =C26+F26+I26+L26 -> 0 | P26: =D26+G26+J26+M26 -> 1104 | Q26: Benczúr Gyula Utcai Óvoda | R26: ='[3]int.bevételek RM I'!T26 -> 0 | T26: =SUM(R26:S26) -> 0 | U26: ='[3]int.bevételek RM I'!W26 -> 0 | W26: =SUM(U26:V26) -> 0 | X26: ='[3]int.bevételek RM I'!Z26 -> 0 | Z26: =SUM(X26:Y26) -> 0 | AA26: =R26+U26+X26 -> 0 | AB26: =S26+V26+Y26 -> 0 | AC26: =T26+W26+Z26 -> 0 | AD26: =N26+AA26 -> 1104 | AE26: =O26+AB26 -> 0 | AF26: =P26+AC26 -> 1104 | AG26: Benczúr Gyula Utcai Óvoda | AH26: ='[3]int.bevételek RM I'!AJ26 -> 799 | AJ26: =SUM(AH26:AI26) -> 799 | AK26: ='[3]int.bevételek RM I'!AM26 -> 181158 | AL26: 397 | AM26: =SUM(AK26:AL26) -> 181555 | AN26: =N26+AA26+AH26+AK26 -> 183061 | AO26: =O26+AB26+AI26+AL26 -> 397 | AP26: =P26+AC26+AJ26+AM26 -> 183458
A27: Weöres Sándor Óvoda | B27: ='[3]int.bevételek RM I'!D27 -> 1600 | C27: 405 | D27: =SUM(B27:C27) -> 2005 | E27: ='[3]int.bevételek RM I'!G27 -> 0 | G27: =SUM(E27:F27) -> 0 | H27: ='[3]int.bevételek RM I'!J27 -> 0 | J27: =SUM(H27:I27) -> 0 | K27: ='[3]int.bevételek RM I'!M27 -> 0 | M27: =SUM(K27:L27) -> 0 | N27: =B27+E27+H27+K27 -> 1600 | O27: =C27+F27+I27+L27 -> 405 | P27: =D27+G27+J27+M27 -> 2005 | Q27: Weöres Sándor Óvoda | R27: ='[3]int.bevételek RM I'!T27 -> 0 | T27: =SUM(R27:S27) -> 0 | U27: ='[3]int.bevételek RM I'!W27 -> 0 | W27: =SUM(U27:V27) -> 0 | X27: ='[3]int.bevételek RM I'!Z27 -> 0 | Z27: =SUM(X27:Y27) -> 0 | AA27: =R27+U27+X27 -> 0 | AB27: =S27+V27+Y27 -> 0 | AC27: =T27+W27+Z27 -> 0 | AD27: =N27+AA27 -> 1600 | AE27: =O27+AB27 -> 405 | AF27: =P27+AC27 -> 2005 | AG27: Weöres Sándor Óvoda | AH27: ='[3]int.bevételek RM I'!AJ27 -> 1228 | AJ27: =SUM(AH27:AI27) -> 1228 | AK27: ='[3]int.bevételek RM I'!AM27 -> 121141 | AL27: 700 | AM27: =SUM(AK27:AL27) -> 121841 | AN27: =N27+AA27+AH27+AK27 -> 123969 | AO27: =O27+AB27+AI27+AL27 -> 1105 | AP27: =P27+AC27+AJ27+AM27 -> 125074
A28: Óvodák összesen | B28: =SUM(B10:B27) -> 24733 | C28: =SUM(C10:C27) -> 2587 | D28: =SUM(D10:D27) -> 27320 | E28: =SUM(E10:E27) -> 568 | F28: =SUM(F10:F27) -> 0 | G28: =SUM(G10:G27) -> 568 | H28: =SUM(H10:H27) -> 0 | I28: =SUM(I10:I27) -> 86 | ... P28: =SUM(P10:P27) -> 27974 | Q28: Óvodák összesen | R28: =SUM(R10:R27) -> 0 | S28: =SUM(S10:S27) -> 0 | T28: =SUM(T10:T27) -> 0 | U28: =SUM(U10:U27) -> 0 | V28: =SUM(V10:V27) -> 0 | W28: =SUM(W10:W27) -> 0 | X28: =SUM(X10:X27) -> 0 | Y28: =SUM(Y10:Y27) -> 0 | ... AC28: =SUM(AC10:AC27) -> 0 | AD28: =N28+AA28 -> 25301 | AE28: =O28+AB28 -> 2673 | AF28: =P28+AC28 -> 27974 | AG28: Óvodák összesen | AH28: =SUM(AH10:AH27) -> 32923 | AI28: =SUM(AI10:AI27) -> 0 | AJ28: =SUM(AJ10:AJ27) -> 32923 | AK28: =SUM(AK10:AK27) -> 4116824 | AL28: =SUM(AL10:AL27) -> 54265 | AM28: =SUM(AM10:AM27) -> 4171089 | AN28: =SUM(AN10:AN27) -> 4175048 | AO28: =SUM(AO10:AO27) -> 56938 | AP28: =SUM(AP10:AP27) -> 4231986
A29: Szombathelyi Köznevelési GAMESZ | B29: ='[3]int.bevételek RM I'!D29 -> 694181 | C29: 1084 | D29: =SUM(B29:C29) -> 695265 | E29: ='[3]int.bevételek RM I'!G29 -> 1539 | F29: 2030 | G29: =SUM(E29:F29) -> 3569 | H29: ='[3]int.bevételek RM I'!J29 -> 0 | J29: =SUM(H29:I29) -> 0 | K29: ='[3]int.bevételek RM I'!M29 -> 0 | M29: =SUM(K29:L29) -> 0 | N29: =B29+E29+H29+K29 -> 695720 | O29: =C29+F29+I29+L29 -> 3114 | P29: =D29+G29+J29+M29 -> 698834 | Q29: Szombathelyi Köznevelési GAMESZ | R29: ='[3]int.bevételek RM I'!T29 -> 0 | T29: =SUM(R29:S29) -> 0 | U29: ='[3]int.bevételek RM I'!W29 -> 0 | W29: =SUM(U29:V29) -> 0 | X29: ='[3]int.bevételek RM I'!Z29 -> 0 | Z29: =SUM(X29:Y29) -> 0 | AA29: =R29+U29+X29 -> 0 | AB29: =S29+V29+Y29 -> 0 | AC29: =T29+W29+Z29 -> 0 | AD29: =N29+AA29 -> 695720 | AE29: =O29+AB29 -> 3114 | AF29: =P29+AC29 -> 698834 | AG29: Szombathelyi Köznevelési GAMESZ | AH29: ='[3]int.bevételek RM I'!AJ29 -> 5542 | AJ29: =SUM(AH29:AI29) -> 5542 | AK29: ='[3]int.bevételek RM I'!AM29 -> 2086397 | AL29: 12700 | AM29: =SUM(AK29:AL29) -> 2099097 | AN29: =N29+AA29+AH29+AK29 -> 2787659 | AO29: =O29+AB29+AI29+AL29 -> 15814 | AP29: =P29+AC29+AJ29+AM29 -> 2803473
A30: Oktatási intézmények összesen | B30: =B28+B29 -> 718914 | C30: =C28+C29 -> 3671 | D30: =D28+D29 -> 722585 | E30: =E28+E29 -> 2107 | F30: =F28+F29 -> 2030 | G30: =G28+G29 -> 4137 | H30: =H28+H29 -> 0 | I30: =I28+I29 -> 86 | ... P30: =P28+P29 -> 726808 | Q30: Oktatási intézmények összesen | R30: =R28+R29 -> 0 | S30: =S28+S29 -> 0 | T30: =T28+T29 -> 0 | U30: =U28+U29 -> 0 | V30: =V28+V29 -> 0 | W30: =W28+W29 -> 0 | X30: =X28+X29 -> 0 | Y30: =Y28+Y29 -> 0 | ... AC30: =AC28+AC29 -> 0 | AD30: =N30+AA30 -> 721021 | AE30: =O30+AB30 -> 5787 | AF30: =P30+AC30 -> 726808 | AG30: Oktatási intézmények összesen | AH30: =AH28+AH29 -> 38465 | AI30: =AI28+AI29 -> 0 | AJ30: =AJ28+AJ29 -> 38465 | AK30: =AK28+AK29 -> 6203221 | AL30: =AL28+AL29 -> 66965 | AM30: =AM28+AM29 -> 6270186 | AN30: =AN28+AN29 -> 6962707 | AO30: =AO28+AO29 -> 72752 | AP30: =AP28+AP29 -> 7035459
A31: Nem oktatási intézmények | Q31: Nem oktatási intézmények | AG31: Nem oktatási intézmények
A32: Kulturális intézmények | Q32: Kulturális intézmények | AG32: Kulturális intézmények
A33: Mesebolt Bábszínház | B33: ='[3]int.bevételek RM I'!D33 -> 38471 | D33: =SUM(B33:C33) -> 38471 | E33: ='[3]int.bevételek RM I'!G33 -> 88087 | G33: =SUM(E33:F33) -> 88087 | H33: ='[3]int.bevételek RM I'!J33 -> 0 | J33: =SUM(H33:I33) -> 0 | K33: ='[3]int.bevételek RM I'!M33 -> 0 | M33: =SUM(K33:L33) -> 0 | N33: =B33+E33+H33+K33 -> 126558 | O33: =C33+F33+I33+L33 -> 0 | P33: =D33+G33+J33+M33 -> 126558 | Q33: Mesebolt Bábszínház | R33: ='[3]int.bevételek RM I'!T33 -> 0 | T33: =SUM(R33:S33) -> 0 | U33: ='[3]int.bevételek RM I'!W33 -> 0 | W33: =SUM(U33:V33) -> 0 | X33: ='[3]int.bevételek RM I'!Z33 -> 0 | Z33: =SUM(X33:Y33) -> 0 | AA33: =R33+U33+X33 -> 0 | AB33: =S33+V33+Y33 -> 0 | AC33: =T33+W33+Z33 -> 0 | AD33: =N33+AA33 -> 126558 | AE33: =O33+AB33 -> 0 | AF33: =P33+AC33 -> 126558 | AG33: Mesebolt Bábszínház | AH33: ='[3]int.bevételek RM I'!AJ33 -> 53284 | AJ33: =SUM(AH33:AI33) -> 53284 | AK33: ='[3]int.bevételek RM I'!AM33 -> 125736 | AM33: =SUM(AK33:AL33) -> 125736 | AN33: =N33+AA33+AH33+AK33 -> 305578 | AO33: =O33+AB33+AI33+AL33 -> 0 | AP33: =P33+AC33+AJ33+AM33 -> 305578
A34: Savaria Szimfonikus Zenekar | B34: ='[3]int.bevételek RM I'!D34 -> 133344 | D34: =SUM(B34:C34) -> 133344 | E34: ='[3]int.bevételek RM I'!G34 -> 208152 | G34: =SUM(E34:F34) -> 208152 | H34: ='[3]int.bevételek RM I'!J34 -> 0 | J34: =SUM(H34:I34) -> 0 | K34: ='[3]int.bevételek RM I'!M34 -> 0 | M34: =SUM(K34:L34) -> 0 | N34: =B34+E34+H34+K34 -> 341496 | O34: =C34+F34+I34+L34 -> 0 | P34: =D34+G34+J34+M34 -> 341496 | Q34: Savaria Szimfonikus Zenekar | R34: ='[3]int.bevételek RM I'!T34 -> 0 | T34: =SUM(R34:S34) -> 0 | U34: ='[3]int.bevételek RM I'!W34 -> 12000 | W34: =SUM(U34:V34) -> 12000 | X34: ='[3]int.bevételek RM I'!Z34 -> 0 | Z34: =SUM(X34:Y34) -> 0 | AA34: =R34+U34+X34 -> 12000 | AB34: =S34+V34+Y34 -> 0 | AC34: =T34+W34+Z34 -> 12000 | AD34: =N34+AA34 -> 353496 | AE34: =O34+AB34 -> 0 | AF34: =P34+AC34 -> 353496 | AG34: Savaria Szimfonikus Zenekar | AH34: ='[3]int.bevételek RM I'!AJ34 -> 304325 | AJ34: =SUM(AH34:AI34) -> 304325 | AK34: ='[3]int.bevételek RM I'!AM34 -> 644378 | AL34: 426 | AM34: =SUM(AK34:AL34) -> 644804 | AN34: =N34+AA34+AH34+AK34 -> 1302199 | AO34: =O34+AB34+AI34+AL34 -> 426 | AP34: =P34+AC34+AJ34+AM34 -> 1302625
A35: Berzsenyi Dániel Könyvtár | B35: ='[3]int.bevételek RM I'!D35 -> 34400 | D35: =SUM(B35:C35) -> 34400 | E35: ='[3]int.bevételek RM I'!G35 -> 7000 | F35: 5675 | G35: =SUM(E35:F35) -> 12675 | H35: ='[3]int.bevételek RM I'!J35 -> 0 | J35: =SUM(H35:I35) -> 0 | K35: ='[3]int.bevételek RM I'!M35 -> 0 | M35: =SUM(K35:L35) -> 0 | N35: =B35+E35+H35+K35 -> 41400 | O35: =C35+F35+I35+L35 -> 5675 | P35: =D35+G35+J35+M35 -> 47075 | Q35: Berzsenyi Dániel Könyvtár | R35: ='[3]int.bevételek RM I'!T35 -> 0 | T35: =SUM(R35:S35) -> 0 | U35: ='[3]int.bevételek RM I'!W35 -> 0 | W35: =SUM(U35:V35) -> 0 | X35: ='[3]int.bevételek RM I'!Z35 -> 0 | Z35: =SUM(X35:Y35) -> 0 | AA35: =R35+U35+X35 -> 0 | AB35: =S35+V35+Y35 -> 0 | AC35: =T35+W35+Z35 -> 0 | AD35: =N35+AA35 -> 41400 | AE35: =O35+AB35 -> 5675 | AF35: =P35+AC35 -> 47075 | AG35: Berzsenyi Dániel Könyvtár | AH35: ='[3]int.bevételek RM I'!AJ35 -> 32419 | AJ35: =SUM(AH35:AI35) -> 32419 | AK35: ='[3]int.bevételek RM I'!AM35 -> 532286 | AM35: =SUM(AK35:AL35) -> 532286 | AN35: =N35+AA35+AH35+AK35 -> 606105 | AO35: =O35+AB35+AI35+AL35 -> 5675 | AP35: =P35+AC35+AJ35+AM35 -> 611780
A36: Savaria Múzeum | B36: ='[3]int.bevételek RM I'!D36 -> 154078 | D36: =SUM(B36:C36) -> 154078 | E36: ='[3]int.bevételek RM I'!G36 -> 52707 | F36: 24962 | G36: =SUM(E36:F36) -> 77669 | H36: ='[3]int.bevételek RM I'!J36 -> 0 | J36: =SUM(H36:I36) -> 0 | K36: ='[3]int.bevételek RM I'!M36 -> 0 | M36: =SUM(K36:L36) -> 0 | N36: =B36+E36+H36+K36 -> 206785 | O36: =C36+F36+I36+L36 -> 24962 | P36: =D36+G36+J36+M36 -> 231747 | Q36: Savaria Múzeum | R36: ='[3]int.bevételek RM I'!T36 -> 0 | T36: =SUM(R36:S36) -> 0 | U36: ='[3]int.bevételek RM I'!W36 -> 600 | W36: =SUM(U36:V36) -> 600 | X36: ='[3]int.bevételek RM I'!Z36 -> 0 | Z36: =SUM(X36:Y36) -> 0 | AA36: =R36+U36+X36 -> 600 | AB36: =S36+V36+Y36 -> 0 | AC36: =T36+W36+Z36 -> 600 | AD36: =N36+AA36 -> 207385 | AE36: =O36+AB36 -> 24962 | AF36: =P36+AC36 -> 232347 | AG36: Savaria Múzeum | AH36: ='[3]int.bevételek RM I'!AJ36 -> 71319 | AJ36: =SUM(AH36:AI36) -> 71319 | AK36: ='[3]int.bevételek RM I'!AM36 -> 808506 | AL36: 640 | AM36: =SUM(AK36:AL36) -> 809146 | AN36: =N36+AA36+AH36+AK36 -> 1087210 | AO36: =O36+AB36+AI36+AL36 -> 25602 | AP36: =P36+AC36+AJ36+AM36 -> 1112812
A37: Összesen | B37: =SUM(B33:B36) -> 360293 | C37: =SUM(C33:C36) -> 0 | D37: =SUM(D33:D36) -> 360293 | E37: =SUM(E33:E36) -> 355946 | F37: =SUM(F33:F36) -> 30637 | G37: =SUM(G33:G36) -> 386583 | H37: =SUM(H33:H36) -> 0 | I37: =SUM(I33:I36) -> 0 | ... P37: =SUM(P33:P36) -> 746876 | Q37: Összesen | R37: =SUM(R33:R36) -> 0 | S37: =SUM(S33:S36) -> 0 | T37: =SUM(T33:T36) -> 0 | U37: =SUM(U33:U36) -> 12600 | V37: =SUM(V33:V36) -> 0 | W37: =SUM(W33:W36) -> 12600 | X37: =SUM(X33:X36) -> 0 | Y37: =SUM(Y33:Y36) -> 0 | ... AC37: =SUM(AC33:AC36) -> 12600 | AD37: =N37+AA37 -> 728839 | AE37: =O37+AB37 -> 30637 | AF37: =P37+AC37 -> 759476 | AG37: Összesen | AH37: =SUM(AH33:AH36) -> 461347 | AI37: =SUM(AI33:AI36) -> 0 | AJ37: =SUM(AJ33:AJ36) -> 461347 | AK37: =SUM(AK33:AK36) -> 2110906 | AL37: =SUM(AL33:AL36) -> 1066 | AM37: =SUM(AM33:AM36) -> 2111972 | AN37: =SUM(AN33:AN36) -> 3301092 | AO37: =SUM(AO33:AO36) -> 31703 | AP37: =SUM(AP33:AP36) -> 3332795
A38: Szociális intézmény | Q38: Szociális intézmény | AG38: Szociális intézmény
A39: Pálos Károly Szociális Szolgáltató Központ és Gyermekjóléti Szolgálat | B39: ='[3]int.bevételek RM I'!D39 -> 254185 | C39: 26045 | D39: =SUM(B39:C39) -> 280230 | E39: ='[3]int.bevételek RM I'!G39 -> 0 | F39: 6561 | G39: =SUM(E39:F39) -> 6561 | H39: ='[3]int.bevételek RM I'!J39 -> 0 | I39: 430 | J39: =SUM(H39:I39) -> 430 | K39: ='[3]int.bevételek RM I'!M39 -> 0 | M39: =SUM(K39:L39) -> 0 | N39: =B39+E39+H39+K39 -> 254185 | O39: =C39+F39+I39+L39 -> 33036 | P39: =D39+G39+J39+M39 -> 287221 | Q39: Pálos Károly Szociális Szolgáltató Központ és Gyermekjóléti Szolgálat | R39: ='[3]int.bevételek RM I'!T39 -> 0 | T39: =SUM(R39:S39) -> 0 | U39: ='[3]int.bevételek RM I'!W39 -> 0 | W39: =SUM(U39:V39) -> 0 | X39: ='[3]int.bevételek RM I'!Z39 -> 0 | Z39: =SUM(X39:Y39) -> 0 | AA39: =R39+U39+X39 -> 0 | AB39: =S39+V39+Y39 -> 0 | AC39: =T39+W39+Z39 -> 0 | AD39: =N39+AA39 -> 254185 | AE39: =O39+AB39 -> 33036 | AF39: =P39+AC39 -> 287221 | AG39: Pálos Károly Szociális Szolgáltató Központ és Gyermekjóléti Szolgálat | AH39: ='[3]int.bevételek RM I'!AJ39 -> 2784 | AJ39: =SUM(AH39:AI39) -> 2784 | AK39: ='[3]int.bevételek RM I'!AM39 -> 1754503 | AL39: 110677 | AM39: =SUM(AK39:AL39) -> 1865180 | AN39: =N39+AA39+AH39+AK39 -> 2011472 | AO39: =O39+AB39+AI39+AL39 -> 143713 | AP39: =P39+AC39+AJ39+AM39 -> 2155185
A40: Egészségügyi intézmény | Q40: Egészségügyi intézmény | AG40: Egészségügyi intézmény | AK40: ='[3]int.bevételek RM I'!AM40 -> 0
A41: Szombathelyi Egészségügyi és Kulturális GESZ | B41: ='[3]int.bevételek RM I'!D41 -> 70816 | D41: =SUM(B41:C41) -> 70816 | E41: ='[3]int.bevételek RM I'!G41 -> 532064 | G41: =SUM(E41:F41) -> 532064 | H41: ='[3]int.bevételek RM I'!J41 -> 0 | J41: =SUM(H41:I41) -> 0 | K41: ='[3]int.bevételek RM I'!M41 -> 0 | M41: =SUM(K41:L41) -> 0 | N41: =B41+E41+H41+K41 -> 602880 | O41: =C41+F41+I41+L41 -> 0 | P41: =D41+G41+J41+M41 -> 602880 | Q41: Szombathelyi Egészségügyi és Kulturális GESZ | R41: ='[3]int.bevételek RM I'!T41 -> 0 | T41: =SUM(R41:S41) -> 0 | U41: ='[3]int.bevételek RM I'!W41 -> 0 | W41: =SUM(U41:V41) -> 0 | X41: ='[3]int.bevételek RM I'!Z41 -> 0 | AA41: =R41+U41+X41 -> 0 | AB41: =S41+V41+Y41 -> 0 | AC41: =T41+W41+Z41 -> 0 | AD41: =N41+AA41 -> 602880 | AE41: =O41+AB41 -> 0 | AF41: =P41+AC41 -> 602880 | AG41: Szombathelyi Egészségügyi és Kulturális GESZ | AH41: ='[3]int.bevételek RM I'!AJ41 -> 154463 | AJ41: =SUM(AH41:AI41) -> 154463 | AK41: ='[3]int.bevételek RM I'!AM41 -> 401909 | AL41: 2553 | AM41: =SUM(AK41:AL41) -> 404462 | AN41: =N41+AA41+AH41+AK41 -> 1159252 | AO41: =O41+AB41+AI41+AL41 -> 2553 | AP41: =P41+AC41+AJ41+AM41 -> 1161805
A42: Gyermekvédelmi intézmény | Q42: Gyermekvédelmi intézmény | AG42: Gyermekvédelmi intézmény | AK42: ='[3]int.bevételek RM I'!AM42 -> 0
...

Sheet 5 normatíva
A1: Szombathely Megyei Jogú Város Önkormányzata általános működésének és ágazati feladatainak támogatása
A2: és a helyi önkormányzatok kiegészítő támogatásai
F3: ezer Forinban
A4: Önkormányzat általános működésének és ágazati feladatainak támogatása (Költségvetési törvény 2. melléklet) | B4: 2025. év teljesítés | C4: 2026. év eredeti előirányzat | D4: 2026. év I. sz. módosított előirányzat | E4: javasolt módosítás | F4: 2026. év II. sz. módosított előirányzat
A5: 1.1. TELEPÜLÉSI ÖNKORMÁNYZATOK MŰKÖDÉSÉNEK ÁLTALÁNOS TÁMOGATÁSA
A6: 1.1.1. Önkormányzati hivatal működésének támogatása | B6: 1118971 | C6: 1191814 | D6: 1191814 | F6: =SUM(D6:E6) -> 1191814
A7: 1.1.2. Településüzemeltetés - zöldterület gazdálkodás támogatása | B7: 83153 | C7: 83156 | D7: 83156 | F7: =SUM(D7:E7) -> 83156
A8: 1.1.3. Településüzemeltetés - közvilágítás támogatása | B8: 218067 | C8: 203786 | D8: 203786 | F8: =SUM(D8:E8) -> 203786
A9: 1.1.4. Településüzemeltetés - köztemető támogatása | B9: 100 | C9: 30744 | D9: 30744 | F9: =SUM(D9:E9) -> 30744
A10: 1.1.5. Településüzemeltetés - közutak támogatása | B10: 131036 | C10: 131036 | D10: 131036 | F10: =SUM(D10:E10) -> 131036
A11: 1.1.6. Egyéb önkormányzati feladatok támogatása | B11: 207617 | C11: 206662 | D11: 206662 | F11: =SUM(D11:E11) -> 206662
A12: 1.1.7. Lakott külterülettel kapcsolatos feladatok támogatása | B12: 224 | C12: 230 | D12: 230 | F12: =SUM(D12:E12) -> 230
A13: 1.1.8. Nem közművel összegyűjtött háztartási szennyvíz ártalmatlanítása | B13: 676 | C13: 675 | D13: 675 | F13: =SUM(D13:E13) -> 675
A14: A HELYI ÖNKORMÁNYZATOK MŰKÖDÉSÉNEK ÁLTALÁNOS TÁMOGATÁSA ÖSSZESEN | B14: =SUM(B5:B13) -> 1759844 | C14: =SUM(C5:C13) -> 1848103 | D14: =SUM(D5:D13) -> 1848103 | E14: =SUM(E5:E13) -> 0 | F14: =SUM(F5:F13) -> 1848103
A15: 1.2. A TELEPÜLÉSI ÖNKORMÁNYZATOK EGYES KÖZNEVELÉSI FELADATAINAK TÁMOGATÁSA
A16: 1.2.1. Óvodaműködtetési támogatás
A17: 1.2.1.1. Óvoda működtetési támogatás - Óvoda napi nyitvatartási ideje eléri a 8 órát | B17: 372845 | C17: 370380 | D17: 370380 | E17: ='[4]2026.májusi-mutatószám '!E17+'[4]2026.májusi fajlagosem-ped.bér'!E17 -> 1896 | F17: =SUM(D17:E17) -> 372276
A18: 1.2.2. Az óvodában foglalkoztatott pedagógusok átlagbéralapú támogatása
A19: 1.2.2.1 Pedagógusok átlagbéralapú támogatása | B19: 2057637 | C19: 2292000 | D19: 2326440 | E19: ='[4]2026.májusi-mutatószám '!E19+'[4]2026.májusi fajlagosem-ped.bér'!E19 -> 21800 | F19: =SUM(D19:E19) -> 2348240
A20: 1.2.3. Kiegészítő támogatás a pedagógusok és a pedagógus szakképzettséggel rendelkező segítők minosítésébol adódó többletkiadásaihoz
A21: 1.2.3.1. Napi 8 órát elérő nyitvatartási idővel rendelkező óvodában foglalkoztatott
A22: 1.2.3.1.1.Alapfokozatú végzettségű
A23: 1.2.3.1.1.1. Pedagógus II.kategóriába sorolt pedagógusok , ped.szakképzettséggel rendelkező segítők kiegészítő támogatása | B23: 51619 | C23: 55448 | D23: 55448 | E23: ='[4]2026.májusi-mutatószám '!E23+'[4]2026.májusi fajlagosem-ped.bér'!E23 -> 1804 | F23: =SUM(D23:E23) -> 57252
A24: ebből - óvodák | B24: 49707 | C24: 52580 | D24: 52580 | E24: ='[4]2026.májusi-mutatószám '!E24+'[4]2026.májusi fajlagosem-ped.bér'!E24 -> 1412 | F24: =SUM(D24:E24) -> 53992
A25: - Egyesített Bölcsődei Intézmény | B25: 1912 | C25: 2868 | D25: 2868 | E25: ='[4]2026.májusi-mutatószám '!E25+'[4]2026.májusi fajlagosem-ped.bér'!E25 -> 392 | F25: =SUM(D25:E25) -> 3260
A26: 1.2.3.1.1.2. Mesterpedagógus, kutatótanár kategóriába sorolt pedagógusok kiegészítő támogatása | B26: 51856 | C26: 57040 | D26: 57040 | E26: ='[4]2026.májusi-mutatószám '!E26+'[4]2026.májusi fajlagosem-ped.bér'!E26 -> -4086 | F26: =SUM(D26:E26) -> 52954
A27: 1.2.3.1.2. Mesterfokú végzettségű
A28: 1.2.3.1.2.1. Pedagógus II.kategóriába sorolt pedagógusok , ped.szakképzettséggel rendelkező segítők kiegészítő támogatása | B28: 3141 | C28: 3456 | D28: 3456 | E28: ='[4]2026.májusi-mutatószám '!E28+'[4]2026.májusi fajlagosem-ped.bér'!E28 -> 12 | F28: =SUM(D28:E28) -> 3468
A29: ebből - óvodák | B29: 1047 | C29: 1152 | D29: 1152 | E29: ='[4]2026.májusi-mutatószám '!E29+'[4]2026.májusi fajlagosem-ped.bér'!E29 -> 4 | F29: =SUM(D29:E29) -> 1156
